BEGIN:VCALENDAR
VERSION:2.0
PRODID:-//Texoma Connect - ECPv6.15.20//NONSGML v1.0//EN
CALSCALE:GREGORIAN
METHOD:PUBLISH
X-ORIGINAL-URL:https://texomaconnect.com
X-WR-CALDESC:Events for Texoma Connect
REFRESH-INTERVAL;VALUE=DURATION:PT1H
X-Robots-Tag:noindex
X-PUBLISHED-TTL:PT1H
BEGIN:VTIMEZONE
TZID:America/Chicago
BEGIN:DAYLIGHT
TZOFFSETFROM:-0600
TZOFFSETTO:-0500
TZNAME:CDT
DTSTART:20250309T080000
END:DAYLIGHT
BEGIN:STANDARD
TZOFFSETFROM:-0500
TZOFFSETTO:-0600
TZNAME:CST
DTSTART:20251102T070000
END:STANDARD
BEGIN:DAYLIGHT
TZOFFSETFROM:-0600
TZOFFSETTO:-0500
TZNAME:CDT
DTSTART:20260308T080000
END:DAYLIGHT
BEGIN:STANDARD
TZOFFSETFROM:-0500
TZOFFSETTO:-0600
TZNAME:CST
DTSTART:20261101T070000
END:STANDARD
BEGIN:DAYLIGHT
TZOFFSETFROM:-0600
TZOFFSETTO:-0500
TZNAME:CDT
DTSTART:20270314T080000
END:DAYLIGHT
BEGIN:STANDARD
TZOFFSETFROM:-0500
TZOFFSETTO:-0600
TZNAME:CST
DTSTART:20271107T070000
END:STANDARD
END:VTIMEZONE
BEGIN:VEVENT
DTSTART;TZID=America/Chicago:20260423T100000
DTEND;TZID=America/Chicago:20260423T103000
DTSTAMP:20260421T071933
CREATED:20260314T195246Z
LAST-MODIFIED:20260314T195246Z
UID:10010699-1776938400-1776940200@texomaconnect.com
SUMMARY:Little Lambs
DESCRIPTION:Little Lambs for babies at the Denison Public Library\nJoin us in the library for our program designed for babies 0-2 years old and their parent/ caregiver. The program will begin March 23rd & 26th and end April 27th & 30th.
URL:https://texomaconnect.com/event/little-lambs-2/2026-04-23/
LOCATION:Denison Public Library\, 300 West Gandy Street\, Denison\, TX\, 75020\, United States
CATEGORIES:Youth Activities
ATTACH;FMTTYPE=image/png:https://texomaconnect.com/wp-content/uploads/2025/02/Little-Lambs.png
GEO:33.757153;-96.538799
X-APPLE-STRUCTURED-LOCATION;VALUE=URI;X-ADDRESS=Denison Public Library 300 West Gandy Street Denison TX 75020 United States;X-APPLE-RADIUS=500;X-TITLE=300 West Gandy Street:geo:-96.538799,33.757153
END:VEVENT
BEGIN:VEVENT
DTSTART;TZID=America/Chicago:20260423T100000
DTEND;TZID=America/Chicago:20260423T103000
DTSTAMP:20260421T071933
CREATED:20260314T200359Z
LAST-MODIFIED:20260314T200359Z
UID:10010727-1776938400-1776940200@texomaconnect.com
SUMMARY:Little Lambs
DESCRIPTION:Little Lambs at Denison Public Library\nJoin us in the library for our program designed for babies 0-2 years old and their parent/ caregiver. The program will begin March 23rd & 26th and end April 27th & 30th.
URL:https://texomaconnect.com/event/little-lambs-3/2026-04-23/
LOCATION:Denison Public Library\, 300 West Gandy Street\, Denison\, TX\, 75020\, United States
CATEGORIES:Youth Activities
ATTACH;FMTTYPE=image/png:https://texomaconnect.com/wp-content/uploads/2026/03/Little-Lambs-March-April-2026.png
GEO:33.757153;-96.538799
X-APPLE-STRUCTURED-LOCATION;VALUE=URI;X-ADDRESS=Denison Public Library 300 West Gandy Street Denison TX 75020 United States;X-APPLE-RADIUS=500;X-TITLE=300 West Gandy Street:geo:-96.538799,33.757153
END:VEVENT
BEGIN:VEVENT
DTSTART;TZID=America/Chicago:20260423T103000
DTEND;TZID=America/Chicago:20260423T120000
DTSTAMP:20260421T071933
CREATED:20260314T202808Z
LAST-MODIFIED:20260314T202808Z
UID:10010751-1776940200-1776945600@texomaconnect.com
SUMMARY:Joyful Noise
DESCRIPTION:Joyful Noise at Denison Public Library\nJoin us in the library for our program designed for children 3-5 years old and their parent/ caregiver. The program will begin March 23rd & 26th and end April 20th & 23rd.
URL:https://texomaconnect.com/event/joyful-noise/2026-04-23/
LOCATION:Denison Public Library\, 300 West Gandy Street\, Denison\, TX\, 75020\, United States
CATEGORIES:Youth Activities
ATTACH;FMTTYPE=image/png:https://texomaconnect.com/wp-content/uploads/2026/03/Joyful-Noise-March-April-2026.png
GEO:33.757153;-96.538799
X-APPLE-STRUCTURED-LOCATION;VALUE=URI;X-ADDRESS=Denison Public Library 300 West Gandy Street Denison TX 75020 United States;X-APPLE-RADIUS=500;X-TITLE=300 West Gandy Street:geo:-96.538799,33.757153
END:VEVENT
BEGIN:VEVENT
DTSTART;TZID=America/Chicago:20260423T104500
DTEND;TZID=America/Chicago:20260423T111500
DTSTAMP:20260421T071933
CREATED:20260314T201620Z
LAST-MODIFIED:20260314T201620Z
UID:10010739-1776941100-1776942900@texomaconnect.com
SUMMARY:Wonder Years
DESCRIPTION:Wonder Years at the Denison Public Library\nJoin us in the library for our program designed for children 2-5 years old and their parent/ caregiver. The program will begin March 23rd & 26th and end April 27th & 30th.
URL:https://texomaconnect.com/event/wonder-years/2026-04-23/
LOCATION:Denison Public Library\, 300 West Gandy Street\, Denison\, TX\, 75020\, United States
CATEGORIES:Youth Activities
ATTACH;FMTTYPE=image/png:https://texomaconnect.com/wp-content/uploads/2026/03/Wonder-Years-March-April-2026.png
GEO:33.757153;-96.538799
X-APPLE-STRUCTURED-LOCATION;VALUE=URI;X-ADDRESS=Denison Public Library 300 West Gandy Street Denison TX 75020 United States;X-APPLE-RADIUS=500;X-TITLE=300 West Gandy Street:geo:-96.538799,33.757153
END:VEVENT
BEGIN:VEVENT
DTSTART;TZID=America/Chicago:20260424T140000
DTEND;TZID=America/Chicago:20260424T140000
DTSTAMP:20260421T071933
CREATED:20260218T180748Z
LAST-MODIFIED:20260218T180748Z
UID:10010795-1777039200-1777039200@texomaconnect.com
SUMMARY:Once Upon a Pandora's Box
DESCRIPTION:Sherman Community Players presents Once Upon Pandora’s Box\nOnce upon a time in New York City\, Tabitha and her brother Louis discover a box sitting in the hall of their apartment. Curious\, Tabitha opens the box\, allowing five imprisoned fairy tale villains to escape. Free at last\, the dastardly villains begin to wreck the apartment\, but when they discover that writing in Tabitha’s notebook will give them control of other fictional characters\, things really get dicey. Will Tabitha harness the power of her storytelling? Or will the fairy tale villains run wild in New York? A clever comedy that demonstrates the importance of villains in every story. \nTickets\n 
URL:https://texomaconnect.com/event/once-upon-a-pandoras-box/2026-04-24/
LOCATION:Finley Theatre\, 500 N Elm Street\, Sherman\, TX\, 75090\, United States
CATEGORIES:Entertainment,Theatre
ATTACH;FMTTYPE=image/png:https://texomaconnect.com/wp-content/uploads/2026/02/Once-Upon-A-Pandoras-Box.png
GEO:33.6396661;-96.6133405
X-APPLE-STRUCTURED-LOCATION;VALUE=URI;X-ADDRESS=Finley Theatre 500 N Elm Street Sherman TX 75090 United States;X-APPLE-RADIUS=500;X-TITLE=500 N Elm Street:geo:-96.6133405,33.6396661
END:VEVENT
BEGIN:VEVENT
DTSTART;TZID=America/Chicago:20260424T180000
DTEND;TZID=America/Chicago:20260424T180000
DTSTAMP:20260421T071933
CREATED:20260109T224308Z
LAST-MODIFIED:20260112T162715Z
UID:10009589-1777053600-1777053600@texomaconnect.com
SUMMARY:Bandits\, Bluegrass\, and BBQ 2026
DESCRIPTION:Bandits\, Bluegrass\, and BBQ 2026 Denison TX\nJoin us for the annual Bandits\, Bluegrass\, and BBQ festival on Friday\, April 24th from 6-9PM at The George Tavern! \n\n\n\nEnjoy live bluegrass bands\, BBQ sales\, and meet and greets with old west reenactors. The event is a fundraiser for the Boys and Girls Club of Denison\, come show your support! \n\n\n\nEnjoy Bandits\, Bluegrass\, and BBQ and get in the old west spirit before the Doc Holliday: Saints and Sinners Festival on Saturday in downtown Denison! For more information about the Doc Holliday Festival\, visit: https://www.facebook.com/DocInDenisonTX
URL:https://texomaconnect.com/event/bandits-bluegrass-and-bbq-2026/
LOCATION:The George Tavern\, 101 E Main St\, Suite 135\, Denison\, TX\, 75020\, United States
CATEGORIES:Entertainment,Festival,Live Music
ATTACH;FMTTYPE=image/png:https://texomaconnect.com/wp-content/uploads/2025/02/Bandits-Bluegrass-and-BBQ.png
GEO:33.7562115;-96.5343073
X-APPLE-STRUCTURED-LOCATION;VALUE=URI;X-ADDRESS=The George Tavern 101 E Main St Suite 135 Denison TX 75020 United States;X-APPLE-RADIUS=500;X-TITLE=101 E Main St\, Suite 135:geo:-96.5343073,33.7562115
END:VEVENT
BEGIN:VEVENT
DTSTART;TZID=America/Chicago:20260425T080000
DTEND;TZID=America/Chicago:20260425T170000
DTSTAMP:20260421T071933
CREATED:20260109T223050Z
LAST-MODIFIED:20260109T223349Z
UID:10009588-1777104000-1777136400@texomaconnect.com
SUMMARY:Doc Holliday Saints & Sinners Festival 2026
DESCRIPTION:Doc Holliday Saints & Sinners Festival celebrating America’s 250th Birthday\nDoc Holliday Saints & Sinners festival returns! Join as we celebrate the boomtown of Denison in the 1870-80’s with authentic old west reenactors from the past when Doc Holliday had an office in Downtown Denison! Events will include authors\, historians\, wild west photo ops\, wagon rides\, kids activities\, petting zoo\, gunfights\, a costume contests\, food\, live music\, and much more. Don’t miss out on this fun-filled day. \n\n\n\nThis event is hosted by Downtown Denison TX
URL:https://texomaconnect.com/event/doc-holliday-saints-sinners-festival-2026/
LOCATION:Downtown Denison\, Main Street\, Denison\, TX\, 75020\, United States
CATEGORIES:Festival
ATTACH;FMTTYPE=image/png:https://texomaconnect.com/wp-content/uploads/2026/01/Doc-Holliday-Saints-Sinners-Festival.png
GEO:33.755586;-96.537255
X-APPLE-STRUCTURED-LOCATION;VALUE=URI;X-ADDRESS=Downtown Denison Main Street Denison TX 75020 United States;X-APPLE-RADIUS=500;X-TITLE=Main Street:geo:-96.537255,33.755586
END:VEVENT
BEGIN:VEVENT
DTSTART;TZID=America/Chicago:20260425T140000
DTEND;TZID=America/Chicago:20260425T140000
DTSTAMP:20260421T071933
CREATED:20260218T180748Z
LAST-MODIFIED:20260218T180748Z
UID:10010796-1777125600-1777125600@texomaconnect.com
SUMMARY:Once Upon a Pandora's Box
DESCRIPTION:Sherman Community Players presents Once Upon Pandora’s Box\nOnce upon a time in New York City\, Tabitha and her brother Louis discover a box sitting in the hall of their apartment. Curious\, Tabitha opens the box\, allowing five imprisoned fairy tale villains to escape. Free at last\, the dastardly villains begin to wreck the apartment\, but when they discover that writing in Tabitha’s notebook will give them control of other fictional characters\, things really get dicey. Will Tabitha harness the power of her storytelling? Or will the fairy tale villains run wild in New York? A clever comedy that demonstrates the importance of villains in every story. \nTickets\n 
URL:https://texomaconnect.com/event/once-upon-a-pandoras-box/2026-04-25/
LOCATION:Finley Theatre\, 500 N Elm Street\, Sherman\, TX\, 75090\, United States
CATEGORIES:Entertainment,Theatre
ATTACH;FMTTYPE=image/png:https://texomaconnect.com/wp-content/uploads/2026/02/Once-Upon-A-Pandoras-Box.png
GEO:33.6396661;-96.6133405
X-APPLE-STRUCTURED-LOCATION;VALUE=URI;X-ADDRESS=Finley Theatre 500 N Elm Street Sherman TX 75090 United States;X-APPLE-RADIUS=500;X-TITLE=500 N Elm Street:geo:-96.6133405,33.6396661
END:VEVENT
BEGIN:VEVENT
DTSTART;TZID=America/Chicago:20260427T080000
DTEND;TZID=America/Chicago:20260427T080000
DTSTAMP:20260421T071933
CREATED:20260314T165703Z
LAST-MODIFIED:20260314T165703Z
UID:10010669-1777276800-1777276800@texomaconnect.com
SUMMARY:2026 Red River Throwdown
DESCRIPTION:LTA 2026 Red River Throwdown at Chickasaw Pointe Golf Course\nRegistration 8:00 am \nBreakfast 8:00 am \nShotgun Start 9:00 am \nLunch available at Turn \nTeam of 4:  $500 \nPrizes for Top of Each Flight
URL:https://texomaconnect.com/event/2026-red-river-throwdown/
LOCATION:Chickasaw Pointe Golf Club\, 12428 Chickasaw Point Rd\, Kingston\, OK\, 73439\, United States
CATEGORIES:Lake Texoma event,Sports and Recreation
ATTACH;FMTTYPE=image/png:https://texomaconnect.com/wp-content/uploads/2026/03/Red-River-Throwdown-2026.png
ORGANIZER;CN="Lake Texoma Association":MAILTO:ltainformation@sbcglobal.com
GEO:34.005;-96.645183
X-APPLE-STRUCTURED-LOCATION;VALUE=URI;X-ADDRESS=Chickasaw Pointe Golf Club 12428 Chickasaw Point Rd Kingston OK 73439 United States;X-APPLE-RADIUS=500;X-TITLE=12428 Chickasaw Point Rd:geo:-96.645183,34.005
END:VEVENT
BEGIN:VEVENT
DTSTART;TZID=America/Chicago:20260427T100000
DTEND;TZID=America/Chicago:20260427T103000
DTSTAMP:20260421T071933
CREATED:20260314T195246Z
LAST-MODIFIED:20260314T195246Z
UID:10010700-1777284000-1777285800@texomaconnect.com
SUMMARY:Little Lambs
DESCRIPTION:Little Lambs for babies at the Denison Public Library\nJoin us in the library for our program designed for babies 0-2 years old and their parent/ caregiver. The program will begin March 23rd & 26th and end April 27th & 30th.
URL:https://texomaconnect.com/event/little-lambs-2/2026-04-27/
LOCATION:Denison Public Library\, 300 West Gandy Street\, Denison\, TX\, 75020\, United States
CATEGORIES:Youth Activities
ATTACH;FMTTYPE=image/png:https://texomaconnect.com/wp-content/uploads/2025/02/Little-Lambs.png
GEO:33.757153;-96.538799
X-APPLE-STRUCTURED-LOCATION;VALUE=URI;X-ADDRESS=Denison Public Library 300 West Gandy Street Denison TX 75020 United States;X-APPLE-RADIUS=500;X-TITLE=300 West Gandy Street:geo:-96.538799,33.757153
END:VEVENT
BEGIN:VEVENT
DTSTART;TZID=America/Chicago:20260427T100000
DTEND;TZID=America/Chicago:20260427T103000
DTSTAMP:20260421T071933
CREATED:20260314T200359Z
LAST-MODIFIED:20260314T200359Z
UID:10010728-1777284000-1777285800@texomaconnect.com
SUMMARY:Little Lambs
DESCRIPTION:Little Lambs at Denison Public Library\nJoin us in the library for our program designed for babies 0-2 years old and their parent/ caregiver. The program will begin March 23rd & 26th and end April 27th & 30th.
URL:https://texomaconnect.com/event/little-lambs-3/2026-04-27/
LOCATION:Denison Public Library\, 300 West Gandy Street\, Denison\, TX\, 75020\, United States
CATEGORIES:Youth Activities
ATTACH;FMTTYPE=image/png:https://texomaconnect.com/wp-content/uploads/2026/03/Little-Lambs-March-April-2026.png
GEO:33.757153;-96.538799
X-APPLE-STRUCTURED-LOCATION;VALUE=URI;X-ADDRESS=Denison Public Library 300 West Gandy Street Denison TX 75020 United States;X-APPLE-RADIUS=500;X-TITLE=300 West Gandy Street:geo:-96.538799,33.757153
END:VEVENT
BEGIN:VEVENT
DTSTART;TZID=America/Chicago:20260427T104500
DTEND;TZID=America/Chicago:20260427T111500
DTSTAMP:20260421T071933
CREATED:20260314T201620Z
LAST-MODIFIED:20260314T201620Z
UID:10010740-1777286700-1777288500@texomaconnect.com
SUMMARY:Wonder Years
DESCRIPTION:Wonder Years at the Denison Public Library\nJoin us in the library for our program designed for children 2-5 years old and their parent/ caregiver. The program will begin March 23rd & 26th and end April 27th & 30th.
URL:https://texomaconnect.com/event/wonder-years/2026-04-27/
LOCATION:Denison Public Library\, 300 West Gandy Street\, Denison\, TX\, 75020\, United States
CATEGORIES:Youth Activities
ATTACH;FMTTYPE=image/png:https://texomaconnect.com/wp-content/uploads/2026/03/Wonder-Years-March-April-2026.png
GEO:33.757153;-96.538799
X-APPLE-STRUCTURED-LOCATION;VALUE=URI;X-ADDRESS=Denison Public Library 300 West Gandy Street Denison TX 75020 United States;X-APPLE-RADIUS=500;X-TITLE=300 West Gandy Street:geo:-96.538799,33.757153
END:VEVENT
BEGIN:VEVENT
DTSTART;TZID=America/Chicago:20260430T100000
DTEND;TZID=America/Chicago:20260430T103000
DTSTAMP:20260421T071933
CREATED:20260314T195246Z
LAST-MODIFIED:20260314T195246Z
UID:10010701-1777543200-1777545000@texomaconnect.com
SUMMARY:Little Lambs
DESCRIPTION:Little Lambs for babies at the Denison Public Library\nJoin us in the library for our program designed for babies 0-2 years old and their parent/ caregiver. The program will begin March 23rd & 26th and end April 27th & 30th.
URL:https://texomaconnect.com/event/little-lambs-2/2026-04-30/
LOCATION:Denison Public Library\, 300 West Gandy Street\, Denison\, TX\, 75020\, United States
CATEGORIES:Youth Activities
ATTACH;FMTTYPE=image/png:https://texomaconnect.com/wp-content/uploads/2025/02/Little-Lambs.png
GEO:33.757153;-96.538799
X-APPLE-STRUCTURED-LOCATION;VALUE=URI;X-ADDRESS=Denison Public Library 300 West Gandy Street Denison TX 75020 United States;X-APPLE-RADIUS=500;X-TITLE=300 West Gandy Street:geo:-96.538799,33.757153
END:VEVENT
BEGIN:VEVENT
DTSTART;TZID=America/Chicago:20260430T100000
DTEND;TZID=America/Chicago:20260430T103000
DTSTAMP:20260421T071933
CREATED:20260314T200359Z
LAST-MODIFIED:20260314T200359Z
UID:10010729-1777543200-1777545000@texomaconnect.com
SUMMARY:Little Lambs
DESCRIPTION:Little Lambs at Denison Public Library\nJoin us in the library for our program designed for babies 0-2 years old and their parent/ caregiver. The program will begin March 23rd & 26th and end April 27th & 30th.
URL:https://texomaconnect.com/event/little-lambs-3/2026-04-30/
LOCATION:Denison Public Library\, 300 West Gandy Street\, Denison\, TX\, 75020\, United States
CATEGORIES:Youth Activities
ATTACH;FMTTYPE=image/png:https://texomaconnect.com/wp-content/uploads/2026/03/Little-Lambs-March-April-2026.png
GEO:33.757153;-96.538799
X-APPLE-STRUCTURED-LOCATION;VALUE=URI;X-ADDRESS=Denison Public Library 300 West Gandy Street Denison TX 75020 United States;X-APPLE-RADIUS=500;X-TITLE=300 West Gandy Street:geo:-96.538799,33.757153
END:VEVENT
BEGIN:VEVENT
DTSTART;TZID=America/Chicago:20260430T104500
DTEND;TZID=America/Chicago:20260430T111500
DTSTAMP:20260421T071933
CREATED:20260314T201620Z
LAST-MODIFIED:20260314T201620Z
UID:10010741-1777545900-1777547700@texomaconnect.com
SUMMARY:Wonder Years
DESCRIPTION:Wonder Years at the Denison Public Library\nJoin us in the library for our program designed for children 2-5 years old and their parent/ caregiver. The program will begin March 23rd & 26th and end April 27th & 30th.
URL:https://texomaconnect.com/event/wonder-years/2026-04-30/
LOCATION:Denison Public Library\, 300 West Gandy Street\, Denison\, TX\, 75020\, United States
CATEGORIES:Youth Activities
ATTACH;FMTTYPE=image/png:https://texomaconnect.com/wp-content/uploads/2026/03/Wonder-Years-March-April-2026.png
GEO:33.757153;-96.538799
X-APPLE-STRUCTURED-LOCATION;VALUE=URI;X-ADDRESS=Denison Public Library 300 West Gandy Street Denison TX 75020 United States;X-APPLE-RADIUS=500;X-TITLE=300 West Gandy Street:geo:-96.538799,33.757153
END:VEVENT
END:VCALENDAR