BEGIN:VCALENDAR
VERSION:2.0
PRODID:-//Texoma Connect - ECPv6.15.20//NONSGML v1.0//EN
CALSCALE:GREGORIAN
METHOD:PUBLISH
X-WR-CALNAME:Texoma Connect
X-ORIGINAL-URL:https://texomaconnect.com
X-WR-CALDESC:Events for Texoma Connect
REFRESH-INTERVAL;VALUE=DURATION:PT1H
X-Robots-Tag:noindex
X-PUBLISHED-TTL:PT1H
BEGIN:VTIMEZONE
TZID:America/Chicago
BEGIN:DAYLIGHT
TZOFFSETFROM:-0600
TZOFFSETTO:-0500
TZNAME:CDT
DTSTART:20250309T080000
END:DAYLIGHT
BEGIN:STANDARD
TZOFFSETFROM:-0500
TZOFFSETTO:-0600
TZNAME:CST
DTSTART:20251102T070000
END:STANDARD
BEGIN:DAYLIGHT
TZOFFSETFROM:-0600
TZOFFSETTO:-0500
TZNAME:CDT
DTSTART:20260308T080000
END:DAYLIGHT
BEGIN:STANDARD
TZOFFSETFROM:-0500
TZOFFSETTO:-0600
TZNAME:CST
DTSTART:20261101T070000
END:STANDARD
BEGIN:DAYLIGHT
TZOFFSETFROM:-0600
TZOFFSETTO:-0500
TZNAME:CDT
DTSTART:20270314T080000
END:DAYLIGHT
BEGIN:STANDARD
TZOFFSETFROM:-0500
TZOFFSETTO:-0600
TZNAME:CST
DTSTART:20271107T070000
END:STANDARD
END:VTIMEZONE
BEGIN:VEVENT
DTSTART;TZID=America/Chicago:20260327T140000
DTEND;TZID=America/Chicago:20260327T140000
DTSTAMP:20260421T085529
CREATED:20260218T180748Z
LAST-MODIFIED:20260218T180748Z
UID:10010787-1774620000-1774620000@texomaconnect.com
SUMMARY:Once Upon a Pandora's Box
DESCRIPTION:Sherman Community Players presents Once Upon Pandora’s Box\nOnce upon a time in New York City\, Tabitha and her brother Louis discover a box sitting in the hall of their apartment. Curious\, Tabitha opens the box\, allowing five imprisoned fairy tale villains to escape. Free at last\, the dastardly villains begin to wreck the apartment\, but when they discover that writing in Tabitha’s notebook will give them control of other fictional characters\, things really get dicey. Will Tabitha harness the power of her storytelling? Or will the fairy tale villains run wild in New York? A clever comedy that demonstrates the importance of villains in every story. \nTickets\n 
URL:https://texomaconnect.com/event/once-upon-a-pandoras-box/2026-03-27/
LOCATION:Finley Theatre\, 500 N Elm Street\, Sherman\, TX\, 75090\, United States
CATEGORIES:Entertainment,Theatre
ATTACH;FMTTYPE=image/png:https://texomaconnect.com/wp-content/uploads/2026/02/Once-Upon-A-Pandoras-Box.png
GEO:33.6396661;-96.6133405
X-APPLE-STRUCTURED-LOCATION;VALUE=URI;X-ADDRESS=Finley Theatre 500 N Elm Street Sherman TX 75090 United States;X-APPLE-RADIUS=500;X-TITLE=500 N Elm Street:geo:-96.6133405,33.6396661
END:VEVENT
BEGIN:VEVENT
DTSTART;TZID=America/Chicago:20260327T150000
DTEND;TZID=America/Chicago:20260327T153000
DTSTAMP:20260421T085529
CREATED:20260313T180335Z
LAST-MODIFIED:20260313T180418Z
UID:10010663-1774623600-1774625400@texomaconnect.com
SUMMARY:Frog Chorus
DESCRIPTION:Frog Chorus at Eisenhower State Park\, Lake Texoma\nGet ready to serenade with the songs of frogs! Join a park ranger for an interactive experience where you will discover the musical world of frogs and create your own frog-inspired melodies. \nWhen: March 27th – 3 PM to 3:30 PM\nWhere: Amphitheater\nBring: water\, all materials will be provided \nReminders:\n– Events and programs are subject to cancellation due to weather.\n– Please dress for weather.\n– Attendance is free with park admission.
URL:https://texomaconnect.com/event/frog-chorus/
LOCATION:Eisenhower State Park – Texas Parks and Wildlife\, 50 Road 20\, Denison\, TX\, 75020\, United States
CATEGORIES:Lake Texoma event
ATTACH;FMTTYPE=image/png:https://texomaconnect.com/wp-content/uploads/2025/07/Eisenhower-State-Park-Lake-Texoma.png
GEO:33.816044;-96.601676
X-APPLE-STRUCTURED-LOCATION;VALUE=URI;X-ADDRESS=Eisenhower State Park – Texas Parks and Wildlife 50 Road 20 Denison TX 75020 United States;X-APPLE-RADIUS=500;X-TITLE=50 Road 20:geo:-96.601676,33.816044
END:VEVENT
BEGIN:VEVENT
DTSTART;TZID=America/Chicago:20260327T180000
DTEND;TZID=America/Chicago:20260327T180000
DTSTAMP:20260421T085529
CREATED:20260312T192809Z
LAST-MODIFIED:20260312T192809Z
UID:10010261-1774634400-1774634400@texomaconnect.com
SUMMARY:Spanish Tapas Dinner
DESCRIPTION:Spanish Tapas Dinner at Old Quail Run Farm\nSpanish Tapas!!!!Friday March 27th!!Do you have your seat?Only a few left!!You don’t want to miss this experience!6 courses paired with 6 Amazing Spanish wines! \n(903) 868-2100 \nhttps://www.oldquailrunfarm.com/calendar \n  \n 
URL:https://texomaconnect.com/event/spanish-tapas-dinneer/
LOCATION:Old Quail Run Farm\, 233 Old Quail Run Rd\, Sherman\, TX\, 75092\, United States
CATEGORIES:Entertainment
ATTACH;FMTTYPE=image/png:https://texomaconnect.com/wp-content/uploads/2026/03/Spanish-Tapas-crowd.png
GEO:33.7264191;-96.7047537
X-APPLE-STRUCTURED-LOCATION;VALUE=URI;X-ADDRESS=Old Quail Run Farm 233 Old Quail Run Rd Sherman TX 75092 United States;X-APPLE-RADIUS=500;X-TITLE=233 Old Quail Run Rd:geo:-96.7047537,33.7264191
END:VEVENT
BEGIN:VEVENT
DTSTART;TZID=America/Chicago:20260327T190000
DTEND;TZID=America/Chicago:20260327T190000
DTSTAMP:20260421T085529
CREATED:20260320T162828Z
LAST-MODIFIED:20260320T162828Z
UID:10010754-1774638000-1774638000@texomaconnect.com
SUMMARY:Bobby Degonia
DESCRIPTION:Bobby Degonia at Calhoun’s 2.0\nCalhoun’s is excited to announce a BRAND NEW band hitting our stage — Bobby Degonia — making his Calhoun’s debut on March 27th! \nKnown for his two-step and dance-hall style country\, Bobby Degonia knows exactly how to keep the dance floor packed and the crowd entertained all night long. This is one debut you do not want to miss — he’ll have you dancing\, smiling\, and coming back wanting more. \nCover Charge:• $10 – 21 & up• $20 – 18–20 \nAnd the entertainment doesn’t stop at the stage — we’ve got: \n2\,000 sq ft dance floor\nPool tables\nCornhole\nMega Jenga\nGiant Connect 4\nBig-screen TVs everywhere\nFantastic Food\nIce cold drinks \nThere is literally something for everyone!  Grab your friends and make plans now
URL:https://texomaconnect.com/event/bobby-degonia/
LOCATION:Calhoun’s 2.0\, 4801 S State Hwy 91\, Denison\, TX\, 75020\, United States
CATEGORIES:Entertainment,Live Music
ATTACH;FMTTYPE=image/png:https://texomaconnect.com/wp-content/uploads/2026/03/Bobby-Degonia.png
GEO:33.7041218;-96.5710403
X-APPLE-STRUCTURED-LOCATION;VALUE=URI;X-ADDRESS=Calhoun’s 2.0 4801 S State Hwy 91 Denison TX 75020 United States;X-APPLE-RADIUS=500;X-TITLE=4801 S State Hwy 91:geo:-96.5710403,33.7041218
END:VEVENT
BEGIN:VEVENT
DTSTART;TZID=America/Chicago:20260327T200000
DTEND;TZID=America/Chicago:20260327T200000
DTSTAMP:20260421T085529
CREATED:20260106T194610Z
LAST-MODIFIED:20260106T200152Z
UID:10009570-1774641600-1774641600@texomaconnect.com
SUMMARY:Styx live at Choctaw
DESCRIPTION:Styx live at Choctaw Grand Theater Durant\nDoors open at 6:30pm | Showtime 8pm \nGET TICKETS\nTicketmaster is the official ticketing agent of Choctaw Casinos & Resorts.  Some links on this page are affiliate links. If you buy tickets through Ticketmaster using our link\, Texoma Connect may earn a small commission at no extra cost to you. \n \nStyx have endured for over five decades while staying true to their progressive rock sound and theatrical live show. Since releasing their self-titled debut in 1972\, Styx have sold over 54 million records worldwide between 17 studio albums\, 16 compilations and nine live recordings. Notably\, the band released four consecutive RIAA-certified multi-platinum albums between 1977’s The Grand Illusion\, 1978’s Pieces of Eight\, 1979’s Cornerstone and 1981’s Paradise Theatre\, the last of which became their first to top the Billboard 200. Across their career\, Styx earned eight Top 10 singles on the Hot 100\, including the chart-topping “Babe” as well as “Come Sail Away” “Mr. Roboto” and their 1990 comeback single “Show Me the Way.” Despite several hiatuses and lineup changes\, Styx have become one of rock’s most consistent touring acts\, hosting nearly 100 live shows every year for over two decades and netting career-best earnings on massive co-headlining tours with REO Speedwagon\, Foreigner and Def Leppard. In 2021\, Styx released their seventeenth studio album\, Crash of the Crown.
URL:https://texomaconnect.com/event/styx-live-at-choctaw/
LOCATION:Choctaw Casino Resort – Durant\, 4216 Hwy 69\, DURANT\, OK\, 74702\, United States
CATEGORIES:Entertainment,Live Music
ATTACH;FMTTYPE=image/png:https://texomaconnect.com/wp-content/uploads/2026/01/Styx.png
GEO:33.952011;-96.412608
X-APPLE-STRUCTURED-LOCATION;VALUE=URI;X-ADDRESS=Choctaw Casino Resort – Durant 4216 Hwy 69 DURANT OK 74702 United States;X-APPLE-RADIUS=500;X-TITLE=4216 Hwy 69:geo:-96.412608,33.952011
END:VEVENT
END:VCALENDAR