BEGIN:VCALENDAR
VERSION:2.0
PRODID:-//Texoma Connect - ECPv6.15.20//NONSGML v1.0//EN
CALSCALE:GREGORIAN
METHOD:PUBLISH
X-WR-CALNAME:Texoma Connect
X-ORIGINAL-URL:https://texomaconnect.com
X-WR-CALDESC:Events for Texoma Connect
REFRESH-INTERVAL;VALUE=DURATION:PT1H
X-Robots-Tag:noindex
X-PUBLISHED-TTL:PT1H
BEGIN:VTIMEZONE
TZID:America/Chicago
BEGIN:DAYLIGHT
TZOFFSETFROM:-0600
TZOFFSETTO:-0500
TZNAME:CDT
DTSTART:20250309T080000
END:DAYLIGHT
BEGIN:STANDARD
TZOFFSETFROM:-0500
TZOFFSETTO:-0600
TZNAME:CST
DTSTART:20251102T070000
END:STANDARD
BEGIN:DAYLIGHT
TZOFFSETFROM:-0600
TZOFFSETTO:-0500
TZNAME:CDT
DTSTART:20260308T080000
END:DAYLIGHT
BEGIN:STANDARD
TZOFFSETFROM:-0500
TZOFFSETTO:-0600
TZNAME:CST
DTSTART:20261101T070000
END:STANDARD
BEGIN:DAYLIGHT
TZOFFSETFROM:-0600
TZOFFSETTO:-0500
TZNAME:CDT
DTSTART:20270314T080000
END:DAYLIGHT
BEGIN:STANDARD
TZOFFSETFROM:-0500
TZOFFSETTO:-0600
TZNAME:CST
DTSTART:20271107T070000
END:STANDARD
END:VTIMEZONE
BEGIN:VEVENT
DTSTART;VALUE=DATE:20260410
DTEND;VALUE=DATE:20260412
DTSTAMP:20260421T062021
CREATED:20260312T191325Z
LAST-MODIFIED:20260312T191325Z
UID:10010259-1775786400-1775872799@texomaconnect.com
SUMMARY:Pottsboro Citywide Garage Sale
DESCRIPTION:Pottsboro Chamber of Commerce Citywide Garage Sale April 10 – 11\, 2026\nSales WILL happen rain\, shine\, and everything in between!\nThe calls are already rolling in\, and we know you’ve got plenty of garage-sale goodies just waiting to become someone else’s treasure.  Reach out to the Pottsboro Chamber of Commerce to register (903) 786-6371 or info@pottsborochamber.com.
URL:https://texomaconnect.com/event/pottsboro-citywide-garage-sale/2026-04-10/
LOCATION:City of Pottsboro\, Pottsboro\, TX\, 75076\, United States
CATEGORIES:Chamber of Commerce,Community Events
ATTACH;FMTTYPE=image/png:https://texomaconnect.com/wp-content/uploads/2026/03/Citywide-Garage-Sale.png
GEO:33.759271;-96.6694402
END:VEVENT
BEGIN:VEVENT
DTSTART;TZID=America/Chicago:20260410T140000
DTEND;TZID=America/Chicago:20260410T140000
DTSTAMP:20260421T062021
CREATED:20260218T180748Z
LAST-MODIFIED:20260218T180748Z
UID:10010791-1775829600-1775829600@texomaconnect.com
SUMMARY:Once Upon a Pandora's Box
DESCRIPTION:Sherman Community Players presents Once Upon Pandora’s Box\nOnce upon a time in New York City\, Tabitha and her brother Louis discover a box sitting in the hall of their apartment. Curious\, Tabitha opens the box\, allowing five imprisoned fairy tale villains to escape. Free at last\, the dastardly villains begin to wreck the apartment\, but when they discover that writing in Tabitha’s notebook will give them control of other fictional characters\, things really get dicey. Will Tabitha harness the power of her storytelling? Or will the fairy tale villains run wild in New York? A clever comedy that demonstrates the importance of villains in every story. \nTickets\n 
URL:https://texomaconnect.com/event/once-upon-a-pandoras-box/2026-04-10/
LOCATION:Finley Theatre\, 500 N Elm Street\, Sherman\, TX\, 75090\, United States
CATEGORIES:Entertainment,Theatre
ATTACH;FMTTYPE=image/png:https://texomaconnect.com/wp-content/uploads/2026/02/Once-Upon-A-Pandoras-Box.png
GEO:33.6396661;-96.6133405
X-APPLE-STRUCTURED-LOCATION;VALUE=URI;X-ADDRESS=Finley Theatre 500 N Elm Street Sherman TX 75090 United States;X-APPLE-RADIUS=500;X-TITLE=500 N Elm Street:geo:-96.6133405,33.6396661
END:VEVENT
BEGIN:VEVENT
DTSTART;TZID=America/Chicago:20260410T150000
DTEND;TZID=America/Chicago:20260410T200000
DTSTAMP:20260421T062021
CREATED:20260221T225459Z
LAST-MODIFIED:20260221T225459Z
UID:10009845-1775833200-1775851200@texomaconnect.com
SUMMARY:Lake Texoma Boat Show and Outdoor Expo
DESCRIPTION:Lake Texoma Boat Show and Outdoor Expo at Choctaw Nation Event Center\nLake Texoma Boat Show and Outdoor Expo with boat\, camper and RV dealers\, side x sides\, Lake Texoma Destination vendors\, and other. \nTickets
URL:https://texomaconnect.com/event/lake-texoma-boat-show-and-outdoor-expo/2026-04-10/
LOCATION:Choctaw Event Center\, 4216 S Hwy 69\, Durant\, OK\, 74701\, United States
CATEGORIES:Lake Texoma event
ATTACH;FMTTYPE=image/png:https://texomaconnect.com/wp-content/uploads/2026/02/Lake-Texoma-Boat-Show-2026.png
ORGANIZER;CN="Lake Texoma Association":MAILTO:ltainformation@sbcglobal.com
GEO:33.9567566;-96.4140585
X-APPLE-STRUCTURED-LOCATION;VALUE=URI;X-ADDRESS=Choctaw Event Center 4216 S Hwy 69 Durant OK 74701 United States;X-APPLE-RADIUS=500;X-TITLE=4216 S Hwy 69:geo:-96.4140585,33.9567566
END:VEVENT
END:VCALENDAR