BEGIN:VCALENDAR
VERSION:2.0
PRODID:-//Texoma Connect - ECPv6.15.20//NONSGML v1.0//EN
CALSCALE:GREGORIAN
METHOD:PUBLISH
X-ORIGINAL-URL:https://texomaconnect.com
X-WR-CALDESC:Events for Texoma Connect
REFRESH-INTERVAL;VALUE=DURATION:PT1H
X-Robots-Tag:noindex
X-PUBLISHED-TTL:PT1H
BEGIN:VTIMEZONE
TZID:America/Chicago
BEGIN:DAYLIGHT
TZOFFSETFROM:-0600
TZOFFSETTO:-0500
TZNAME:CDT
DTSTART:20250309T080000
END:DAYLIGHT
BEGIN:STANDARD
TZOFFSETFROM:-0500
TZOFFSETTO:-0600
TZNAME:CST
DTSTART:20251102T070000
END:STANDARD
BEGIN:DAYLIGHT
TZOFFSETFROM:-0600
TZOFFSETTO:-0500
TZNAME:CDT
DTSTART:20260308T080000
END:DAYLIGHT
BEGIN:STANDARD
TZOFFSETFROM:-0500
TZOFFSETTO:-0600
TZNAME:CST
DTSTART:20261101T070000
END:STANDARD
BEGIN:DAYLIGHT
TZOFFSETFROM:-0600
TZOFFSETTO:-0500
TZNAME:CDT
DTSTART:20270314T080000
END:DAYLIGHT
BEGIN:STANDARD
TZOFFSETFROM:-0500
TZOFFSETTO:-0600
TZNAME:CST
DTSTART:20271107T070000
END:STANDARD
END:VTIMEZONE
BEGIN:VEVENT
DTSTART;TZID=America/Chicago:20260419T100000
DTEND;TZID=America/Chicago:20260419T160000
DTSTAMP:20260421T062207
CREATED:20260103T181432Z
LAST-MODIFIED:20260103T181432Z
UID:10009544-1776592800-1776614400@texomaconnect.com
SUMMARY:Texoma Trade Days 2026
DESCRIPTION:Texoma Trade Days 2026 Schedule\nMonthly indoor flea market in Sherman Texas conveniently located off Hwy 75 between Hwy 82 and TMC at the EXPO Hall in the Sherman Midway Mall. \nSaturdays 9 am – 5pm; Sunday 10 am – 4pm \nJan 17 – 18 \nFeb 14-15 \nMar 14-15 \nApril 18-19 \nMay 16-17 \nJune 13-14 \nJuly 18-19 \nAug 15-16 \nSept 19-20 \nOct 17-18 \nNov 14-15 \nDec 19-20
URL:https://texomaconnect.com/event/texoma-trade-days-2026-3/2026-04-19/
LOCATION:Midway Mall Expo Hall
CATEGORIES:Community Events
ATTACH;FMTTYPE=image/png:https://texomaconnect.com/wp-content/uploads/2026/01/Texoma-Trade-Days.png
END:VEVENT
END:VCALENDAR