BEGIN:VCALENDAR
VERSION:2.0
PRODID:-//Texoma Connect - ECPv6.15.20//NONSGML v1.0//EN
CALSCALE:GREGORIAN
METHOD:PUBLISH
X-WR-CALNAME:Texoma Connect
X-ORIGINAL-URL:https://texomaconnect.com
X-WR-CALDESC:Events for Texoma Connect
REFRESH-INTERVAL;VALUE=DURATION:PT1H
X-Robots-Tag:noindex
X-PUBLISHED-TTL:PT1H
BEGIN:VTIMEZONE
TZID:America/Chicago
BEGIN:DAYLIGHT
TZOFFSETFROM:-0600
TZOFFSETTO:-0500
TZNAME:CDT
DTSTART:20250309T080000
END:DAYLIGHT
BEGIN:STANDARD
TZOFFSETFROM:-0500
TZOFFSETTO:-0600
TZNAME:CST
DTSTART:20251102T070000
END:STANDARD
BEGIN:DAYLIGHT
TZOFFSETFROM:-0600
TZOFFSETTO:-0500
TZNAME:CDT
DTSTART:20260308T080000
END:DAYLIGHT
BEGIN:STANDARD
TZOFFSETFROM:-0500
TZOFFSETTO:-0600
TZNAME:CST
DTSTART:20261101T070000
END:STANDARD
BEGIN:DAYLIGHT
TZOFFSETFROM:-0600
TZOFFSETTO:-0500
TZNAME:CDT
DTSTART:20270314T080000
END:DAYLIGHT
BEGIN:STANDARD
TZOFFSETFROM:-0500
TZOFFSETTO:-0600
TZNAME:CST
DTSTART:20271107T070000
END:STANDARD
END:VTIMEZONE
BEGIN:VEVENT
DTSTART;TZID=America/Chicago:20260425T080000
DTEND;TZID=America/Chicago:20260425T170000
DTSTAMP:20260421T073957
CREATED:20260109T223050Z
LAST-MODIFIED:20260109T223349Z
UID:10009588-1777104000-1777136400@texomaconnect.com
SUMMARY:Doc Holliday Saints & Sinners Festival 2026
DESCRIPTION:Doc Holliday Saints & Sinners Festival celebrating America’s 250th Birthday\nDoc Holliday Saints & Sinners festival returns! Join as we celebrate the boomtown of Denison in the 1870-80’s with authentic old west reenactors from the past when Doc Holliday had an office in Downtown Denison! Events will include authors\, historians\, wild west photo ops\, wagon rides\, kids activities\, petting zoo\, gunfights\, a costume contests\, food\, live music\, and much more. Don’t miss out on this fun-filled day. \n\n\n\nThis event is hosted by Downtown Denison TX
URL:https://texomaconnect.com/event/doc-holliday-saints-sinners-festival-2026/
LOCATION:Downtown Denison\, Main Street\, Denison\, TX\, 75020\, United States
CATEGORIES:Festival
ATTACH;FMTTYPE=image/png:https://texomaconnect.com/wp-content/uploads/2026/01/Doc-Holliday-Saints-Sinners-Festival.png
GEO:33.755586;-96.537255
X-APPLE-STRUCTURED-LOCATION;VALUE=URI;X-ADDRESS=Downtown Denison Main Street Denison TX 75020 United States;X-APPLE-RADIUS=500;X-TITLE=Main Street:geo:-96.537255,33.755586
END:VEVENT
BEGIN:VEVENT
DTSTART;TZID=America/Chicago:20260425T140000
DTEND;TZID=America/Chicago:20260425T140000
DTSTAMP:20260421T073957
CREATED:20260218T180748Z
LAST-MODIFIED:20260218T180748Z
UID:10010796-1777125600-1777125600@texomaconnect.com
SUMMARY:Once Upon a Pandora's Box
DESCRIPTION:Sherman Community Players presents Once Upon Pandora’s Box\nOnce upon a time in New York City\, Tabitha and her brother Louis discover a box sitting in the hall of their apartment. Curious\, Tabitha opens the box\, allowing five imprisoned fairy tale villains to escape. Free at last\, the dastardly villains begin to wreck the apartment\, but when they discover that writing in Tabitha’s notebook will give them control of other fictional characters\, things really get dicey. Will Tabitha harness the power of her storytelling? Or will the fairy tale villains run wild in New York? A clever comedy that demonstrates the importance of villains in every story. \nTickets\n 
URL:https://texomaconnect.com/event/once-upon-a-pandoras-box/2026-04-25/
LOCATION:Finley Theatre\, 500 N Elm Street\, Sherman\, TX\, 75090\, United States
CATEGORIES:Entertainment,Theatre
ATTACH;FMTTYPE=image/png:https://texomaconnect.com/wp-content/uploads/2026/02/Once-Upon-A-Pandoras-Box.png
GEO:33.6396661;-96.6133405
X-APPLE-STRUCTURED-LOCATION;VALUE=URI;X-ADDRESS=Finley Theatre 500 N Elm Street Sherman TX 75090 United States;X-APPLE-RADIUS=500;X-TITLE=500 N Elm Street:geo:-96.6133405,33.6396661
END:VEVENT
END:VCALENDAR