BEGIN:VCALENDAR
VERSION:2.0
PRODID:-//Texoma Connect - ECPv6.15.20//NONSGML v1.0//EN
CALSCALE:GREGORIAN
METHOD:PUBLISH
X-ORIGINAL-URL:https://texomaconnect.com
X-WR-CALDESC:Events for Texoma Connect
REFRESH-INTERVAL;VALUE=DURATION:PT1H
X-Robots-Tag:noindex
X-PUBLISHED-TTL:PT1H
BEGIN:VTIMEZONE
TZID:America/Chicago
BEGIN:DAYLIGHT
TZOFFSETFROM:-0600
TZOFFSETTO:-0500
TZNAME:CDT
DTSTART:20250309T080000
END:DAYLIGHT
BEGIN:STANDARD
TZOFFSETFROM:-0500
TZOFFSETTO:-0600
TZNAME:CST
DTSTART:20251102T070000
END:STANDARD
BEGIN:DAYLIGHT
TZOFFSETFROM:-0600
TZOFFSETTO:-0500
TZNAME:CDT
DTSTART:20260308T080000
END:DAYLIGHT
BEGIN:STANDARD
TZOFFSETFROM:-0500
TZOFFSETTO:-0600
TZNAME:CST
DTSTART:20261101T070000
END:STANDARD
BEGIN:DAYLIGHT
TZOFFSETFROM:-0600
TZOFFSETTO:-0500
TZNAME:CDT
DTSTART:20270314T080000
END:DAYLIGHT
BEGIN:STANDARD
TZOFFSETFROM:-0500
TZOFFSETTO:-0600
TZNAME:CST
DTSTART:20271107T070000
END:STANDARD
END:VTIMEZONE
BEGIN:VEVENT
DTSTART;TZID=America/Chicago:20260502T090000
DTEND;TZID=America/Chicago:20260502T130000
DTSTAMP:20260421T062203
CREATED:20260312T174254Z
LAST-MODIFIED:20260312T174254Z
UID:10010255-1777712400-1777726800@texomaconnect.com
SUMMARY:Grayson County Master Gardener's Spring Plant Sale
DESCRIPTION:Grayson County Master Gardener’s Spring Plant Sale Mayors Arena Denison TX\nMark your calendars! Join the Texas Master Gardeners – Grayson County annual Plant Sale on May 2\, 202\,6 from 9am – 1pm inside Mayors Arena behind Frontier Village in Denison. \nGet your garden growing with: \n\nLocally grown plants\nExperts on site to answer our gardening questions\nRaffle prizes\nVendors and more\n\nWhether you’re a seasoned gardener or just getting started\, you’ll find beautiful\, high-quality plants and helpful advice to make your landscape thrive. \nBring your friends and come early for the best selection! We can’t wait to see you there! \nHere is the link to the 2026 Plant Sale Library (being updated frequently)\nhttps://txmg.org/grayson/plant-library-3/2026-plant-sale/
URL:https://texomaconnect.com/event/grayson-county-master-gardeners-spring-plant-sale/
LOCATION:Loy Lake – Mayor Arena\, 1000 RC VAUGHN RD.\, Denison\, TX\, 75020\, United States
CATEGORIES:Community Events
ATTACH;FMTTYPE=image/png:https://texomaconnect.com/wp-content/uploads/2026/03/Master-Gardeners-Spring-Plant-Sale.png
GEO:33.7381501;-96.5945436
X-APPLE-STRUCTURED-LOCATION;VALUE=URI;X-ADDRESS=Loy Lake – Mayor Arena 1000 RC VAUGHN RD. Denison TX 75020 United States;X-APPLE-RADIUS=500;X-TITLE=1000 RC VAUGHN RD.:geo:-96.5945436,33.7381501
END:VEVENT
BEGIN:VEVENT
DTSTART;TZID=America/Chicago:20260502T100000
DTEND;TZID=America/Chicago:20260502T130000
DTSTAMP:20260421T062203
CREATED:20260312T183039Z
LAST-MODIFIED:20260312T183039Z
UID:10010257-1777716000-1777726800@texomaconnect.com
SUMMARY:Honoring Freedom
DESCRIPTION:Community IMPACT 2026: Honoring Freedom\nThe 8th Annual CommUnity IMPACT Event will take on a special focus in 2026 as we gather to celebrate 250 years of American freedom and honor the heroes who helped secure it. \nThis year’s event\, “Honoring Freedom – Heroes Among Us\,” invites the entire Texoma community to come together in gratitude for the men and women who have served our nation and protected the liberties we enjoy today. \nUnlike past years that centered around community service projects\, Community IMPACT 2026 will be a community gathering of honor\, remembrance\, and unity\, recognizing veterans\, civil servants\, and the everyday heroes who strengthen our communities. \nDuring this patriotic event\, attendees will experience: \n\nRecognition of local veterans and civil servants\nA patriotic program celebrating 250 years of American independence\nDedication of a Veterans Memorial Park Bench\nOpportunities to connect with veteran-supporting agencies and community resources\nPatriotic music\, fellowship\, and a family-friendly atmosphere\n\nThis is a moment for our community to pause\, reflect\, and say thank you to those who have served and sacrificed for the freedoms we enjoy today. \nVeterans\, families\, community leaders\, faith communities\, and neighbors across Texoma are all invited to attend.\nLet’s come together as one community to honor service\, celebrate freedom\, and recognize the heroes among us\n\nGrayson County Courthouse lawn\n 
URL:https://texomaconnect.com/event/honoring-freedom/
LOCATION:Grayson County Courthouse\, 100 West Houston St\, Sherman\, TX\, 75090\, United States
CATEGORIES:Community Events
ATTACH;FMTTYPE=image/png:https://texomaconnect.com/wp-content/uploads/2026/03/Community-IMPACT.png
GEO:33.6366113;-96.6102526
X-APPLE-STRUCTURED-LOCATION;VALUE=URI;X-ADDRESS=Grayson County Courthouse 100 West Houston St Sherman TX 75090 United States;X-APPLE-RADIUS=500;X-TITLE=100 West Houston St:geo:-96.6102526,33.6366113
END:VEVENT
BEGIN:VEVENT
DTSTART;TZID=America/Chicago:20260502T103000
DTEND;TZID=America/Chicago:20260502T103000
DTSTAMP:20260421T062203
CREATED:20260221T230745Z
LAST-MODIFIED:20260221T230849Z
UID:10009848-1777717800-1777717800@texomaconnect.com
SUMMARY:Run for the Rose 5K
DESCRIPTION:Blue River Valley Winery Run for the Rose’ 5K\nRegistration includes T-shirt\, Medal\, Wine Cup with logo & FREE 4oz wine pour of your choice with show of ID \nThe Payton Project\, founded in 2024 by Krysten Brown\, with the mission to support children in need regardless of their family circumstances. Inspired by her son Payton’s journey through foster care before his adoption in 2023\, the foundation was created to bring hope\, joy\, and opportunity to children facing hardship. Through acts of support such as the angel tree program\, school supplies\, and access to youth programs\, The Payton Project works to ensure every child feels loved\, supported\, and seen. \nThey are partnering with Blue River Valley Winery to offer the 5k Run for the Rose event. Whether you like running\, walking or wine\, this race is for you! Join us\, May 2nd\, at the beautiful Blue River Valley Winery for perfect views\, great craft wine & hard ciders on tap\, food and stage located on site! This day is sure to be a great event!
URL:https://texomaconnect.com/event/run-for-the-rose-5k/
LOCATION:Blue River Valley Winery\, 3565 Sawmill Rd\, Caddo\, OK\, 74729\, United States
CATEGORIES:5K Fun Runs,Lake Texoma event,Sports and Recreation
ATTACH;FMTTYPE=image/png:https://texomaconnect.com/wp-content/uploads/2026/02/Run-for-the-rose-5K.png
GEO:34.0376637;-96.3387532
X-APPLE-STRUCTURED-LOCATION;VALUE=URI;X-ADDRESS=Blue River Valley Winery 3565 Sawmill Rd Caddo OK 74729 United States;X-APPLE-RADIUS=500;X-TITLE=3565 Sawmill Rd:geo:-96.3387532,34.0376637
END:VEVENT
BEGIN:VEVENT
DTSTART;TZID=America/Chicago:20260502T140000
DTEND;TZID=America/Chicago:20260502T140000
DTSTAMP:20260421T062203
CREATED:20260218T180748Z
LAST-MODIFIED:20260218T180748Z
UID:10010798-1777730400-1777730400@texomaconnect.com
SUMMARY:Once Upon a Pandora's Box
DESCRIPTION:Sherman Community Players presents Once Upon Pandora’s Box\nOnce upon a time in New York City\, Tabitha and her brother Louis discover a box sitting in the hall of their apartment. Curious\, Tabitha opens the box\, allowing five imprisoned fairy tale villains to escape. Free at last\, the dastardly villains begin to wreck the apartment\, but when they discover that writing in Tabitha’s notebook will give them control of other fictional characters\, things really get dicey. Will Tabitha harness the power of her storytelling? Or will the fairy tale villains run wild in New York? A clever comedy that demonstrates the importance of villains in every story. \nTickets\n 
URL:https://texomaconnect.com/event/once-upon-a-pandoras-box/2026-05-02/
LOCATION:Finley Theatre\, 500 N Elm Street\, Sherman\, TX\, 75090\, United States
CATEGORIES:Entertainment,Theatre
ATTACH;FMTTYPE=image/png:https://texomaconnect.com/wp-content/uploads/2026/02/Once-Upon-A-Pandoras-Box.png
GEO:33.6396661;-96.6133405
X-APPLE-STRUCTURED-LOCATION;VALUE=URI;X-ADDRESS=Finley Theatre 500 N Elm Street Sherman TX 75090 United States;X-APPLE-RADIUS=500;X-TITLE=500 N Elm Street:geo:-96.6133405,33.6396661
END:VEVENT
BEGIN:VEVENT
DTSTART;TZID=America/Chicago:20260502T190000
DTEND;TZID=America/Chicago:20260502T190000
DTSTAMP:20260421T062203
CREATED:20260320T172842Z
LAST-MODIFIED:20260320T172842Z
UID:10010760-1777748400-1777748400@texomaconnect.com
SUMMARY:Starfish Benefit
DESCRIPTION:15th Annual Starfish Benefit\nJoin us for the 15th Annual Starfish Benefit\, a Derby-inspired evening filled with Southern charm\, delectable food and desserts\, spirits\, music\, and plenty of FUNraising opportunities. \nThis special night also marks a major milestone as we celebrate the 60th Anniversary of Child & Family Guidance Center—six decades of strengthening the mental health of children and families across Texoma. \nAs we honor the past and look toward the future\, your support helps ensure that more than 3\,000 children and families each year continue to receive the care and guidance they need. \nPut on your Derby best and join us for an unforgettable evening of celebration\, community\, and impact. \nStarfish sponsorship and Ticket Opportunities
URL:https://texomaconnect.com/event/starfish-benefit/
LOCATION:Hilton Garden Inn Denison/Sherman/At Texoma Event Center\, 5015 U.S. 75\, Denison\, TX\, 75020\, United States
CATEGORIES:Charity Events,Entertainment
ATTACH;FMTTYPE=image/png:https://texomaconnect.com/wp-content/uploads/2026/03/Starfish-Benefit-2026.png
GEO:33.7100328;-96.5908833
X-APPLE-STRUCTURED-LOCATION;VALUE=URI;X-ADDRESS=Hilton Garden Inn Denison/Sherman/At Texoma Event Center 5015 U.S. 75 Denison TX 75020 United States;X-APPLE-RADIUS=500;X-TITLE=5015 U.S. 75:geo:-96.5908833,33.7100328
END:VEVENT
END:VCALENDAR