BEGIN:VCALENDAR
VERSION:2.0
PRODID:-//Texoma Connect - ECPv6.15.20//NONSGML v1.0//EN
CALSCALE:GREGORIAN
METHOD:PUBLISH
X-WR-CALNAME:Texoma Connect
X-ORIGINAL-URL:https://texomaconnect.com
X-WR-CALDESC:Events for Texoma Connect
REFRESH-INTERVAL;VALUE=DURATION:PT1H
X-Robots-Tag:noindex
X-PUBLISHED-TTL:PT1H
BEGIN:VTIMEZONE
TZID:America/Chicago
BEGIN:DAYLIGHT
TZOFFSETFROM:-0600
TZOFFSETTO:-0500
TZNAME:CDT
DTSTART:20250309T080000
END:DAYLIGHT
BEGIN:STANDARD
TZOFFSETFROM:-0500
TZOFFSETTO:-0600
TZNAME:CST
DTSTART:20251102T070000
END:STANDARD
BEGIN:DAYLIGHT
TZOFFSETFROM:-0600
TZOFFSETTO:-0500
TZNAME:CDT
DTSTART:20260308T080000
END:DAYLIGHT
BEGIN:STANDARD
TZOFFSETFROM:-0500
TZOFFSETTO:-0600
TZNAME:CST
DTSTART:20261101T070000
END:STANDARD
BEGIN:DAYLIGHT
TZOFFSETFROM:-0600
TZOFFSETTO:-0500
TZNAME:CDT
DTSTART:20270314T080000
END:DAYLIGHT
BEGIN:STANDARD
TZOFFSETFROM:-0500
TZOFFSETTO:-0600
TZNAME:CST
DTSTART:20271107T070000
END:STANDARD
END:VTIMEZONE
BEGIN:VEVENT
DTSTART;TZID=America/Chicago:20260627T140000
DTEND;TZID=America/Chicago:20260627T140000
DTSTAMP:20260421T085443
CREATED:20260218T180748Z
LAST-MODIFIED:20260218T180748Z
UID:10010814-1782568800-1782568800@texomaconnect.com
SUMMARY:Once Upon a Pandora's Box
DESCRIPTION:Sherman Community Players presents Once Upon Pandora’s Box\nOnce upon a time in New York City\, Tabitha and her brother Louis discover a box sitting in the hall of their apartment. Curious\, Tabitha opens the box\, allowing five imprisoned fairy tale villains to escape. Free at last\, the dastardly villains begin to wreck the apartment\, but when they discover that writing in Tabitha’s notebook will give them control of other fictional characters\, things really get dicey. Will Tabitha harness the power of her storytelling? Or will the fairy tale villains run wild in New York? A clever comedy that demonstrates the importance of villains in every story. \nTickets\n 
URL:https://texomaconnect.com/event/once-upon-a-pandoras-box/2026-06-27/
LOCATION:Finley Theatre\, 500 N Elm Street\, Sherman\, TX\, 75090\, United States
CATEGORIES:Entertainment,Theatre
ATTACH;FMTTYPE=image/png:https://texomaconnect.com/wp-content/uploads/2026/02/Once-Upon-A-Pandoras-Box.png
GEO:33.6396661;-96.6133405
X-APPLE-STRUCTURED-LOCATION;VALUE=URI;X-ADDRESS=Finley Theatre 500 N Elm Street Sherman TX 75090 United States;X-APPLE-RADIUS=500;X-TITLE=500 N Elm Street:geo:-96.6133405,33.6396661
END:VEVENT
BEGIN:VEVENT
DTSTART;TZID=America/Chicago:20260627T170000
DTEND;TZID=America/Chicago:20260627T170000
DTSTAMP:20260421T085443
CREATED:20260320T173818Z
LAST-MODIFIED:20260320T173818Z
UID:10010761-1782579600-1782579600@texomaconnect.com
SUMMARY:Splash and Blast
DESCRIPTION:Celina Splash and Blast\nIt’s time for this year’s Splash & Blast\, Celina’s Biggest Summer Bash at Old Celina Park! Join us on Saturday\, June 27\, from 5:00 – 10:00 PM for an unforgettable day of family-friendly fun and entertainment.\nBring the whole family for a day packed with excitement – admission is FREE! Enjoy live music and dive into the thrill of our Kids Zone\, complete with water slides and more. Kids can conquer the Ninja Nation Obstacle Course (remember to bring those closed-toe shoes!). It’s an adventure-filled day where laughter and joy abound.\nDisclaimer: Please be aware that only posts made by the official event organizer on this page are verified. For information regarding vendor and market applications\, please visit our official website at www.LifeInCelinaTX.com We cannot guarantee the accuracy of information shared by other users.
URL:https://texomaconnect.com/event/splash-and-blast/
LOCATION:Old Celina Park\, 1270 FM 428\, Celina\, TX\, 75009\, United States
CATEGORIES:July 4th Celebrations,Youth Activities
ATTACH;FMTTYPE=image/png:https://texomaconnect.com/wp-content/uploads/2026/03/Celina-Splash-Blast-Fireworks.png
GEO:33.318665;-96.803318
X-APPLE-STRUCTURED-LOCATION;VALUE=URI;X-ADDRESS=Old Celina Park 1270 FM 428 Celina TX 75009 United States;X-APPLE-RADIUS=500;X-TITLE=1270 FM 428:geo:-96.803318,33.318665
END:VEVENT
BEGIN:VEVENT
DTSTART;TZID=America/Chicago:20260627T190000
DTEND;TZID=America/Chicago:20260627T190000
DTSTAMP:20260421T085443
CREATED:20260312T172347Z
LAST-MODIFIED:20260312T172347Z
UID:10009916-1782586800-1782586800@texomaconnect.com
SUMMARY:Rodeo Celina
DESCRIPTION:Rodeo Celina at Myers Park and Event Center May 29th – May 31st\nJoin us for an unforgettable Rodeo Celina experience featuring PRCA-sanctioned pro rodeo athletes\, fast-paced arena action\, crowd-favorite mutton bustin’\, great local vendors\, shopping\, plenty of tasty food\, and even a KidZone. It’s more than a rodeo — it’s a celebration of western heritage and North Texas community\, where families\, friends\, and fans come together for big moments and hometown memories. Bring the kids\, bring your friends\, and come be part of the excitement. \nWe’re closer to home than ever\, in McKinney near the board of Celina! It’s just so easy to be part of it now! \nTickets & Mutton Bustin’ registration coming Tuesday March 10 at 1:00PM\, available on our website (www.rodeocelina.com) \nMay 29-31\, Myers Park\, McKinney TX (on border of Celina)\nFriday and Saturday – Doors open at 5:00\, Mutton Bustin’ 6:30\, RODEO 7:00PM\, included concert afterwards!\nSunday – Doors open 12:00\, Mutton Bustin’ 1:30\, RODEO 2:0r\nHonoring the past. Riding forward. \nRodeo Celina – presented by Warhorse Cavalry Foundation
URL:https://texomaconnect.com/event/rodeo-celina/2026-06-27/
LOCATION:Myers Park and Event Center\, 6903 CR-166\, McKinney\, TX\, 75071\, United States
CATEGORIES:Entertainment,Sports and Recreation
ATTACH;FMTTYPE=image/png:https://texomaconnect.com/wp-content/uploads/2026/03/Rodeo-Celina.png
GEO:33.272593;-96.68427
X-APPLE-STRUCTURED-LOCATION;VALUE=URI;X-ADDRESS=Myers Park and Event Center 6903 CR-166 McKinney TX 75071 United States;X-APPLE-RADIUS=500;X-TITLE=6903 CR-166:geo:-96.68427,33.272593
END:VEVENT
END:VCALENDAR