BEGIN:VCALENDAR
VERSION:2.0
PRODID:-//Texoma Connect - ECPv6.15.20//NONSGML v1.0//EN
CALSCALE:GREGORIAN
METHOD:PUBLISH
X-WR-CALNAME:Texoma Connect
X-ORIGINAL-URL:https://texomaconnect.com
X-WR-CALDESC:Events for Texoma Connect
REFRESH-INTERVAL;VALUE=DURATION:PT1H
X-Robots-Tag:noindex
X-PUBLISHED-TTL:PT1H
BEGIN:VTIMEZONE
TZID:America/Chicago
BEGIN:DAYLIGHT
TZOFFSETFROM:-0600
TZOFFSETTO:-0500
TZNAME:CDT
DTSTART:20250309T080000
END:DAYLIGHT
BEGIN:STANDARD
TZOFFSETFROM:-0500
TZOFFSETTO:-0600
TZNAME:CST
DTSTART:20251102T070000
END:STANDARD
BEGIN:DAYLIGHT
TZOFFSETFROM:-0600
TZOFFSETTO:-0500
TZNAME:CDT
DTSTART:20260308T080000
END:DAYLIGHT
BEGIN:STANDARD
TZOFFSETFROM:-0500
TZOFFSETTO:-0600
TZNAME:CST
DTSTART:20261101T070000
END:STANDARD
BEGIN:DAYLIGHT
TZOFFSETFROM:-0600
TZOFFSETTO:-0500
TZNAME:CDT
DTSTART:20270314T080000
END:DAYLIGHT
BEGIN:STANDARD
TZOFFSETFROM:-0500
TZOFFSETTO:-0600
TZNAME:CST
DTSTART:20271107T070000
END:STANDARD
END:VTIMEZONE
BEGIN:VEVENT
DTSTART;TZID=America/Chicago:20260401T170000
DTEND;TZID=America/Chicago:20260401T190000
DTSTAMP:20260421T131854
CREATED:20260331T181301Z
LAST-MODIFIED:20260331T184940Z
UID:10010776-1775062800-1775070000@texomaconnect.com
SUMMARY:Good Friday Service
DESCRIPTION:Good Friday Service at St. John the Apostle Episcopal Church in Pottsboro\nPlease join us for a Good Friday service at 12 PM or 6 PM.
URL:https://texomaconnect.com/event/good-friday-service/
LOCATION:St. John the Apostle Episcopal Church\, 760 FM 120\, Pottsboro\, TX\, 75076\, United States
CATEGORIES:Easter Events,Lake Texoma event
ATTACH;FMTTYPE=image/png:https://texomaconnect.com/wp-content/uploads/2026/03/Good-Friday-Service.png
GEO:33.7623212;-96.653876
X-APPLE-STRUCTURED-LOCATION;VALUE=URI;X-ADDRESS=St. John the Apostle Episcopal Church 760 FM 120 Pottsboro TX 75076 United States;X-APPLE-RADIUS=500;X-TITLE=760 FM 120:geo:-96.653876,33.7623212
END:VEVENT
BEGIN:VEVENT
DTSTART;TZID=America/Chicago:20260401T170000
DTEND;TZID=America/Chicago:20260401T203000
DTSTAMP:20260421T131854
CREATED:20260331T184420Z
LAST-MODIFIED:20260331T184421Z
UID:10010779-1775062800-1775075400@texomaconnect.com
SUMMARY:23rd Annual Easter Pageant
DESCRIPTION:23rd Annual Easter Pageant Kemp\, Oklahoma\nJoin the 120+ member cast and crew as they tell the story of the last week of Jesus’ earthly ministry. \nA meal will be available to all guests beginning at 5:00pm nightly in the family life center. \nApril 1\, –  April 4\, 2026 \n7pm – 8:30pm \n 
URL:https://texomaconnect.com/event/23rd-annual-easter-pageant/2026-04-01/
LOCATION:Kemp Baptist Church\, 510 Main Street\, Kemp\, OK\, 74741\, United States
CATEGORIES:Easter Events
ATTACH;FMTTYPE=image/png:https://texomaconnect.com/wp-content/uploads/2026/03/Easter-Pageant.png
GEO:33.7716243;-96.3540807
X-APPLE-STRUCTURED-LOCATION;VALUE=URI;X-ADDRESS=Kemp Baptist Church 510 Main Street Kemp OK 74741 United States;X-APPLE-RADIUS=500;X-TITLE=510 Main Street:geo:-96.3540807,33.7716243
END:VEVENT
BEGIN:VEVENT
DTSTART;TZID=America/Chicago:20260402T170000
DTEND;TZID=America/Chicago:20260402T203000
DTSTAMP:20260421T131854
CREATED:20260331T184420Z
LAST-MODIFIED:20260331T184421Z
UID:10010780-1775149200-1775161800@texomaconnect.com
SUMMARY:23rd Annual Easter Pageant
DESCRIPTION:23rd Annual Easter Pageant Kemp\, Oklahoma\nJoin the 120+ member cast and crew as they tell the story of the last week of Jesus’ earthly ministry. \nA meal will be available to all guests beginning at 5:00pm nightly in the family life center. \nApril 1\, –  April 4\, 2026 \n7pm – 8:30pm \n 
URL:https://texomaconnect.com/event/23rd-annual-easter-pageant/2026-04-02/
LOCATION:Kemp Baptist Church\, 510 Main Street\, Kemp\, OK\, 74741\, United States
CATEGORIES:Easter Events
ATTACH;FMTTYPE=image/png:https://texomaconnect.com/wp-content/uploads/2026/03/Easter-Pageant.png
GEO:33.7716243;-96.3540807
X-APPLE-STRUCTURED-LOCATION;VALUE=URI;X-ADDRESS=Kemp Baptist Church 510 Main Street Kemp OK 74741 United States;X-APPLE-RADIUS=500;X-TITLE=510 Main Street:geo:-96.3540807,33.7716243
END:VEVENT
BEGIN:VEVENT
DTSTART;TZID=America/Chicago:20260402T180000
DTEND;TZID=America/Chicago:20260402T200000
DTSTAMP:20260421T131854
CREATED:20260223T180654Z
LAST-MODIFIED:20260223T180654Z
UID:10009853-1775152800-1775160000@texomaconnect.com
SUMMARY:Annual Easter Egg Hunt at THF Park
DESCRIPTION:Annual Easter Egg Hunt at Texoma Health Foundation Park in Denison\nAnnual Easter Egg Hunt is Back! \nJoin us Thursday\, April 2nd from 6:00–8:00 PM for one of our largest family events of the year! \nGet ready for:Large Easter Egg HuntCarnival ridesPetting zooLocal vendorsFun for the whole family!\n\nThe Easter Egg Hunt will be divided into age groups\, including a designated Adaptive Hunt\, to ensure a safe and enjoyable experience for all participants.\nWith thousands of attendees each year\, this spring tradition is one you won’t want to miss. Bring your baskets\, invite your friends\, and come ready for an egg-citing evening of community fun!\nMark your calendars — we’ll see you there!\n 
URL:https://texomaconnect.com/event/annual-easter-egg-hunt-at-thf-park/
LOCATION:Texoma Health Foundation Park\, 3801 HS 75\, Denison\, TX\, 75020\, United States
CATEGORIES:Easter Events,Youth Activities
ATTACH;FMTTYPE=image/png:https://texomaconnect.com/wp-content/uploads/2026/02/Denison-Easter-Egg-Hunt.png
GEO:33.72099;-96.59155
X-APPLE-STRUCTURED-LOCATION;VALUE=URI;X-ADDRESS=Texoma Health Foundation Park 3801 HS 75 Denison TX 75020 United States;X-APPLE-RADIUS=500;X-TITLE=3801 HS 75:geo:-96.59155,33.72099
END:VEVENT
BEGIN:VEVENT
DTSTART;TZID=America/Chicago:20260403T090000
DTEND;TZID=America/Chicago:20260403T160000
DTSTAMP:20260421T131854
CREATED:20260331T174349Z
LAST-MODIFIED:20260331T174349Z
UID:10010771-1775206800-1775232000@texomaconnect.com
SUMMARY:Annual Golden Egg Hunt
DESCRIPTION:Eisenhower State Park on Lake Texoma Annual Golden Egg Hunt\nGet ready for some egg-citing fun! Three golden eggs will be hidden somewhere in the park. They will not be hidden in any camping loops or buildings. Hints will be given throughout the day to help you locate them. Think you can find one?\nOnce you discover a golden egg\, bring it to Park Headquarters to claim your prize! First come\, first served\, so keep your eyes peeled.\nWhere: Park Headquarters\nReminders:– Events and programs are subject to cancellation due to weather.– Please dress for weather.– Attendance is free with park admission
URL:https://texomaconnect.com/event/annual-golden-egg-hunt/
LOCATION:Eisenhower State Park – Texas Parks and Wildlife\, 50 Road 20\, Denison\, TX\, 75020\, United States
CATEGORIES:Easter Events
ATTACH;FMTTYPE=image/png:https://texomaconnect.com/wp-content/uploads/2026/03/Golden-Egg-Hunt.png
GEO:33.816044;-96.601676
X-APPLE-STRUCTURED-LOCATION;VALUE=URI;X-ADDRESS=Eisenhower State Park – Texas Parks and Wildlife 50 Road 20 Denison TX 75020 United States;X-APPLE-RADIUS=500;X-TITLE=50 Road 20:geo:-96.601676,33.816044
END:VEVENT
BEGIN:VEVENT
DTSTART;TZID=America/Chicago:20260403T150000
DTEND;TZID=America/Chicago:20260403T150000
DTSTAMP:20260421T131854
CREATED:20260331T172004Z
LAST-MODIFIED:20260331T172216Z
UID:10010768-1775228400-1775228400@texomaconnect.com
SUMMARY:Easter Egg Hunt
DESCRIPTION:Pecan Point Assisted Living Easter Egg Hunt at Pecan Grove Park Sherman\nSpring is in the air\, and it’s time for an egg-citing tradition! Join our community for a fun-filled day at our Easter Egg Hunt\, where families\, friends\, and residents can come together to celebrate the joy of the season.Bring your little ones for an egg hunt\, enjoy festive treats\, and be sure to take plenty of pictures with the Easter Bunny. It’s a wonderful opportunity to make memories\, share smiles\, and experience the warmth of our community. This event is free and open to the public. We look forward to celebrating with you!
URL:https://texomaconnect.com/event/easter-egg-hunt-4-3-2026/
LOCATION:Pecan Grove East Park\, 3200 Canyon Creek Dr\, Sherman\, 75092\, United States
CATEGORIES:Easter Events,Youth Activities
ATTACH;FMTTYPE=image/png:https://texomaconnect.com/wp-content/uploads/2026/03/Easter-Egg-Hunt.png
GEO:33.662303;-96.6494812
X-APPLE-STRUCTURED-LOCATION;VALUE=URI;X-ADDRESS=Pecan Grove East Park 3200 Canyon Creek Dr Sherman 75092 United States;X-APPLE-RADIUS=500;X-TITLE=3200 Canyon Creek Dr:geo:-96.6494812,33.662303
END:VEVENT
BEGIN:VEVENT
DTSTART;TZID=America/Chicago:20260403T170000
DTEND;TZID=America/Chicago:20260403T203000
DTSTAMP:20260421T131854
CREATED:20260331T184420Z
LAST-MODIFIED:20260331T184421Z
UID:10010781-1775235600-1775248200@texomaconnect.com
SUMMARY:23rd Annual Easter Pageant
DESCRIPTION:23rd Annual Easter Pageant Kemp\, Oklahoma\nJoin the 120+ member cast and crew as they tell the story of the last week of Jesus’ earthly ministry. \nA meal will be available to all guests beginning at 5:00pm nightly in the family life center. \nApril 1\, –  April 4\, 2026 \n7pm – 8:30pm \n 
URL:https://texomaconnect.com/event/23rd-annual-easter-pageant/2026-04-03/
LOCATION:Kemp Baptist Church\, 510 Main Street\, Kemp\, OK\, 74741\, United States
CATEGORIES:Easter Events
ATTACH;FMTTYPE=image/png:https://texomaconnect.com/wp-content/uploads/2026/03/Easter-Pageant.png
GEO:33.7716243;-96.3540807
X-APPLE-STRUCTURED-LOCATION;VALUE=URI;X-ADDRESS=Kemp Baptist Church 510 Main Street Kemp OK 74741 United States;X-APPLE-RADIUS=500;X-TITLE=510 Main Street:geo:-96.3540807,33.7716243
END:VEVENT
BEGIN:VEVENT
DTSTART;TZID=America/Chicago:20260404T100000
DTEND;TZID=America/Chicago:20260404T100000
DTSTAMP:20260421T131854
CREATED:20260311T171554Z
LAST-MODIFIED:20260311T171554Z
UID:10009875-1775296800-1775296800@texomaconnect.com
SUMMARY:Denison Easter EGG-stravaganza
DESCRIPTION:Denison Easter EGG-stravaganza in downtown Denison\nSpring is here\, and Downtown Denison is ready to celebrate with a shopping adventure like no other! Join us on Saturday\, April 4th for the DDI Easter Egg-stravaganza\, where you’ll explore boutiques\, candy stores\, restaurants\, and more while hunting for hidden Easter eggs filled with discounts\, prizes\, and surprises! \n\nWhat You’ll Find Downtown:Fashion & Boutiques – Browse trendy women’s and men’s clothing\, accessories\, and home décor.Sweet Treats & Snacks – Stop by candy shops\, bakeries\, and gourmet popcorn for a delicious Easter pick-me-up!Restaurants & Cafés – Take a break from shopping to enjoy brunch\, lunch\, or dinner at one of Denison’s amazing eateries.Art & Unique Finds – Explore art galleries\, antique stores\, and specialty shops for one-of-a-kind gifts.Self-Care & Beauty – Treat yourself at salons\, spas\, and wellness studios while you’re downtown!\n\n  \n\nHow the Egg Hunt Works:Visit participating businesses and search for hidden eggs.Each egg contains a discount\, special offer\, or prize just for you!Find incredible deals on fashion\, gifts\, home décor\, food\, and more!\n\nMore surprises to come!\nCome for the hunt\, stay for the shopping\, dining\, and fun! Whether you’re looking for Easter gifts\, spring fashion\, or a fun day out with friends & family\, you’ll find it all in Downtown Denison.
URL:https://texomaconnect.com/event/denison-easter-egg-stravaganza/
LOCATION:Downtown Denison\, Main Street\, Denison\, TX\, 75020\, United States
CATEGORIES:Easter Events
ATTACH;FMTTYPE=image/png:https://texomaconnect.com/wp-content/uploads/2026/03/Denison-Easter-Egg-Stravaganza.png
GEO:33.755586;-96.537255
X-APPLE-STRUCTURED-LOCATION;VALUE=URI;X-ADDRESS=Downtown Denison Main Street Denison TX 75020 United States;X-APPLE-RADIUS=500;X-TITLE=Main Street:geo:-96.537255,33.755586
END:VEVENT
BEGIN:VEVENT
DTSTART;TZID=America/Chicago:20260404T110000
DTEND;TZID=America/Chicago:20260404T230000
DTSTAMP:20260421T131854
CREATED:20260311T163944Z
LAST-MODIFIED:20260311T163944Z
UID:10009874-1775300400-1775343600@texomaconnect.com
SUMMARY:Cedar Mills Easter Egg Hunt
DESCRIPTION:Cedar Mills Easter Egg Hunt\nSaturday\, April 4\, 2026\, at 11:00 am at the Lodge in the RV Park.  Easter Snacks & Easter Bunny photo op
URL:https://texomaconnect.com/event/cedar-mills-easter-egg-hunt/
LOCATION:Cedar Mills Marina & Resort\, 500 Harbour View Rd\, Gordonville\, TX\, 76245\, United States
CATEGORIES:Easter Events,Lake Texoma event,Youth Activities
ATTACH;FMTTYPE=image/png:https://texomaconnect.com/wp-content/uploads/2022/04/Easter-Eggs.png
GEO:33.8335357;-96.8115723
X-APPLE-STRUCTURED-LOCATION;VALUE=URI;X-ADDRESS=Cedar Mills Marina & Resort 500 Harbour View Rd Gordonville TX 76245 United States;X-APPLE-RADIUS=500;X-TITLE=500 Harbour View Rd:geo:-96.8115723,33.8335357
END:VEVENT
BEGIN:VEVENT
DTSTART;TZID=America/Chicago:20260404T120000
DTEND;TZID=America/Chicago:20260404T120000
DTSTAMP:20260421T131854
CREATED:20260221T220645Z
LAST-MODIFIED:20260221T220645Z
UID:10009844-1775304000-1775304000@texomaconnect.com
SUMMARY:Willow Springs Easter Egg Hunt 2026
DESCRIPTION:Willow Springs Marina and Resort Easter Egg Hunt 2026\nEaster is coming to Willow Springs Marina!\nJoin us on Saturday | April 4\, 2026 for a fun-filled Easter Egg Hunt made just for kids ages 2–4 and 5–8. Candy-filled eggs\, special golden prize eggs\, exciting toy prizes\, and a day full of springtime fun await the whole family.\n12:00–1:00 PM – Ages 2–4\n1:30–2:30 PM – Ages 5–8 \nDuring the break\, G & B Entertainment will have games set up in a separate area to keep the kids entertained — plus even more prizes to give away! \n 
URL:https://texomaconnect.com/event/willow-springs-easter-egg-hunt-2026/
LOCATION:Willow Springs Marina and Resort\, 1401 Willow Springs Road\, Mead\, OK\, 73449\, United States
CATEGORIES:Easter Events,Lake Texoma event,Youth Activities
ATTACH;FMTTYPE=image/png:https://texomaconnect.com/wp-content/uploads/2026/02/Willow-Springs.png
GEO:33.9805773;-96.5700395
X-APPLE-STRUCTURED-LOCATION;VALUE=URI;X-ADDRESS=Willow Springs Marina and Resort 1401 Willow Springs Road Mead OK 73449 United States;X-APPLE-RADIUS=500;X-TITLE=1401 Willow Springs Road:geo:-96.5700395,33.9805773
END:VEVENT
BEGIN:VEVENT
DTSTART;TZID=America/Chicago:20260404T130000
DTEND;TZID=America/Chicago:20260404T143000
DTSTAMP:20260421T131854
CREATED:20260312T204444Z
LAST-MODIFIED:20260331T175121Z
UID:10010268-1775307600-1775313000@texomaconnect.com
SUMMARY:Lighthouse Resort Easter Egg Hunt
DESCRIPTION:Lighthouse Resort and Texoma Destinations Easter Egg Hunt\nJoin us for Lighthouse Resort & Marina’s 5th Annual Egg Hunt at Cove Point on April 4th at 1:00 PM! \nWe’ll be gathering in the grassy area in front of the Lodge for one of our favorite events of the year. Kids ages 0–3 will hunt first\, followed by the other age groups\, so everyone gets a chance to join in the fun. \nEnjoy outdoor games and activities for all ages\, meet the Easter Bunny\, hunt for eggs\, and spend a beautiful afternoon hanging out at the lake with family and friends. \nBest of all — this event is completely free! \nWe can’t wait to celebrate with you at Cove Point!
URL:https://texomaconnect.com/event/lighthouse-resort-easter-egg-hunt/
LOCATION:Lighthouse Resort & Marina\, 300 Lighthouse Dr\, Pottsboro\, TX\, 75076\, United States
CATEGORIES:Easter Events,Lake Texoma event,Youth Activities
ATTACH;FMTTYPE=image/png:https://texomaconnect.com/wp-content/uploads/2026/03/Lighthouse-Resort-Easter-Egg-Hunt.png
GEO:33.8601974;-96.6623175
X-APPLE-STRUCTURED-LOCATION;VALUE=URI;X-ADDRESS=Lighthouse Resort & Marina 300 Lighthouse Dr Pottsboro TX 75076 United States;X-APPLE-RADIUS=500;X-TITLE=300 Lighthouse Dr:geo:-96.6623175,33.8601974
END:VEVENT
BEGIN:VEVENT
DTSTART;TZID=America/Chicago:20260404T130000
DTEND;TZID=America/Chicago:20260404T143000
DTSTAMP:20260421T131854
CREATED:20260331T175013Z
LAST-MODIFIED:20260331T175013Z
UID:10010772-1775307600-1775313000@texomaconnect.com
SUMMARY:5th Annual Egg Hunt
DESCRIPTION:5th Annual Egg Hunt at Lighthouse Marina on Lake Texoma\nJoin us for Lighthouse Resort & Marina’s 5th Annual Egg Hunt at Cove Point on April 4th at 1:00 PM!\nWe’ll be gathering in the grassy area in front of the Lodge for one of our favorite events of the year. Kids ages 0–3 will hunt first\, followed by the other age groups\, so everyone gets a chance to join in the fun.\nEnjoy outdoor games and activities for all ages\, meet the Easter Bunny\, hunt for eggs\, and spend a beautiful afternoon hanging out at the lake with family and friends.\nBest of all — this event is completely free!\nWe can’t wait to celebrate with you at Cove Point!
URL:https://texomaconnect.com/event/5th-annual-egg-hunt/
LOCATION:Lighthouse Resort & Marina\, 300 Lighthouse Dr\, Pottsboro\, TX\, 75076\, United States
CATEGORIES:Easter Events,Lake Texoma event,Youth Activities
ATTACH;FMTTYPE=image/png:https://texomaconnect.com/wp-content/uploads/2026/03/Lighthouse-Marina-Egg-Hunt.png
GEO:33.8601974;-96.6623175
X-APPLE-STRUCTURED-LOCATION;VALUE=URI;X-ADDRESS=Lighthouse Resort & Marina 300 Lighthouse Dr Pottsboro TX 75076 United States;X-APPLE-RADIUS=500;X-TITLE=300 Lighthouse Dr:geo:-96.6623175,33.8601974
END:VEVENT
BEGIN:VEVENT
DTSTART;TZID=America/Chicago:20260404T170000
DTEND;TZID=America/Chicago:20260404T203000
DTSTAMP:20260421T131854
CREATED:20260331T184420Z
LAST-MODIFIED:20260331T184421Z
UID:10010782-1775322000-1775334600@texomaconnect.com
SUMMARY:23rd Annual Easter Pageant
DESCRIPTION:23rd Annual Easter Pageant Kemp\, Oklahoma\nJoin the 120+ member cast and crew as they tell the story of the last week of Jesus’ earthly ministry. \nA meal will be available to all guests beginning at 5:00pm nightly in the family life center. \nApril 1\, –  April 4\, 2026 \n7pm – 8:30pm \n 
URL:https://texomaconnect.com/event/23rd-annual-easter-pageant/2026-04-04/
LOCATION:Kemp Baptist Church\, 510 Main Street\, Kemp\, OK\, 74741\, United States
CATEGORIES:Easter Events
ATTACH;FMTTYPE=image/png:https://texomaconnect.com/wp-content/uploads/2026/03/Easter-Pageant.png
GEO:33.7716243;-96.3540807
X-APPLE-STRUCTURED-LOCATION;VALUE=URI;X-ADDRESS=Kemp Baptist Church 510 Main Street Kemp OK 74741 United States;X-APPLE-RADIUS=500;X-TITLE=510 Main Street:geo:-96.3540807,33.7716243
END:VEVENT
END:VCALENDAR