BEGIN:VCALENDAR
VERSION:2.0
PRODID:-//Texoma Connect - ECPv6.15.20//NONSGML v1.0//EN
CALSCALE:GREGORIAN
METHOD:PUBLISH
X-WR-CALNAME:Texoma Connect
X-ORIGINAL-URL:https://texomaconnect.com
X-WR-CALDESC:Events for Texoma Connect
REFRESH-INTERVAL;VALUE=DURATION:PT1H
X-Robots-Tag:noindex
X-PUBLISHED-TTL:PT1H
BEGIN:VTIMEZONE
TZID:America/Chicago
BEGIN:DAYLIGHT
TZOFFSETFROM:-0600
TZOFFSETTO:-0500
TZNAME:CDT
DTSTART:20250309T080000
END:DAYLIGHT
BEGIN:STANDARD
TZOFFSETFROM:-0500
TZOFFSETTO:-0600
TZNAME:CST
DTSTART:20251102T070000
END:STANDARD
BEGIN:DAYLIGHT
TZOFFSETFROM:-0600
TZOFFSETTO:-0500
TZNAME:CDT
DTSTART:20260308T080000
END:DAYLIGHT
BEGIN:STANDARD
TZOFFSETFROM:-0500
TZOFFSETTO:-0600
TZNAME:CST
DTSTART:20261101T070000
END:STANDARD
BEGIN:DAYLIGHT
TZOFFSETFROM:-0600
TZOFFSETTO:-0500
TZNAME:CDT
DTSTART:20270314T080000
END:DAYLIGHT
BEGIN:STANDARD
TZOFFSETFROM:-0500
TZOFFSETTO:-0600
TZNAME:CST
DTSTART:20271107T070000
END:STANDARD
END:VTIMEZONE
BEGIN:VEVENT
DTSTART;TZID=America/Chicago:20260416T180000
DTEND;TZID=America/Chicago:20260416T213000
DTSTAMP:20260421T103347
CREATED:20260109T225604Z
LAST-MODIFIED:20260109T230127Z
UID:10009593-1776362400-1776375000@texomaconnect.com
SUMMARY:History in the Hall Road Show
DESCRIPTION:History in the Hall Road Show Denison Texas\nDowntown Denison’s History in the Hall Road Show brings the past to life through engaging storytelling\, music\, and reenactments hosted at unique local venues throughout the city. This traveling history series offers entertaining and educational programs focused on Denison’s rich heritage\, the legacy of Doc Holliday\, and— in celebration of America 250 — the broader historical stories of Grayson County and the Texoma region. \n\n\n\nBy blending historical interpretation with local gathering spaces\, History in the Hall creates meaningful connections between Denison’s past and present\, inviting residents to experience history in an approachable\, engaging\, and fun way. \n2025 History in the Hall Road Show Schedule\n\n\n\nApril 16\nSam Oswald & the Red River “Reliables” — Railroad-Era Stories & Music\nRed River Railroad Museum
URL:https://texomaconnect.com/event/history-in-the-hall-road-show-4/
LOCATION:The Horse’s Axe\, 123 W Main Street\, Denison\, TX\, 75020\, United States
CATEGORIES:Entertainment,Self Enrichment
ATTACH;FMTTYPE=image/png:https://texomaconnect.com/wp-content/uploads/2026/01/History-in-the-Hall.png
GEO:33.7555466;-96.5363382
X-APPLE-STRUCTURED-LOCATION;VALUE=URI;X-ADDRESS=The Horse’s Axe 123 W Main Street Denison TX 75020 United States;X-APPLE-RADIUS=500;X-TITLE=123 W Main Street:geo:-96.5363382,33.7555466
END:VEVENT
BEGIN:VEVENT
DTSTART;TZID=America/Chicago:20260417T140000
DTEND;TZID=America/Chicago:20260417T140000
DTSTAMP:20260421T103347
CREATED:20260218T180748Z
LAST-MODIFIED:20260218T180748Z
UID:10010793-1776434400-1776434400@texomaconnect.com
SUMMARY:Once Upon a Pandora's Box
DESCRIPTION:Sherman Community Players presents Once Upon Pandora’s Box\nOnce upon a time in New York City\, Tabitha and her brother Louis discover a box sitting in the hall of their apartment. Curious\, Tabitha opens the box\, allowing five imprisoned fairy tale villains to escape. Free at last\, the dastardly villains begin to wreck the apartment\, but when they discover that writing in Tabitha’s notebook will give them control of other fictional characters\, things really get dicey. Will Tabitha harness the power of her storytelling? Or will the fairy tale villains run wild in New York? A clever comedy that demonstrates the importance of villains in every story. \nTickets\n 
URL:https://texomaconnect.com/event/once-upon-a-pandoras-box/2026-04-17/
LOCATION:Finley Theatre\, 500 N Elm Street\, Sherman\, TX\, 75090\, United States
CATEGORIES:Entertainment,Theatre
ATTACH;FMTTYPE=image/png:https://texomaconnect.com/wp-content/uploads/2026/02/Once-Upon-A-Pandoras-Box.png
GEO:33.6396661;-96.6133405
X-APPLE-STRUCTURED-LOCATION;VALUE=URI;X-ADDRESS=Finley Theatre 500 N Elm Street Sherman TX 75090 United States;X-APPLE-RADIUS=500;X-TITLE=500 N Elm Street:geo:-96.6133405,33.6396661
END:VEVENT
BEGIN:VEVENT
DTSTART;TZID=America/Chicago:20260417T193000
DTEND;TZID=America/Chicago:20260417T193000
DTSTAMP:20260421T103347
CREATED:20260106T205143Z
LAST-MODIFIED:20260106T205143Z
UID:10009573-1776454200-1776454200@texomaconnect.com
SUMMARY:Hardy: Country! Country! Tour
DESCRIPTION:Hardy: Country! Country! Tour with McCoy Moore at Choctaw Durant\nChoctaw Grand Theater \nDoors 6:30pm\n7:30pm-8:10pm McCoy Moore\n8:40pm – 10:15pm Hardy\n10:30pm curfew \nGET TICKETS\nTicketmaster is the official ticketing agent of Choctaw Casinos & Resorts.   Some links on this page are affiliate links. If you buy tickets through Ticketmaster using our link\, Texoma Connect may earn a small commission at no extra cost to you. \nHardy is a popular American country and country rock artist known for his genre-blending sound\, heavy rock influence\, and songwriting for major artists like Morgan Wallen and Florida Georgia Line\, breaking out as a performer with hits like “One Beer” and “Wait in the Truck\,” and blending country and rock themes on albums such as The Mockingbird & the Crow \nMaking the whole damn country\, country\, Hardy continues an electric run with the release of his new studio album Country! Country! A five-time ACM award winner and two-time CMA award winner\, HARDY has also won three CMA Triple Play awards\, was named the 2022 BMI Country Songwriter of the Year and is a three-time AIMP Songwriter of the Year. He’s collaborated and shared stages with Thomas Rhett\, Morgan Wallen\, Florida Georgia Line and more.
URL:https://texomaconnect.com/event/hardy-country-country-tour/
LOCATION:Choctaw Casino Resort – Durant\, 4216 Hwy 69\, DURANT\, OK\, 74702\, United States
CATEGORIES:Entertainment,Live Music
ATTACH;FMTTYPE=image/png:https://texomaconnect.com/wp-content/uploads/2026/01/Hardy.png
GEO:33.952011;-96.412608
X-APPLE-STRUCTURED-LOCATION;VALUE=URI;X-ADDRESS=Choctaw Casino Resort – Durant 4216 Hwy 69 DURANT OK 74702 United States;X-APPLE-RADIUS=500;X-TITLE=4216 Hwy 69:geo:-96.412608,33.952011
END:VEVENT
BEGIN:VEVENT
DTSTART;TZID=America/Chicago:20260418T140000
DTEND;TZID=America/Chicago:20260418T140000
DTSTAMP:20260421T103347
CREATED:20260218T180748Z
LAST-MODIFIED:20260218T180748Z
UID:10010794-1776520800-1776520800@texomaconnect.com
SUMMARY:Once Upon a Pandora's Box
DESCRIPTION:Sherman Community Players presents Once Upon Pandora’s Box\nOnce upon a time in New York City\, Tabitha and her brother Louis discover a box sitting in the hall of their apartment. Curious\, Tabitha opens the box\, allowing five imprisoned fairy tale villains to escape. Free at last\, the dastardly villains begin to wreck the apartment\, but when they discover that writing in Tabitha’s notebook will give them control of other fictional characters\, things really get dicey. Will Tabitha harness the power of her storytelling? Or will the fairy tale villains run wild in New York? A clever comedy that demonstrates the importance of villains in every story. \nTickets\n 
URL:https://texomaconnect.com/event/once-upon-a-pandoras-box/2026-04-18/
LOCATION:Finley Theatre\, 500 N Elm Street\, Sherman\, TX\, 75090\, United States
CATEGORIES:Entertainment,Theatre
ATTACH;FMTTYPE=image/png:https://texomaconnect.com/wp-content/uploads/2026/02/Once-Upon-A-Pandoras-Box.png
GEO:33.6396661;-96.6133405
X-APPLE-STRUCTURED-LOCATION;VALUE=URI;X-ADDRESS=Finley Theatre 500 N Elm Street Sherman TX 75090 United States;X-APPLE-RADIUS=500;X-TITLE=500 N Elm Street:geo:-96.6133405,33.6396661
END:VEVENT
BEGIN:VEVENT
DTSTART;TZID=America/Chicago:20260418T193000
DTEND;TZID=America/Chicago:20260418T193000
DTSTAMP:20260421T103347
CREATED:20260106T205539Z
LAST-MODIFIED:20260106T210320Z
UID:10009574-1776540600-1776540600@texomaconnect.com
SUMMARY:Hardy: Country! Country! Tour
DESCRIPTION:Hardy: Country! Country! Tour with McCoy Moore at Choctaw Durant\nChoctaw Grand Theater \nDoors 6:30pm\n7:30pm-8:10pm McCoy Moore\n8:40pm – 10:15pm Hardy\n10:30pm curfew \nGET TICKETS\nTicketmaster is the official ticketing agent of Choctaw Casinos & Resorts.   Some links on this page are affiliate links. If you buy tickets through Ticketmaster using our link\, Texoma Connect may earn a small commission at no extra cost to you. \nHardy is a popular American country and country rock artist known for his genre-blending sound\, heavy rock influence\, and songwriting for major artists like Morgan Wallen and Florida Georgia Line\, breaking out as a performer with hits like “One Beer” and “Wait in the Truck\,” and blending country and rock themes on albums such as The Mockingbird & the Crow \nMaking the whole damn country\, country\, Hardy continues an electric run with the release of his new studio album Country! Country! A five-time ACM award winner and two-time CMA award winner\, HARDY has also won three CMA Triple Play awards\, was named the 2022 BMI Country Songwriter of the Year and is a three-time AIMP Songwriter of the Year. He’s collaborated and shared stages with Thomas Rhett\, Morgan Wallen\, Florida Georgia Line and more.
URL:https://texomaconnect.com/event/hardy-country-country-tour-2/
LOCATION:Choctaw Casino Resort – Durant\, 4216 Hwy 69\, DURANT\, OK\, 74702\, United States
CATEGORIES:Entertainment,Live Music
ATTACH;FMTTYPE=image/png:https://texomaconnect.com/wp-content/uploads/2026/01/Hardy.png
GEO:33.952011;-96.412608
X-APPLE-STRUCTURED-LOCATION;VALUE=URI;X-ADDRESS=Choctaw Casino Resort – Durant 4216 Hwy 69 DURANT OK 74702 United States;X-APPLE-RADIUS=500;X-TITLE=4216 Hwy 69:geo:-96.412608,33.952011
END:VEVENT
END:VCALENDAR