BEGIN:VCALENDAR
VERSION:2.0
PRODID:-//Texoma Connect - ECPv6.15.20//NONSGML v1.0//EN
CALSCALE:GREGORIAN
METHOD:PUBLISH
X-WR-CALNAME:Texoma Connect
X-ORIGINAL-URL:https://texomaconnect.com
X-WR-CALDESC:Events for Texoma Connect
REFRESH-INTERVAL;VALUE=DURATION:PT1H
X-Robots-Tag:noindex
X-PUBLISHED-TTL:PT1H
BEGIN:VTIMEZONE
TZID:America/Chicago
BEGIN:DAYLIGHT
TZOFFSETFROM:-0600
TZOFFSETTO:-0500
TZNAME:CDT
DTSTART:20250309T080000
END:DAYLIGHT
BEGIN:STANDARD
TZOFFSETFROM:-0500
TZOFFSETTO:-0600
TZNAME:CST
DTSTART:20251102T070000
END:STANDARD
BEGIN:DAYLIGHT
TZOFFSETFROM:-0600
TZOFFSETTO:-0500
TZNAME:CDT
DTSTART:20260308T080000
END:DAYLIGHT
BEGIN:STANDARD
TZOFFSETFROM:-0500
TZOFFSETTO:-0600
TZNAME:CST
DTSTART:20261101T070000
END:STANDARD
BEGIN:DAYLIGHT
TZOFFSETFROM:-0600
TZOFFSETTO:-0500
TZNAME:CDT
DTSTART:20270314T080000
END:DAYLIGHT
BEGIN:STANDARD
TZOFFSETFROM:-0500
TZOFFSETTO:-0600
TZNAME:CST
DTSTART:20271107T070000
END:STANDARD
END:VTIMEZONE
BEGIN:VEVENT
DTSTART;TZID=America/Chicago:20260508T140000
DTEND;TZID=America/Chicago:20260508T140000
DTSTAMP:20260421T103215
CREATED:20260218T180748Z
LAST-MODIFIED:20260218T180748Z
UID:10010799-1778248800-1778248800@texomaconnect.com
SUMMARY:Once Upon a Pandora's Box
DESCRIPTION:Sherman Community Players presents Once Upon Pandora’s Box\nOnce upon a time in New York City\, Tabitha and her brother Louis discover a box sitting in the hall of their apartment. Curious\, Tabitha opens the box\, allowing five imprisoned fairy tale villains to escape. Free at last\, the dastardly villains begin to wreck the apartment\, but when they discover that writing in Tabitha’s notebook will give them control of other fictional characters\, things really get dicey. Will Tabitha harness the power of her storytelling? Or will the fairy tale villains run wild in New York? A clever comedy that demonstrates the importance of villains in every story. \nTickets\n 
URL:https://texomaconnect.com/event/once-upon-a-pandoras-box/2026-05-08/
LOCATION:Finley Theatre\, 500 N Elm Street\, Sherman\, TX\, 75090\, United States
CATEGORIES:Entertainment,Theatre
ATTACH;FMTTYPE=image/png:https://texomaconnect.com/wp-content/uploads/2026/02/Once-Upon-A-Pandoras-Box.png
GEO:33.6396661;-96.6133405
X-APPLE-STRUCTURED-LOCATION;VALUE=URI;X-ADDRESS=Finley Theatre 500 N Elm Street Sherman TX 75090 United States;X-APPLE-RADIUS=500;X-TITLE=500 N Elm Street:geo:-96.6133405,33.6396661
END:VEVENT
BEGIN:VEVENT
DTSTART;TZID=America/Chicago:20260509T110000
DTEND;TZID=America/Chicago:20260509T110000
DTSTAMP:20260421T103215
CREATED:20260223T175455Z
LAST-MODIFIED:20260223T175455Z
UID:10009852-1778324400-1778324400@texomaconnect.com
SUMMARY:Sherman Showdown
DESCRIPTION:2nd Annual Sherman Showdown Food Truck Competition\nGREAT Food! Up to 25 Food Trucks!GREAT Music! Two stages\, two great sounds!GREAT Fun! Kids Zone\, Corn Hole\, Adult Beverages!GREAT Prizes! $5\,000 for the Food Trucks!Have a food truck and want to compete? Click here: downtownsherman.comJoin us in historic Downtown Sherman on May 9th for Grayson County’s favorite Food Truck Competition! 11:00-3:00 is the actual competition with trucks selling samples of their competition foods. From 3:00-7:00 trucks will offer a full menu. Music\, Games\, Shopping all day. Free to attend. Food and beverages for purchase.
URL:https://texomaconnect.com/event/sherman-showdown/
LOCATION:100 W Houston St\, Sherman\, TX 75090-5910\, United States
CATEGORIES:Entertainment
ATTACH;FMTTYPE=image/png:https://texomaconnect.com/wp-content/uploads/2026/02/Sherman-Showdown-Food-Truck-Competition.png
END:VEVENT
BEGIN:VEVENT
DTSTART;TZID=America/Chicago:20260509T140000
DTEND;TZID=America/Chicago:20260509T140000
DTSTAMP:20260421T103215
CREATED:20260218T180748Z
LAST-MODIFIED:20260218T180748Z
UID:10010800-1778335200-1778335200@texomaconnect.com
SUMMARY:Once Upon a Pandora's Box
DESCRIPTION:Sherman Community Players presents Once Upon Pandora’s Box\nOnce upon a time in New York City\, Tabitha and her brother Louis discover a box sitting in the hall of their apartment. Curious\, Tabitha opens the box\, allowing five imprisoned fairy tale villains to escape. Free at last\, the dastardly villains begin to wreck the apartment\, but when they discover that writing in Tabitha’s notebook will give them control of other fictional characters\, things really get dicey. Will Tabitha harness the power of her storytelling? Or will the fairy tale villains run wild in New York? A clever comedy that demonstrates the importance of villains in every story. \nTickets\n 
URL:https://texomaconnect.com/event/once-upon-a-pandoras-box/2026-05-09/
LOCATION:Finley Theatre\, 500 N Elm Street\, Sherman\, TX\, 75090\, United States
CATEGORIES:Entertainment,Theatre
ATTACH;FMTTYPE=image/png:https://texomaconnect.com/wp-content/uploads/2026/02/Once-Upon-A-Pandoras-Box.png
GEO:33.6396661;-96.6133405
X-APPLE-STRUCTURED-LOCATION;VALUE=URI;X-ADDRESS=Finley Theatre 500 N Elm Street Sherman TX 75090 United States;X-APPLE-RADIUS=500;X-TITLE=500 N Elm Street:geo:-96.6133405,33.6396661
END:VEVENT
BEGIN:VEVENT
DTSTART;TZID=America/Chicago:20260509T140000
DTEND;TZID=America/Chicago:20260509T210000
DTSTAMP:20260421T103215
CREATED:20260312T185507Z
LAST-MODIFIED:20260312T190411Z
UID:10010258-1778335200-1778360400@texomaconnect.com
SUMMARY:Celina Cajun Fest 2026
DESCRIPTION:Celina Cajun Festival\nGet ready to pinch some crawfish tails and stomp your boots at the 14th annual Celina Cajun Fest! North Texas’ Biggest Crawfish Boil returns on Saturday\, May 9th\, where Celina’s Downtown Square transforms into a Cajun culinary destination. \nDig into a mountain of Texas-sized crawfish while the hottest Cajun and Zydeco bands crank up the heat with two-steppin tunes. Get your fill of gumbo\, jambalaya\, and all the fixin’s\, browse unique handmade goodies\, and watch alligators snap and roll in live educational shows. Plus\, a free kid zone brimming with carnival fun keeps the whole family groovin’! \n2026 Stage lineup TBA! Mark your calendars for a day of Cajun flavor\, LIVE music\, and memories that’ll stick like hot sauce. Let the good times roll\, Celina! \nThis event is free to the public. Interested in supporting us? Become a sponsor or volunteer. \nLet the good times roll\, Celina! \nDisclaimer: Please be aware that only posts made by the official event organizer on this page are verified. For information regarding vendor and market applications\, please visit our official website at www.LifeInCelinaTX.com
URL:https://texomaconnect.com/event/celina-cajun-fest-2026/
LOCATION:Downtown Celina\, 302 West Walnut Street\, Celina\, TX\, 75009\, United States
CATEGORIES:Entertainment,Festival,Live Music
ATTACH;FMTTYPE=image/png:https://texomaconnect.com/wp-content/uploads/2026/03/Celina-Cajun-Fest.png
GEO:33.3237998;-96.7866074
X-APPLE-STRUCTURED-LOCATION;VALUE=URI;X-ADDRESS=Downtown Celina 302 West Walnut Street Celina TX 75009 United States;X-APPLE-RADIUS=500;X-TITLE=302 West Walnut Street:geo:-96.7866074,33.3237998
END:VEVENT
BEGIN:VEVENT
DTSTART;TZID=America/Chicago:20260509T200000
DTEND;TZID=America/Chicago:20260509T200000
DTSTAMP:20260421T103215
CREATED:20260106T212717Z
LAST-MODIFIED:20260106T212717Z
UID:10009576-1778356800-1778356800@texomaconnect.com
SUMMARY:STING 3.0 Tour at Choctaw
DESCRIPTION:STING 3.0 Tour at Choctaw Grand Theater Durant\nCHOCTAW GRAND THEATER\nDoors open at 6:30 | Showtime at 8pm \n\nGET TICKETS\nTicketmaster is the official ticketing agent of Choctaw Casinos & Resorts.  Some links on this page are affiliate links. If you buy tickets through Ticketmaster using our link\, Texoma Connect may earn a small commission at no extra cost to you. \n \nSting is a 17-time Grammy-winning artist and a founding member of the pioneering new wave band The Police. Born in Wallsend\, England\, Gordon Sumner\, a.k.a. Sting\, became one of the best-selling artists of all-time as the bassist and frontman of The Police. The band released five studio albums and six Top 10 singles\, including the Sting-penned No. 1 hit “Every Breath You Take\,” before disbanding in 1986. The band was inducted into the Rock and Roll Hall of Fame in 2003\, and their 2008 reunion tour was the third highest-grossing tour of the ’00s. Since releasing his 1985 solo debut The Dream of the Blue Turtles\, Sting has been recognized with a British CBE and an Emmy\, featured at the Kennedy Center Honors and inducted to the Songwriters Hall of Fame. He has also received four Oscar nominations\, and his 2014 Broadway musical The Last Ship\, which was inspired by his childhood and featured music and lyrics by Sting\, was nominated for two Tony Awards. A constant experimenter of genres including jazz\, pop\, classical and world music\, Sting won the Grammy for Best Reggae Album in 2019 with Shaggy for their 2018 collaborative album 44/876. \n 
URL:https://texomaconnect.com/event/sting-3-0-tour-at-choctaw/
LOCATION:Choctaw Casino Resort – Durant\, 4216 Hwy 69\, DURANT\, OK\, 74702\, United States
CATEGORIES:Entertainment,Live Music
ATTACH;FMTTYPE=image/png:https://texomaconnect.com/wp-content/uploads/2026/01/STING.png
GEO:33.952011;-96.412608
X-APPLE-STRUCTURED-LOCATION;VALUE=URI;X-ADDRESS=Choctaw Casino Resort – Durant 4216 Hwy 69 DURANT OK 74702 United States;X-APPLE-RADIUS=500;X-TITLE=4216 Hwy 69:geo:-96.412608,33.952011
END:VEVENT
END:VCALENDAR