BEGIN:VCALENDAR
VERSION:2.0
PRODID:-//Texoma Connect - ECPv6.15.20//NONSGML v1.0//EN
CALSCALE:GREGORIAN
METHOD:PUBLISH
X-ORIGINAL-URL:https://texomaconnect.com
X-WR-CALDESC:Events for Texoma Connect
REFRESH-INTERVAL;VALUE=DURATION:PT1H
X-Robots-Tag:noindex
X-PUBLISHED-TTL:PT1H
BEGIN:VTIMEZONE
TZID:America/Chicago
BEGIN:DAYLIGHT
TZOFFSETFROM:-0600
TZOFFSETTO:-0500
TZNAME:CDT
DTSTART:20250309T080000
END:DAYLIGHT
BEGIN:STANDARD
TZOFFSETFROM:-0500
TZOFFSETTO:-0600
TZNAME:CST
DTSTART:20251102T070000
END:STANDARD
BEGIN:DAYLIGHT
TZOFFSETFROM:-0600
TZOFFSETTO:-0500
TZNAME:CDT
DTSTART:20260308T080000
END:DAYLIGHT
BEGIN:STANDARD
TZOFFSETFROM:-0500
TZOFFSETTO:-0600
TZNAME:CST
DTSTART:20261101T070000
END:STANDARD
BEGIN:DAYLIGHT
TZOFFSETFROM:-0600
TZOFFSETTO:-0500
TZNAME:CDT
DTSTART:20270314T080000
END:DAYLIGHT
BEGIN:STANDARD
TZOFFSETFROM:-0500
TZOFFSETTO:-0600
TZNAME:CST
DTSTART:20271107T070000
END:STANDARD
END:VTIMEZONE
BEGIN:VEVENT
DTSTART;TZID=America/Chicago:20260627T170000
DTEND;TZID=America/Chicago:20260627T170000
DTSTAMP:20260421T090851
CREATED:20260320T173818Z
LAST-MODIFIED:20260320T173818Z
UID:10010761-1782579600-1782579600@texomaconnect.com
SUMMARY:Splash and Blast
DESCRIPTION:Celina Splash and Blast\nIt’s time for this year’s Splash & Blast\, Celina’s Biggest Summer Bash at Old Celina Park! Join us on Saturday\, June 27\, from 5:00 – 10:00 PM for an unforgettable day of family-friendly fun and entertainment.\nBring the whole family for a day packed with excitement – admission is FREE! Enjoy live music and dive into the thrill of our Kids Zone\, complete with water slides and more. Kids can conquer the Ninja Nation Obstacle Course (remember to bring those closed-toe shoes!). It’s an adventure-filled day where laughter and joy abound.\nDisclaimer: Please be aware that only posts made by the official event organizer on this page are verified. For information regarding vendor and market applications\, please visit our official website at www.LifeInCelinaTX.com We cannot guarantee the accuracy of information shared by other users.
URL:https://texomaconnect.com/event/splash-and-blast/
LOCATION:Old Celina Park\, 1270 FM 428\, Celina\, TX\, 75009\, United States
CATEGORIES:July 4th Celebrations,Youth Activities
ATTACH;FMTTYPE=image/png:https://texomaconnect.com/wp-content/uploads/2026/03/Celina-Splash-Blast-Fireworks.png
GEO:33.318665;-96.803318
X-APPLE-STRUCTURED-LOCATION;VALUE=URI;X-ADDRESS=Old Celina Park 1270 FM 428 Celina TX 75009 United States;X-APPLE-RADIUS=500;X-TITLE=1270 FM 428:geo:-96.803318,33.318665
END:VEVENT
END:VCALENDAR