BEGIN:VCALENDAR
VERSION:2.0
PRODID:-//Texoma Connect - ECPv6.15.20//NONSGML v1.0//EN
CALSCALE:GREGORIAN
METHOD:PUBLISH
X-ORIGINAL-URL:https://texomaconnect.com
X-WR-CALDESC:Events for Texoma Connect
REFRESH-INTERVAL;VALUE=DURATION:PT1H
X-Robots-Tag:noindex
X-PUBLISHED-TTL:PT1H
BEGIN:VTIMEZONE
TZID:America/Chicago
BEGIN:DAYLIGHT
TZOFFSETFROM:-0600
TZOFFSETTO:-0500
TZNAME:CDT
DTSTART:20250309T080000
END:DAYLIGHT
BEGIN:STANDARD
TZOFFSETFROM:-0500
TZOFFSETTO:-0600
TZNAME:CST
DTSTART:20251102T070000
END:STANDARD
BEGIN:DAYLIGHT
TZOFFSETFROM:-0600
TZOFFSETTO:-0500
TZNAME:CDT
DTSTART:20260308T080000
END:DAYLIGHT
BEGIN:STANDARD
TZOFFSETFROM:-0500
TZOFFSETTO:-0600
TZNAME:CST
DTSTART:20261101T070000
END:STANDARD
BEGIN:DAYLIGHT
TZOFFSETFROM:-0600
TZOFFSETTO:-0500
TZNAME:CDT
DTSTART:20270314T080000
END:DAYLIGHT
BEGIN:STANDARD
TZOFFSETFROM:-0500
TZOFFSETTO:-0600
TZNAME:CST
DTSTART:20271107T070000
END:STANDARD
END:VTIMEZONE
BEGIN:VEVENT
DTSTART;TZID=America/Chicago:20260327T150000
DTEND;TZID=America/Chicago:20260327T153000
DTSTAMP:20260421T123123
CREATED:20260313T180335Z
LAST-MODIFIED:20260313T180418Z
UID:10010663-1774623600-1774625400@texomaconnect.com
SUMMARY:Frog Chorus
DESCRIPTION:Frog Chorus at Eisenhower State Park\, Lake Texoma\nGet ready to serenade with the songs of frogs! Join a park ranger for an interactive experience where you will discover the musical world of frogs and create your own frog-inspired melodies. \nWhen: March 27th – 3 PM to 3:30 PM\nWhere: Amphitheater\nBring: water\, all materials will be provided \nReminders:\n– Events and programs are subject to cancellation due to weather.\n– Please dress for weather.\n– Attendance is free with park admission.
URL:https://texomaconnect.com/event/frog-chorus/
LOCATION:Eisenhower State Park – Texas Parks and Wildlife\, 50 Road 20\, Denison\, TX\, 75020\, United States
CATEGORIES:Lake Texoma event
ATTACH;FMTTYPE=image/png:https://texomaconnect.com/wp-content/uploads/2025/07/Eisenhower-State-Park-Lake-Texoma.png
GEO:33.816044;-96.601676
X-APPLE-STRUCTURED-LOCATION;VALUE=URI;X-ADDRESS=Eisenhower State Park – Texas Parks and Wildlife 50 Road 20 Denison TX 75020 United States;X-APPLE-RADIUS=500;X-TITLE=50 Road 20:geo:-96.601676,33.816044
END:VEVENT
END:VCALENDAR