BEGIN:VCALENDAR
VERSION:2.0
PRODID:-//Texoma Connect - ECPv6.15.20//NONSGML v1.0//EN
CALSCALE:GREGORIAN
METHOD:PUBLISH
X-WR-CALNAME:Texoma Connect
X-ORIGINAL-URL:https://texomaconnect.com
X-WR-CALDESC:Events for Texoma Connect
REFRESH-INTERVAL;VALUE=DURATION:PT1H
X-Robots-Tag:noindex
X-PUBLISHED-TTL:PT1H
BEGIN:VTIMEZONE
TZID:America/Chicago
BEGIN:DAYLIGHT
TZOFFSETFROM:-0600
TZOFFSETTO:-0500
TZNAME:CDT
DTSTART:20250309T080000
END:DAYLIGHT
BEGIN:STANDARD
TZOFFSETFROM:-0500
TZOFFSETTO:-0600
TZNAME:CST
DTSTART:20251102T070000
END:STANDARD
BEGIN:DAYLIGHT
TZOFFSETFROM:-0600
TZOFFSETTO:-0500
TZNAME:CDT
DTSTART:20260308T080000
END:DAYLIGHT
BEGIN:STANDARD
TZOFFSETFROM:-0500
TZOFFSETTO:-0600
TZNAME:CST
DTSTART:20261101T070000
END:STANDARD
BEGIN:DAYLIGHT
TZOFFSETFROM:-0600
TZOFFSETTO:-0500
TZNAME:CDT
DTSTART:20270314T080000
END:DAYLIGHT
BEGIN:STANDARD
TZOFFSETFROM:-0500
TZOFFSETTO:-0600
TZNAME:CST
DTSTART:20271107T070000
END:STANDARD
END:VTIMEZONE
BEGIN:VEVENT
DTSTART;TZID=America/Chicago:20260524T210000
DTEND;TZID=America/Chicago:20260524T210000
DTSTAMP:20260421T200417
CREATED:20260331T161052Z
LAST-MODIFIED:20260331T161052Z
UID:10010763-1779656400-1779656400@texomaconnect.com
SUMMARY:The Windbrekers Live at The Island Bar and Grill
DESCRIPTION:The Windbrekers Live at The Island Bar and Grill in Highport Marina on Lake Texoma\nOur annual Memorial Day Weekend blowout at The Island Bar and Grill is always a blast with the Ultimate Yacht Rock band\, The Windbreakers!
URL:https://texomaconnect.com/event/the-windbrekers-live-at-the-island-bar-and-grill/
LOCATION:Island Bar and Grill\, Highport Marina\, 121 Texoma Harbor Dr\, Pottsboro\, TX\, 75077\, United States
CATEGORIES:Entertainment,Lake Texoma event,Live Music
ATTACH;FMTTYPE=image/png:https://texomaconnect.com/wp-content/uploads/2026/03/The-Windbreakers.png
GEO:33.8273225;-96.7056303
X-APPLE-STRUCTURED-LOCATION;VALUE=URI;X-ADDRESS=Island Bar and Grill Highport Marina 121 Texoma Harbor Dr Pottsboro TX 75077 United States;X-APPLE-RADIUS=500;X-TITLE=121 Texoma Harbor Dr:geo:-96.7056303,33.8273225
END:VEVENT
END:VCALENDAR