BEGIN:VCALENDAR
VERSION:2.0
PRODID:-//Texoma Connect - ECPv6.15.20//NONSGML v1.0//EN
CALSCALE:GREGORIAN
METHOD:PUBLISH
X-WR-CALNAME:Texoma Connect
X-ORIGINAL-URL:https://texomaconnect.com
X-WR-CALDESC:Events for Texoma Connect
REFRESH-INTERVAL;VALUE=DURATION:PT1H
X-Robots-Tag:noindex
X-PUBLISHED-TTL:PT1H
BEGIN:VTIMEZONE
TZID:America/Chicago
BEGIN:DAYLIGHT
TZOFFSETFROM:-0600
TZOFFSETTO:-0500
TZNAME:CDT
DTSTART:20250309T080000
END:DAYLIGHT
BEGIN:STANDARD
TZOFFSETFROM:-0500
TZOFFSETTO:-0600
TZNAME:CST
DTSTART:20251102T070000
END:STANDARD
BEGIN:DAYLIGHT
TZOFFSETFROM:-0600
TZOFFSETTO:-0500
TZNAME:CDT
DTSTART:20260308T080000
END:DAYLIGHT
BEGIN:STANDARD
TZOFFSETFROM:-0500
TZOFFSETTO:-0600
TZNAME:CST
DTSTART:20261101T070000
END:STANDARD
BEGIN:DAYLIGHT
TZOFFSETFROM:-0600
TZOFFSETTO:-0500
TZNAME:CDT
DTSTART:20270314T080000
END:DAYLIGHT
BEGIN:STANDARD
TZOFFSETFROM:-0500
TZOFFSETTO:-0600
TZNAME:CST
DTSTART:20271107T070000
END:STANDARD
END:VTIMEZONE
BEGIN:VEVENT
DTSTART;TZID=America/Chicago:20260321T080000
DTEND;TZID=America/Chicago:20260321T170000
DTSTAMP:20260421T153102
CREATED:20260311T155653Z
LAST-MODIFIED:20260311T155653Z
UID:10009873-1774080000-1774112400@texomaconnect.com
SUMMARY:Burning of the Socks 2026
DESCRIPTION:Burning of the Socks on Lake Texoma 2026\nThe annual Lake Texoma Burning of the Socks will be held March 14th and March 21st\, 2026.  This unique event invites everyone out to various marinas and resorts around Lake Texoma as mariners welcome the arrival of spring.  this is a Lake Texoma tradition that you won’t want to miss! \nBuncombe Creek -March 14th\nJoin us March 14th at Buncombe Creek Marina for our annual Burning of the Socks celebration as we welcome spring and the start of boating season.  Join us for a fun-filled day featuring 30+ local vendors\, live music\, a Polar Plunge with no sign-up required\, kids games\, a free hot dog roast\, food trucks\, and a separate bonfire just for burning your socks. \nCedar Mills – March 14th\nJoin us on March 14th for a fun day of activities at the Lodge in the RV Park.  Activities include Kids Birdhouses and crafts at 2 pm\, Hot Dogs and Cold drinks after crafts.  Burning of the socks from 3 pm – 4 pm.  Welcoming of Spring at 7 pm in the Lakeside Room at Pelican’s Landing with the Trickbag band (Z Top Cover Band). \nFlowing Wells Resort – March 21st\nFlowing Wells Resort will have their Burning of the socks on March 21st. \nHighport Marina – March 21st\nSay goodbye to inter and welcome warmer days with this fun lakeside tradition.  Food\, music\, and good vibes!  Boat Show that weekend Friday the 20th through Sunday the 22nd. Burning of the Socks on March 21st \n  \nThe Legend\nLegend has it that the manager of the Annapolis Yacht Yard\, Captain Bob Turner\, decided as he was leaving work on the first day of spring\, to burn his socks.  Over the years\, the tradition has expanded along the east and west coasts and in between. \nWhat began in the 1970’s by east coast mariners has come to Lake Texoma. Terri Weir\, former Lake Texoma Association Director\, brought the idea to Lake Texoma in 2015. From only a few participants that first year\, the event continues to grow with more Lake Texoma Marinas participating and more activities being added each year. \nMariners all over the country will be holding sock burning events to shed heavy winter wear for summer attire.  In Texoma Flip Flop season begins with the week of the Spring Equinox which marks the moment when the center of the sun appears directly overhead at the Equator.
URL:https://texomaconnect.com/event/burning-of-the-socks-2026-2/
LOCATION:Lake Texoma – Playground of the Southwest\, United States
CATEGORIES:Lake Texoma event
ATTACH;FMTTYPE=image/webp:https://texomaconnect.com/wp-content/uploads/2025/01/Burning-of-the-Socks-2025.webp
GEO:33.910898;-96.675925
END:VEVENT
BEGIN:VEVENT
DTSTART;TZID=America/Chicago:20260321T080000
DTEND;TZID=America/Chicago:20260321T233000
DTSTAMP:20260421T153102
CREATED:20260223T165512Z
LAST-MODIFIED:20260223T165512Z
UID:10009849-1774080000-1774135800@texomaconnect.com
SUMMARY:The Island Bar & Grill Season Opening
DESCRIPTION:The Island Bar & Grill opens for the season on Lake Texoma March 21st\n380 Acoustics will be kicking off the music for the 2026 season opening.  Come join us and celebrate another great year of food and music
URL:https://texomaconnect.com/event/the-island-bar-grill-season-opening/
LOCATION:Island Bar and Grill\, Highport Marina\, 121 Texoma Harbor Dr\, Pottsboro\, TX\, 75077\, United States
CATEGORIES:Lake Texoma event
ATTACH;FMTTYPE=image/png:https://texomaconnect.com/wp-content/uploads/2026/02/The-Island-Bar-Grill-opening-2026.png
GEO:33.8273225;-96.7056303
X-APPLE-STRUCTURED-LOCATION;VALUE=URI;X-ADDRESS=Island Bar and Grill Highport Marina 121 Texoma Harbor Dr Pottsboro TX 75077 United States;X-APPLE-RADIUS=500;X-TITLE=121 Texoma Harbor Dr:geo:-96.7056303,33.8273225
END:VEVENT
BEGIN:VEVENT
DTSTART;TZID=America/Chicago:20260321T090000
DTEND;TZID=America/Chicago:20260321T100000
DTSTAMP:20260421T153102
CREATED:20260313T175218Z
LAST-MODIFIED:20260313T175218Z
UID:10010661-1774083600-1774087200@texomaconnect.com
SUMMARY:B.A.R.K. Ranger Hike
DESCRIPTION:B.A.R.K. Ranger Hike at Eisenhower State Park\, Lake Texoma\nExperience the ultimate dog-friendly escapade as you team up with a park ranger for a moderate\, 1-mile hike\, focusing on the B.A.R.K. principals! Upon completion\, your furry friend will receive an Eisenhower B.A.R.K. Ranger certificate. \nWhen: March 21st – 9 AM to 10 AM\nWhere: Swim Beach Parking Lot\nBring: plenty of water for you and your dog\, close toed shoes\, dog waste bags \nReminders:\n– Events and programs are subject to cancellation due to weather.\n– Please dress for weather.\n– Attendance is free with park admission
URL:https://texomaconnect.com/event/b-a-r-k-ranger-hike-3212026/
LOCATION:Eisenhower State Park – Texas Parks and Wildlife\, 50 Road 20\, Denison\, TX\, 75020\, United States
CATEGORIES:Lake Texoma event,Spring Break
ATTACH;FMTTYPE=image/png:https://texomaconnect.com/wp-content/uploads/2026/03/BARK-Ranger-Hike.png
GEO:33.816044;-96.601676
X-APPLE-STRUCTURED-LOCATION;VALUE=URI;X-ADDRESS=Eisenhower State Park – Texas Parks and Wildlife 50 Road 20 Denison TX 75020 United States;X-APPLE-RADIUS=500;X-TITLE=50 Road 20:geo:-96.601676,33.816044
END:VEVENT
BEGIN:VEVENT
DTSTART;TZID=America/Chicago:20260321T100000
DTEND;TZID=America/Chicago:20260321T120000
DTSTAMP:20260421T153102
CREATED:20260311T181905Z
LAST-MODIFIED:20260314T170821Z
UID:10009882-1774087200-1774094400@texomaconnect.com
SUMMARY:Texas Treasures: Symbols
DESCRIPTION:Spring Brak Fun for Kids: Texas Treasures – Symbols\nDiscover what makes Texas\, Texas! In our March Refuge Rocks program\, kids will explore a variety of Texas State Symbols and learn how they connect to the plants\, animals\, and natural world of our great state. Through hands-on state symbol activities and crafts\, young explorers will have fun learning Texas pride the nature-related way!\nLook for other activities March 17th and 19th\nPlease Register: https://www.friendsofhagerman.com/event-6550848?CalendarViewType=1&SelectedDate=3/2/2026
URL:https://texomaconnect.com/event/texas-treasures-symbols/
LOCATION:Hagerman National Wildlife Refuge\, 6465 Refuge Rd.\, Sherman\, TX\, 75092\, United States
CATEGORIES:Lake Texoma event,Spring Break,Youth Activities
ATTACH;FMTTYPE=image/png:https://texomaconnect.com/wp-content/uploads/2026/03/Texas-Treasures.png
GEO:33.7391209;-96.7522848
X-APPLE-STRUCTURED-LOCATION;VALUE=URI;X-ADDRESS=Hagerman National Wildlife Refuge 6465 Refuge Rd. Sherman TX 75092 United States;X-APPLE-RADIUS=500;X-TITLE=6465 Refuge Rd.:geo:-96.7522848,33.7391209
END:VEVENT
BEGIN:VEVENT
DTSTART;TZID=America/Chicago:20260321T120000
DTEND;TZID=America/Chicago:20260321T170000
DTSTAMP:20260421T153102
CREATED:20260312T205820Z
LAST-MODIFIED:20260312T205822Z
UID:10010271-1774094400-1774112400@texomaconnect.com
SUMMARY:Highport Marina's On-The-Water Boat Show
DESCRIPTION:Highport Marina On-The Water Boat Show – Lake Texoma\nWe’re gearing up for the annual Burning of the Socks celebration the weekend of March 20–22 at Highport Marina! \nWe’ll be set up at the On-Water Boat Show during the event to help officially kick off summer at the lake\, and we can’t wait to see everyone out there. \nCome by and test drive Scout Boats\, Highfield RIBs\, Berkshire\, and Veranda. Grab a cold one\, talk lake life with us\, and enjoy the seasonal opening of the Island Bar & Grill. It’s always a great time and the perfect way to welcome back lake season. \nBoat Show Hours \nFriday\, March 20: 4:00 PM – 7:00 PM\nSaturday\, March 21: 12:00 PM – 5:00 PM\nSunday\, March 22: 11:00 AM – 5:00 PM \nWe hope to see you there for a fun weekend celebrating the start of another great season on Lake Texoma!
URL:https://texomaconnect.com/event/highport-marina-on-the-water-boat-show-2/2026-03-21/
LOCATION:Highport Marina Lake Texoma\, 120 Texoma Harbor Dr\, Pottsboro\, TX\, 75076\, United States
CATEGORIES:Lake Texoma event
ATTACH;FMTTYPE=image/png:https://texomaconnect.com/wp-content/uploads/2026/02/Highport-Boat-Show-2026.png
GEO:33.8273225;-96.7056303
X-APPLE-STRUCTURED-LOCATION;VALUE=URI;X-ADDRESS=Highport Marina Lake Texoma 120 Texoma Harbor Dr Pottsboro TX 75076 United States;X-APPLE-RADIUS=500;X-TITLE=120 Texoma Harbor Dr:geo:-96.7056303,33.8273225
END:VEVENT
BEGIN:VEVENT
DTSTART;TZID=America/Chicago:20260321T130000
DTEND;TZID=America/Chicago:20260321T130000
DTSTAMP:20260421T153102
CREATED:20260313T160345Z
LAST-MODIFIED:20260313T160345Z
UID:10010650-1774098000-1774098000@texomaconnect.com
SUMMARY:Lake Texoma History and Sightseeing Tour
DESCRIPTION:Lake Texoma History and Sightseeing Tour with Fastrac Charters\nFun Facts. Amazing Experience! Hop aboard for an incredibly fun Narrated Lake Tour every Saturdays at 1pm. We will be giving interesting facts and history about Lake Texoma all while viewing some of the best scenery on the lake. Some points of interest will include area marinas\, million-dollar homes\, and the historic Denison Dam or the Islands. \nHave lunch while taking in the sites. You can pre-purchase a lunch when booking online or at our Fuel Dock Store. All of our cruises are BYOB for drinks and adult beverages (other outside food is not permitted)… don’t forget to bring your camera! \nWant a Private Lake Tour? If you’re not able to make our Scheduled Lake Tour or would like a more private experience for you and your group\, we can schedule a private lake tour starting at $230. \nAll Lake Tours depart from Lighthouse Marina Charter Dock at 300 Lighthouse Drive\, Pottsboro\, TX 75076. Please arrive 15 minutes early to start the pre-boarding process \nBOOK NOW
URL:https://texomaconnect.com/event/lake-texoma-history-and-sightseeing-tour-3-21-2026/
LOCATION:Lighthouse Resort & Marina\, 300 Lighthouse Dr\, Pottsboro\, TX\, 75076\, United States
CATEGORIES:Lake Texoma Cruise,Lake Texoma event
ATTACH;FMTTYPE=image/png:https://texomaconnect.com/wp-content/uploads/2022/02/Mellow-Yellow.png
GEO:33.8601974;-96.6623175
X-APPLE-STRUCTURED-LOCATION;VALUE=URI;X-ADDRESS=Lighthouse Resort & Marina 300 Lighthouse Dr Pottsboro TX 75076 United States;X-APPLE-RADIUS=500;X-TITLE=300 Lighthouse Dr:geo:-96.6623175,33.8601974
END:VEVENT
BEGIN:VEVENT
DTSTART;TZID=America/Chicago:20260321T130000
DTEND;TZID=America/Chicago:20260321T140000
DTSTAMP:20260421T153102
CREATED:20260313T175825Z
LAST-MODIFIED:20260313T175925Z
UID:10010662-1774098000-1774101600@texomaconnect.com
SUMMARY:Knot-ology 101
DESCRIPTION:Knot-ology 101 at Eisenhower State Park\, Lake Texoma\nTwist it. Loop it. Pull it tight. Put your skills to the test! Join a park ranger for a hands-on program where you will master knots that campers\, climbers\, and sailors have used for centuries. \nWhen: March 21st – 1 PM to 2 PM\nWhere: OHV Pavilion\nBring: All materials will be provided. \nReminders:\n– Events and programs are subject to cancellation due to weather.\n– Please dress for weather.\n– Attendance is free with park admission \n 
URL:https://texomaconnect.com/event/knot-ology-101/
LOCATION:Eisenhower State Park – Texas Parks and Wildlife\, 50 Road 20\, Denison\, TX\, 75020\, United States
CATEGORIES:Lake Texoma event,Spring Break
ATTACH;FMTTYPE=image/png:https://texomaconnect.com/wp-content/uploads/2025/07/Eisenhower-State-Park-Lake-Texoma.png
GEO:33.816044;-96.601676
X-APPLE-STRUCTURED-LOCATION;VALUE=URI;X-ADDRESS=Eisenhower State Park – Texas Parks and Wildlife 50 Road 20 Denison TX 75020 United States;X-APPLE-RADIUS=500;X-TITLE=50 Road 20:geo:-96.601676,33.816044
END:VEVENT
END:VCALENDAR