BEGIN:VCALENDAR
VERSION:2.0
PRODID:-//Texoma Connect - ECPv6.15.20//NONSGML v1.0//EN
CALSCALE:GREGORIAN
METHOD:PUBLISH
X-WR-CALNAME:Texoma Connect
X-ORIGINAL-URL:https://texomaconnect.com
X-WR-CALDESC:Events for Texoma Connect
REFRESH-INTERVAL;VALUE=DURATION:PT1H
X-Robots-Tag:noindex
X-PUBLISHED-TTL:PT1H
BEGIN:VTIMEZONE
TZID:America/Chicago
BEGIN:DAYLIGHT
TZOFFSETFROM:-0600
TZOFFSETTO:-0500
TZNAME:CDT
DTSTART:20250309T080000
END:DAYLIGHT
BEGIN:STANDARD
TZOFFSETFROM:-0500
TZOFFSETTO:-0600
TZNAME:CST
DTSTART:20251102T070000
END:STANDARD
BEGIN:DAYLIGHT
TZOFFSETFROM:-0600
TZOFFSETTO:-0500
TZNAME:CDT
DTSTART:20260308T080000
END:DAYLIGHT
BEGIN:STANDARD
TZOFFSETFROM:-0500
TZOFFSETTO:-0600
TZNAME:CST
DTSTART:20261101T070000
END:STANDARD
BEGIN:DAYLIGHT
TZOFFSETFROM:-0600
TZOFFSETTO:-0500
TZNAME:CDT
DTSTART:20270314T080000
END:DAYLIGHT
BEGIN:STANDARD
TZOFFSETFROM:-0500
TZOFFSETTO:-0600
TZNAME:CST
DTSTART:20271107T070000
END:STANDARD
END:VTIMEZONE
BEGIN:VEVENT
DTSTART;TZID=America/Chicago:20260322T190000
DTEND;TZID=America/Chicago:20260322T190000
DTSTAMP:20260421T134324
CREATED:20260106T193654Z
LAST-MODIFIED:20260106T194807Z
UID:10009569-1774206000-1774206000@texomaconnect.com
SUMMARY:Clint Black live at Choctaw
DESCRIPTION:Clint Black: Back on the Blacktop Tour at Choctaw Grand Theater Durant\nCHOCTAW GRAND THEATER\nDoors open at 5:30pm | Showtime 7pm \nGET TICKETS\nTicketmaster is the official ticketing agent of Choctaw Casinos & Resorts. Some links on this page are affiliate links. If you buy tickets through Ticketmaster using our link\, Texoma Connect may earn a small commission at no extra cost to you. \n \nCountry superstar Clint Black knows a thing or two about penning a catchy tune – he’s got more than 20 No. 1 singles under his belt\, and his hit-filled live shows have the feel of a greatest hits tour. It makes him something of a maverick in a genre where many artists record music written by other songwriters. Black has spent the bulk of his career singing his own songs\, and it’s served him well. His penchant for witty puns and clever turns of phrase is on full display in concert – both in the lyrics of favorites like “A Better Man” and during his amusing between-song banter. With his warm baritone voice\, killer harmonica playing\, and catalog of clever-mouthed hits\, Clint Black is a must-see for ticket buyers who like their classic country served straight-up. \n 
URL:https://texomaconnect.com/event/clint-black-live-at-choctaw/
LOCATION:Choctaw Casino Resort – Durant\, 4216 Hwy 69\, DURANT\, OK\, 74702\, United States
CATEGORIES:Entertainment,Live Music
ATTACH;FMTTYPE=image/png:https://texomaconnect.com/wp-content/uploads/2026/01/Clint-Black.png
GEO:33.952011;-96.412608
X-APPLE-STRUCTURED-LOCATION;VALUE=URI;X-ADDRESS=Choctaw Casino Resort – Durant 4216 Hwy 69 DURANT OK 74702 United States;X-APPLE-RADIUS=500;X-TITLE=4216 Hwy 69:geo:-96.412608,33.952011
END:VEVENT
END:VCALENDAR