BEGIN:VCALENDAR
VERSION:2.0
PRODID:-//Texoma Connect - ECPv6.15.20//NONSGML v1.0//EN
CALSCALE:GREGORIAN
METHOD:PUBLISH
X-ORIGINAL-URL:https://texomaconnect.com
X-WR-CALDESC:Events for Texoma Connect
REFRESH-INTERVAL;VALUE=DURATION:PT1H
X-Robots-Tag:noindex
X-PUBLISHED-TTL:PT1H
BEGIN:VTIMEZONE
TZID:America/Chicago
BEGIN:DAYLIGHT
TZOFFSETFROM:-0600
TZOFFSETTO:-0500
TZNAME:CDT
DTSTART:20250309T080000
END:DAYLIGHT
BEGIN:STANDARD
TZOFFSETFROM:-0500
TZOFFSETTO:-0600
TZNAME:CST
DTSTART:20251102T070000
END:STANDARD
BEGIN:DAYLIGHT
TZOFFSETFROM:-0600
TZOFFSETTO:-0500
TZNAME:CDT
DTSTART:20260308T080000
END:DAYLIGHT
BEGIN:STANDARD
TZOFFSETFROM:-0500
TZOFFSETTO:-0600
TZNAME:CST
DTSTART:20261101T070000
END:STANDARD
BEGIN:DAYLIGHT
TZOFFSETFROM:-0600
TZOFFSETTO:-0500
TZNAME:CDT
DTSTART:20270314T080000
END:DAYLIGHT
BEGIN:STANDARD
TZOFFSETFROM:-0500
TZOFFSETTO:-0600
TZNAME:CST
DTSTART:20271107T070000
END:STANDARD
END:VTIMEZONE
BEGIN:VEVENT
DTSTART;TZID=America/Chicago:20260403T180000
DTEND;TZID=America/Chicago:20260403T220000
DTSTAMP:20260421T123025
CREATED:20260312T193558Z
LAST-MODIFIED:20260312T193558Z
UID:10010262-1775239200-1775253600@texomaconnect.com
SUMMARY:Brandon Rhyder Acoustic Show
DESCRIPTION:Brandon Rhyder Acoustic Show at Old Quail Run Farm\nSpend a laid-back evening at Old Quail Run Farm with live music from Brandon Rhyder. \nThis is an easygoing\, outdoor farm concert with limited seating—perfect for slowing down\, enjoying great music\, and soaking in the relaxed country atmosphere. Expect good songs\, open skies\, and a casual night you don’t have to overthink. \nLimited seating available \nGrab a ticket\, bring your people\, and enjoy a simple\, good-vibes kind of night. \n**All tickets are non-refundable. Table seating is not guaranteed unless additionally purchased. Meal tickets sold separately
URL:https://texomaconnect.com/event/brandon-rhyder-acoustic-show/
LOCATION:Old Quail Run Farm\, 233 Old Quail Run Rd\, Sherman\, TX\, 75092\, United States
CATEGORIES:Entertainment,Live Music
ATTACH;FMTTYPE=image/png:https://texomaconnect.com/wp-content/uploads/2026/03/Brandon-Rhyder.png
GEO:33.7264191;-96.7047537
X-APPLE-STRUCTURED-LOCATION;VALUE=URI;X-ADDRESS=Old Quail Run Farm 233 Old Quail Run Rd Sherman TX 75092 United States;X-APPLE-RADIUS=500;X-TITLE=233 Old Quail Run Rd:geo:-96.7047537,33.7264191
END:VEVENT
BEGIN:VEVENT
DTSTART;TZID=America/Chicago:20260403T190000
DTEND;TZID=America/Chicago:20260403T190000
DTSTAMP:20260421T123025
CREATED:20260320T163820Z
LAST-MODIFIED:20260320T164006Z
UID:10010756-1775242800-1775242800@texomaconnect.com
SUMMARY:Nate Burnham
DESCRIPTION:Nate Burnham at Calhoun’s 2.0\nOne of Calhoun’s favorite artists\, Nate Burnham\, is back on our stage Friday\, April 3rd! If you’ve seen him before\, you already know he brings an incredible mix of country favorites and dance-hall energy that will keep you singing along and two-stepping all night long. If you haven’t caught his show yet\, this is the night to find out why he’s one of the crowd favorites. \nCover Charge:• $10 – 21 & Up• $20 – Ages 18–20 \nAnd the entertainment doesn’t stop at the stage — we’ve got: \n2\,000 sq ft dance floor\nPool tables\nCornhole\nMega Jenga\nGiant Connect 4\nBig-screen TVs everywhere\nFantastic Food\nIce cold drinks \nThere is literally something for everyone.
URL:https://texomaconnect.com/event/nate-burnham/
LOCATION:Calhoun’s 2.0\, 4801 S State Hwy 91\, Denison\, TX\, 75020\, United States
CATEGORIES:Entertainment,Live Music
ATTACH;FMTTYPE=image/png:https://texomaconnect.com/wp-content/uploads/2026/03/Nate-Burnham.png
GEO:33.7041218;-96.5710403
X-APPLE-STRUCTURED-LOCATION;VALUE=URI;X-ADDRESS=Calhoun’s 2.0 4801 S State Hwy 91 Denison TX 75020 United States;X-APPLE-RADIUS=500;X-TITLE=4801 S State Hwy 91:geo:-96.5710403,33.7041218
END:VEVENT
END:VCALENDAR