BEGIN:VCALENDAR
VERSION:2.0
PRODID:-//Texoma Connect - ECPv6.15.20//NONSGML v1.0//EN
CALSCALE:GREGORIAN
METHOD:PUBLISH
X-ORIGINAL-URL:https://texomaconnect.com
X-WR-CALDESC:Events for Texoma Connect
REFRESH-INTERVAL;VALUE=DURATION:PT1H
X-Robots-Tag:noindex
X-PUBLISHED-TTL:PT1H
BEGIN:VTIMEZONE
TZID:America/Chicago
BEGIN:DAYLIGHT
TZOFFSETFROM:-0600
TZOFFSETTO:-0500
TZNAME:CDT
DTSTART:20250309T080000
END:DAYLIGHT
BEGIN:STANDARD
TZOFFSETFROM:-0500
TZOFFSETTO:-0600
TZNAME:CST
DTSTART:20251102T070000
END:STANDARD
BEGIN:DAYLIGHT
TZOFFSETFROM:-0600
TZOFFSETTO:-0500
TZNAME:CDT
DTSTART:20260308T080000
END:DAYLIGHT
BEGIN:STANDARD
TZOFFSETFROM:-0500
TZOFFSETTO:-0600
TZNAME:CST
DTSTART:20261101T070000
END:STANDARD
BEGIN:DAYLIGHT
TZOFFSETFROM:-0600
TZOFFSETTO:-0500
TZNAME:CDT
DTSTART:20270314T080000
END:DAYLIGHT
BEGIN:STANDARD
TZOFFSETFROM:-0500
TZOFFSETTO:-0600
TZNAME:CST
DTSTART:20271107T070000
END:STANDARD
END:VTIMEZONE
BEGIN:VEVENT
DTSTART;TZID=America/Chicago:20260808T200000
DTEND;TZID=America/Chicago:20260808T200000
DTSTAMP:20260421T212938
CREATED:20260106T221950Z
LAST-MODIFIED:20260106T221950Z
UID:10009580-1786219200-1786219200@texomaconnect.com
SUMMARY:Kane Brown
DESCRIPTION:Kane Brown at Choctaw Grand Theater Durant\nCHOCTAW GRAND THEATER\nDoors open at 6:30 | Showtime at 8pm \n\nGET TICKETS\nTicketmaster is the official ticketing agent of Choctaw Casinos & Resorts.  Some links on this page are affiliate links. If you buy tickets through Ticketmaster using our link\, Texoma Connect may earn a small commission at no extra cost to you. \nKane Brown is far from a niche character\, but rather a key figure both in country’s mainstream insurgence of recent years and in the genre’s boundary-pushing evolutions. Described by Billboard as “the future of country music\,” the 56X-Platinum singer-songwriter has racked up a daunting array of accolades and awards since his 2016 self-titled debut. He was named to the TIME 100 list in 2021\, and in 2023 became the first Black artist to headline and sell out Boston’s historic Fenway Park. He’s received multiple nods including the coveted Entertainer of the Year award at the ACMs as well as multiple wins and nominations at the Billboard Music Awards\, American Music Awards\, CMT Music Awards\, and People’s Country Choice Awards. \nBy the end\, you don’t need to have traversed the globe to relate to all the different stops on The High Road. Across 18 songs\, Brown gets at all the shades of waning youth and those murky not-quite-old years\, growing up right alongside the fans who’ve been with him since the mid-’10s. It’s the most honest\, multi-faceted work from Brown yet\, building on everything he’s done before and leaving the door open for just about anything in the future. “This is me\, this is Kane Brown\,” he concludes. “This is the artist I am.” \n 
URL:https://texomaconnect.com/event/kane-brown/
LOCATION:Choctaw Casino Resort – Durant\, 4216 Hwy 69\, DURANT\, OK\, 74702\, United States
CATEGORIES:Entertainment,Live Music
ATTACH;FMTTYPE=image/png:https://texomaconnect.com/wp-content/uploads/2026/01/Kane-Brown.png
GEO:33.952011;-96.412608
X-APPLE-STRUCTURED-LOCATION;VALUE=URI;X-ADDRESS=Choctaw Casino Resort – Durant 4216 Hwy 69 DURANT OK 74702 United States;X-APPLE-RADIUS=500;X-TITLE=4216 Hwy 69:geo:-96.412608,33.952011
END:VEVENT
BEGIN:VEVENT
DTSTART;TZID=America/Chicago:20261128T200000
DTEND;TZID=America/Chicago:20261128T200000
DTSTAMP:20260421T212938
CREATED:20260106T224758Z
LAST-MODIFIED:20260106T224758Z
UID:10009583-1795896000-1795896000@texomaconnect.com
SUMMARY:Chase Matthew: Holdin it Down Tour
DESCRIPTION:Chase Matthew: Holdin it Down Tour at Choctaw Grand Theater\nCHOCTAW GRAND THEATER\nDoors open at 6:30pm | Showtime 8pm \n\nGET TICKETS\nTicketmaster is the official ticketing agent of Choctaw Casinos & Resorts.  Some links on this page are affiliate links. If you buy tickets through Ticketmaster using our link\, Texoma Connect may earn a small commission at no extra cost to you. \n \nRolling out new music like “First” with big moves on tap\, Warner Music Nashville’s Chase Matthew continues to make his case as one of Country’s boldest new voices. A Music City native\, the rising star began his career by blazing an independent trail\, leveraging an infectious country-or-nothing personality\, rowdy live performances\, and authentic music built around his low-slung vocal twang. Amassing 1 BILLION+ global career streams (with more than 315 MILLION global streams on his first RIAA PLATINUM-certified smash\, “County Line”)\, Matthew has garnered 1.5 MILLION+ followers across social media; named “One to Watch” by HITS; Opry NextStage Class of 2024; and among MusicRow’s Next Big Thing Class of 2024. Since releasing his sophomore album\, Come Get Your Memory\, he spent 2023 selling out venues across the nation on his headline COME GET YOUR MEMORY TOUR\, while also appearing at major festivals and more. His GOLD-certified debut single “Love You Again” is Top 15-and-rising at Country radio\, and along with releasing his six-song EP We All Grow Up – a mix of backroad swagger and broken hearts – he’s set to spend this year extending his wildly popular headline trek\, and recently supported Jason Aldean and Luke Bryan on their summer runs.
URL:https://texomaconnect.com/event/chase-matthew-holdin-it-down-tour/
LOCATION:Choctaw Casino Resort – Durant\, 4216 Hwy 69\, DURANT\, OK\, 74702\, United States
CATEGORIES:Entertainment,Live Music
ATTACH;FMTTYPE=image/png:https://texomaconnect.com/wp-content/uploads/2026/01/Chase-Matthew.png
GEO:33.952011;-96.412608
X-APPLE-STRUCTURED-LOCATION;VALUE=URI;X-ADDRESS=Choctaw Casino Resort – Durant 4216 Hwy 69 DURANT OK 74702 United States;X-APPLE-RADIUS=500;X-TITLE=4216 Hwy 69:geo:-96.412608,33.952011
END:VEVENT
END:VCALENDAR