BEGIN:VCALENDAR
VERSION:2.0
PRODID:-//Texoma Connect - ECPv6.15.20//NONSGML v1.0//EN
CALSCALE:GREGORIAN
METHOD:PUBLISH
X-ORIGINAL-URL:https://texomaconnect.com
X-WR-CALDESC:Events for Texoma Connect
REFRESH-INTERVAL;VALUE=DURATION:PT1H
X-Robots-Tag:noindex
X-PUBLISHED-TTL:PT1H
BEGIN:VTIMEZONE
TZID:America/Chicago
BEGIN:DAYLIGHT
TZOFFSETFROM:-0600
TZOFFSETTO:-0500
TZNAME:CDT
DTSTART:20250309T080000
END:DAYLIGHT
BEGIN:STANDARD
TZOFFSETFROM:-0500
TZOFFSETTO:-0600
TZNAME:CST
DTSTART:20251102T070000
END:STANDARD
BEGIN:DAYLIGHT
TZOFFSETFROM:-0600
TZOFFSETTO:-0500
TZNAME:CDT
DTSTART:20260308T080000
END:DAYLIGHT
BEGIN:STANDARD
TZOFFSETFROM:-0500
TZOFFSETTO:-0600
TZNAME:CST
DTSTART:20261101T070000
END:STANDARD
BEGIN:DAYLIGHT
TZOFFSETFROM:-0600
TZOFFSETTO:-0500
TZNAME:CDT
DTSTART:20270314T080000
END:DAYLIGHT
BEGIN:STANDARD
TZOFFSETFROM:-0500
TZOFFSETTO:-0600
TZNAME:CST
DTSTART:20271107T070000
END:STANDARD
END:VTIMEZONE
BEGIN:VEVENT
DTSTART;TZID=America/Chicago:20260424T180000
DTEND;TZID=America/Chicago:20260424T180000
DTSTAMP:20260421T151538
CREATED:20260109T224308Z
LAST-MODIFIED:20260112T162715Z
UID:10009589-1777053600-1777053600@texomaconnect.com
SUMMARY:Bandits\, Bluegrass\, and BBQ 2026
DESCRIPTION:Bandits\, Bluegrass\, and BBQ 2026 Denison TX\nJoin us for the annual Bandits\, Bluegrass\, and BBQ festival on Friday\, April 24th from 6-9PM at The George Tavern! \n\n\n\nEnjoy live bluegrass bands\, BBQ sales\, and meet and greets with old west reenactors. The event is a fundraiser for the Boys and Girls Club of Denison\, come show your support! \n\n\n\nEnjoy Bandits\, Bluegrass\, and BBQ and get in the old west spirit before the Doc Holliday: Saints and Sinners Festival on Saturday in downtown Denison! For more information about the Doc Holliday Festival\, visit: https://www.facebook.com/DocInDenisonTX
URL:https://texomaconnect.com/event/bandits-bluegrass-and-bbq-2026/
LOCATION:The George Tavern\, 101 E Main St\, Suite 135\, Denison\, TX\, 75020\, United States
CATEGORIES:Entertainment,Festival,Live Music
ATTACH;FMTTYPE=image/png:https://texomaconnect.com/wp-content/uploads/2025/02/Bandits-Bluegrass-and-BBQ.png
GEO:33.7562115;-96.5343073
X-APPLE-STRUCTURED-LOCATION;VALUE=URI;X-ADDRESS=The George Tavern 101 E Main St Suite 135 Denison TX 75020 United States;X-APPLE-RADIUS=500;X-TITLE=101 E Main St\, Suite 135:geo:-96.5343073,33.7562115
END:VEVENT
END:VCALENDAR