BEGIN:VCALENDAR
VERSION:2.0
PRODID:-//Texoma Connect - ECPv6.15.20//NONSGML v1.0//EN
CALSCALE:GREGORIAN
METHOD:PUBLISH
X-ORIGINAL-URL:https://texomaconnect.com
X-WR-CALDESC:Events for Texoma Connect
REFRESH-INTERVAL;VALUE=DURATION:PT1H
X-Robots-Tag:noindex
X-PUBLISHED-TTL:PT1H
BEGIN:VTIMEZONE
TZID:America/Chicago
BEGIN:DAYLIGHT
TZOFFSETFROM:-0600
TZOFFSETTO:-0500
TZNAME:CDT
DTSTART:20250309T080000
END:DAYLIGHT
BEGIN:STANDARD
TZOFFSETFROM:-0500
TZOFFSETTO:-0600
TZNAME:CST
DTSTART:20251102T070000
END:STANDARD
BEGIN:DAYLIGHT
TZOFFSETFROM:-0600
TZOFFSETTO:-0500
TZNAME:CDT
DTSTART:20260308T080000
END:DAYLIGHT
BEGIN:STANDARD
TZOFFSETFROM:-0500
TZOFFSETTO:-0600
TZNAME:CST
DTSTART:20261101T070000
END:STANDARD
BEGIN:DAYLIGHT
TZOFFSETFROM:-0600
TZOFFSETTO:-0500
TZNAME:CDT
DTSTART:20270314T080000
END:DAYLIGHT
BEGIN:STANDARD
TZOFFSETFROM:-0500
TZOFFSETTO:-0600
TZNAME:CST
DTSTART:20271107T070000
END:STANDARD
END:VTIMEZONE
BEGIN:VEVENT
DTSTART;TZID=America/Chicago:20260501T200000
DTEND;TZID=America/Chicago:20260501T200000
DTSTAMP:20260421T135934
CREATED:20260106T211403Z
LAST-MODIFIED:20260106T211403Z
UID:10009575-1777665600-1777665600@texomaconnect.com
SUMMARY:Allison Krauss and Union Station at Choctaw
DESCRIPTION:Allison Krauss and Union Station featuring Jerry Douglas at Choctaw Durant\nCHOCTAW GRAND THEATER\nDoors open at 6:30pm | Showtime 8pm \nGET TICKETS\nTicketmaster is the official ticketing agent of Choctaw Casinos & Resorts. Some links on this page are affiliate links. If you buy tickets through Ticketmaster using our link\, Texoma Connect may earn a small commission at no extra cost to you. \n \nFor nearly four decades\, Alison Krauss & Union Station have upheld their legacy as one of the most influential and widely celebrated acts in bluegrass and roots music. Known for an immaculately crafted but endlessly surprising sound that transcends the boundaries of roots\, country\, rock & roll\, and pop\, Alison Krauss & Union Station released their highly anticipated new album\, Arcadia\, in 2025. This marked their first studio album since the 2011 masterpiece Paper Airplane—a critically lauded\, multiple Grammy Award winning LP that debuted at #1 on the Billboard Country\, Bluegrass\, and Folk Album charts. Over the years\, Alison Krauss & Union Station have brought their phenomenal live show to sold-out performances at famed venues like Red Rocks Amphitheatre\, The Greek Theatre\, Radio City Music Hall\, and London’s Royal Festival Hall\, in addition to supporting Paul Simon in Hyde Park for his 2012 Graceland reunion. They now continue the celebration of their new music with the Arcadia 2026 Tour. \n  \nThe players – Alison Krauss (fiddle\, lead vocal)\, Jerry Douglas (Dobro\, lap steel\, vocals)\, Ron Block (banjo\, guitar\, vocals)\, Barry Bales (bass\, vocals)\, and highly acclaimed and celebrated tenor vocalist Russell Moore (guitar\, mandolin\, lead vocal) – are five distinct personalities\, each of whom enjoys a flourishing solo career. But when they come together\, they transform into a peerless group of musicians who share a singular focus.
URL:https://texomaconnect.com/event/allison-krauss-and-union-station-at-choctaw/
LOCATION:Choctaw Casino Resort – Durant\, 4216 Hwy 69\, DURANT\, OK\, 74702\, United States
CATEGORIES:Entertainment,Live Music
ATTACH;FMTTYPE=image/png:https://texomaconnect.com/wp-content/uploads/2026/01/Allison-Krauss.png
GEO:33.952011;-96.412608
X-APPLE-STRUCTURED-LOCATION;VALUE=URI;X-ADDRESS=Choctaw Casino Resort – Durant 4216 Hwy 69 DURANT OK 74702 United States;X-APPLE-RADIUS=500;X-TITLE=4216 Hwy 69:geo:-96.412608,33.952011
END:VEVENT
END:VCALENDAR