BEGIN:VCALENDAR
VERSION:2.0
PRODID:-//Texoma Connect - ECPv6.15.20//NONSGML v1.0//EN
CALSCALE:GREGORIAN
METHOD:PUBLISH
X-ORIGINAL-URL:https://texomaconnect.com
X-WR-CALDESC:Events for Texoma Connect
REFRESH-INTERVAL;VALUE=DURATION:PT1H
X-Robots-Tag:noindex
X-PUBLISHED-TTL:PT1H
BEGIN:VTIMEZONE
TZID:America/Chicago
BEGIN:DAYLIGHT
TZOFFSETFROM:-0600
TZOFFSETTO:-0500
TZNAME:CDT
DTSTART:20250309T080000
END:DAYLIGHT
BEGIN:STANDARD
TZOFFSETFROM:-0500
TZOFFSETTO:-0600
TZNAME:CST
DTSTART:20251102T070000
END:STANDARD
BEGIN:DAYLIGHT
TZOFFSETFROM:-0600
TZOFFSETTO:-0500
TZNAME:CDT
DTSTART:20260308T080000
END:DAYLIGHT
BEGIN:STANDARD
TZOFFSETFROM:-0500
TZOFFSETTO:-0600
TZNAME:CST
DTSTART:20261101T070000
END:STANDARD
BEGIN:DAYLIGHT
TZOFFSETFROM:-0600
TZOFFSETTO:-0500
TZNAME:CDT
DTSTART:20270314T080000
END:DAYLIGHT
BEGIN:STANDARD
TZOFFSETFROM:-0500
TZOFFSETTO:-0600
TZNAME:CST
DTSTART:20271107T070000
END:STANDARD
END:VTIMEZONE
BEGIN:VEVENT
DTSTART;TZID=America/Chicago:20260321T090000
DTEND;TZID=America/Chicago:20260321T100000
DTSTAMP:20260421T113556
CREATED:20260313T175218Z
LAST-MODIFIED:20260313T175218Z
UID:10010661-1774083600-1774087200@texomaconnect.com
SUMMARY:B.A.R.K. Ranger Hike
DESCRIPTION:B.A.R.K. Ranger Hike at Eisenhower State Park\, Lake Texoma\nExperience the ultimate dog-friendly escapade as you team up with a park ranger for a moderate\, 1-mile hike\, focusing on the B.A.R.K. principals! Upon completion\, your furry friend will receive an Eisenhower B.A.R.K. Ranger certificate. \nWhen: March 21st – 9 AM to 10 AM\nWhere: Swim Beach Parking Lot\nBring: plenty of water for you and your dog\, close toed shoes\, dog waste bags \nReminders:\n– Events and programs are subject to cancellation due to weather.\n– Please dress for weather.\n– Attendance is free with park admission
URL:https://texomaconnect.com/event/b-a-r-k-ranger-hike-3212026/
LOCATION:Eisenhower State Park – Texas Parks and Wildlife\, 50 Road 20\, Denison\, TX\, 75020\, United States
CATEGORIES:Lake Texoma event,Spring Break
ATTACH;FMTTYPE=image/png:https://texomaconnect.com/wp-content/uploads/2026/03/BARK-Ranger-Hike.png
GEO:33.816044;-96.601676
X-APPLE-STRUCTURED-LOCATION;VALUE=URI;X-ADDRESS=Eisenhower State Park – Texas Parks and Wildlife 50 Road 20 Denison TX 75020 United States;X-APPLE-RADIUS=500;X-TITLE=50 Road 20:geo:-96.601676,33.816044
END:VEVENT
BEGIN:VEVENT
DTSTART;TZID=America/Chicago:20260321T100000
DTEND;TZID=America/Chicago:20260321T120000
DTSTAMP:20260421T113556
CREATED:20260311T181905Z
LAST-MODIFIED:20260314T170821Z
UID:10009882-1774087200-1774094400@texomaconnect.com
SUMMARY:Texas Treasures: Symbols
DESCRIPTION:Spring Brak Fun for Kids: Texas Treasures – Symbols\nDiscover what makes Texas\, Texas! In our March Refuge Rocks program\, kids will explore a variety of Texas State Symbols and learn how they connect to the plants\, animals\, and natural world of our great state. Through hands-on state symbol activities and crafts\, young explorers will have fun learning Texas pride the nature-related way!\nLook for other activities March 17th and 19th\nPlease Register: https://www.friendsofhagerman.com/event-6550848?CalendarViewType=1&SelectedDate=3/2/2026
URL:https://texomaconnect.com/event/texas-treasures-symbols/
LOCATION:Hagerman National Wildlife Refuge\, 6465 Refuge Rd.\, Sherman\, TX\, 75092\, United States
CATEGORIES:Lake Texoma event,Spring Break,Youth Activities
ATTACH;FMTTYPE=image/png:https://texomaconnect.com/wp-content/uploads/2026/03/Texas-Treasures.png
GEO:33.7391209;-96.7522848
X-APPLE-STRUCTURED-LOCATION;VALUE=URI;X-ADDRESS=Hagerman National Wildlife Refuge 6465 Refuge Rd. Sherman TX 75092 United States;X-APPLE-RADIUS=500;X-TITLE=6465 Refuge Rd.:geo:-96.7522848,33.7391209
END:VEVENT
BEGIN:VEVENT
DTSTART;TZID=America/Chicago:20260321T130000
DTEND;TZID=America/Chicago:20260321T140000
DTSTAMP:20260421T113556
CREATED:20260313T175825Z
LAST-MODIFIED:20260313T175925Z
UID:10010662-1774098000-1774101600@texomaconnect.com
SUMMARY:Knot-ology 101
DESCRIPTION:Knot-ology 101 at Eisenhower State Park\, Lake Texoma\nTwist it. Loop it. Pull it tight. Put your skills to the test! Join a park ranger for a hands-on program where you will master knots that campers\, climbers\, and sailors have used for centuries. \nWhen: March 21st – 1 PM to 2 PM\nWhere: OHV Pavilion\nBring: All materials will be provided. \nReminders:\n– Events and programs are subject to cancellation due to weather.\n– Please dress for weather.\n– Attendance is free with park admission \n 
URL:https://texomaconnect.com/event/knot-ology-101/
LOCATION:Eisenhower State Park – Texas Parks and Wildlife\, 50 Road 20\, Denison\, TX\, 75020\, United States
CATEGORIES:Lake Texoma event,Spring Break
ATTACH;FMTTYPE=image/png:https://texomaconnect.com/wp-content/uploads/2025/07/Eisenhower-State-Park-Lake-Texoma.png
GEO:33.816044;-96.601676
X-APPLE-STRUCTURED-LOCATION;VALUE=URI;X-ADDRESS=Eisenhower State Park – Texas Parks and Wildlife 50 Road 20 Denison TX 75020 United States;X-APPLE-RADIUS=500;X-TITLE=50 Road 20:geo:-96.601676,33.816044
END:VEVENT
END:VCALENDAR