BEGIN:VCALENDAR
VERSION:2.0
PRODID:-//Texoma Connect - ECPv6.15.20//NONSGML v1.0//EN
CALSCALE:GREGORIAN
METHOD:PUBLISH
X-ORIGINAL-URL:https://texomaconnect.com
X-WR-CALDESC:Events for Texoma Connect
REFRESH-INTERVAL;VALUE=DURATION:PT1H
X-Robots-Tag:noindex
X-PUBLISHED-TTL:PT1H
BEGIN:VTIMEZONE
TZID:America/Chicago
BEGIN:DAYLIGHT
TZOFFSETFROM:-0600
TZOFFSETTO:-0500
TZNAME:CDT
DTSTART:20250309T080000
END:DAYLIGHT
BEGIN:STANDARD
TZOFFSETFROM:-0500
TZOFFSETTO:-0600
TZNAME:CST
DTSTART:20251102T070000
END:STANDARD
BEGIN:DAYLIGHT
TZOFFSETFROM:-0600
TZOFFSETTO:-0500
TZNAME:CDT
DTSTART:20260308T080000
END:DAYLIGHT
BEGIN:STANDARD
TZOFFSETFROM:-0500
TZOFFSETTO:-0600
TZNAME:CST
DTSTART:20261101T070000
END:STANDARD
BEGIN:DAYLIGHT
TZOFFSETFROM:-0600
TZOFFSETTO:-0500
TZNAME:CDT
DTSTART:20270314T080000
END:DAYLIGHT
BEGIN:STANDARD
TZOFFSETFROM:-0500
TZOFFSETTO:-0600
TZNAME:CST
DTSTART:20271107T070000
END:STANDARD
END:VTIMEZONE
BEGIN:VEVENT
DTSTART;TZID=America/Chicago:20260321T090000
DTEND;TZID=America/Chicago:20260321T120000
DTSTAMP:20260421T084344
CREATED:20260311T185938Z
LAST-MODIFIED:20260311T190033Z
UID:10009886-1774083600-1774094400@texomaconnect.com
SUMMARY:Denison's BEST Easter Egg Hunt
DESCRIPTION:Denison’s BEST Easter Egg Hunt\nJoin us for an amazing FREE Easter Egg Hunt! Click the link below to save your spot!\nAges 5 and under: 9:30amAges 6-9: 10:00amAges 10-12: 10:30 am\nWe will have 20-30 eggs per child. Just remember to bring your own Easter Basket to collect in!\nWe will also have the Easter Bunny there for amazing FREE photo opportunities!\nBe sure to click here to save your spot: https://kick.site/zgdbd1jz\n\nIf you have any questions or would like to join us as a community partner\, please call/text (903) 487-4480! \nBrought to you by The BEST Summer Camp and After School in Denison and Legend Martial Arts ATA
URL:https://texomaconnect.com/event/denisons-best-easter-egg-hunt/
LOCATION:Legend Martial Arts ATA\, 510S Mirrick Ave\, Denison\, TX\, 75020\, United States
CATEGORIES:Easter Events,Youth Activities
ATTACH;FMTTYPE=image/png:https://texomaconnect.com/wp-content/uploads/2026/03/BEST-Easter-Egg-Hunt.png
GEO:33.7509965;-96.5423867
X-APPLE-STRUCTURED-LOCATION;VALUE=URI;X-ADDRESS=Legend Martial Arts ATA 510S Mirrick Ave Denison TX 75020 United States;X-APPLE-RADIUS=500;X-TITLE=510S Mirrick Ave:geo:-96.5423867,33.7509965
END:VEVENT
BEGIN:VEVENT
DTSTART;TZID=America/Chicago:20260321T100000
DTEND;TZID=America/Chicago:20260321T120000
DTSTAMP:20260421T084344
CREATED:20260311T181905Z
LAST-MODIFIED:20260314T170821Z
UID:10009882-1774087200-1774094400@texomaconnect.com
SUMMARY:Texas Treasures: Symbols
DESCRIPTION:Spring Brak Fun for Kids: Texas Treasures – Symbols\nDiscover what makes Texas\, Texas! In our March Refuge Rocks program\, kids will explore a variety of Texas State Symbols and learn how they connect to the plants\, animals\, and natural world of our great state. Through hands-on state symbol activities and crafts\, young explorers will have fun learning Texas pride the nature-related way!\nLook for other activities March 17th and 19th\nPlease Register: https://www.friendsofhagerman.com/event-6550848?CalendarViewType=1&SelectedDate=3/2/2026
URL:https://texomaconnect.com/event/texas-treasures-symbols/
LOCATION:Hagerman National Wildlife Refuge\, 6465 Refuge Rd.\, Sherman\, TX\, 75092\, United States
CATEGORIES:Lake Texoma event,Spring Break,Youth Activities
ATTACH;FMTTYPE=image/png:https://texomaconnect.com/wp-content/uploads/2026/03/Texas-Treasures.png
GEO:33.7391209;-96.7522848
X-APPLE-STRUCTURED-LOCATION;VALUE=URI;X-ADDRESS=Hagerman National Wildlife Refuge 6465 Refuge Rd. Sherman TX 75092 United States;X-APPLE-RADIUS=500;X-TITLE=6465 Refuge Rd.:geo:-96.7522848,33.7391209
END:VEVENT
BEGIN:VEVENT
DTSTART;TZID=America/Chicago:20260323T100000
DTEND;TZID=America/Chicago:20260323T103000
DTSTAMP:20260421T084344
CREATED:20260314T195246Z
LAST-MODIFIED:20260314T195246Z
UID:10010690-1774260000-1774261800@texomaconnect.com
SUMMARY:Little Lambs
DESCRIPTION:Little Lambs for babies at the Denison Public Library\nJoin us in the library for our program designed for babies 0-2 years old and their parent/ caregiver. The program will begin March 23rd & 26th and end April 27th & 30th.
URL:https://texomaconnect.com/event/little-lambs-2/2026-03-23/
LOCATION:Denison Public Library\, 300 West Gandy Street\, Denison\, TX\, 75020\, United States
CATEGORIES:Youth Activities
ATTACH;FMTTYPE=image/png:https://texomaconnect.com/wp-content/uploads/2025/02/Little-Lambs.png
GEO:33.757153;-96.538799
X-APPLE-STRUCTURED-LOCATION;VALUE=URI;X-ADDRESS=Denison Public Library 300 West Gandy Street Denison TX 75020 United States;X-APPLE-RADIUS=500;X-TITLE=300 West Gandy Street:geo:-96.538799,33.757153
END:VEVENT
BEGIN:VEVENT
DTSTART;TZID=America/Chicago:20260323T100000
DTEND;TZID=America/Chicago:20260323T103000
DTSTAMP:20260421T084344
CREATED:20260314T200359Z
LAST-MODIFIED:20260314T200359Z
UID:10010718-1774260000-1774261800@texomaconnect.com
SUMMARY:Little Lambs
DESCRIPTION:Little Lambs at Denison Public Library\nJoin us in the library for our program designed for babies 0-2 years old and their parent/ caregiver. The program will begin March 23rd & 26th and end April 27th & 30th.
URL:https://texomaconnect.com/event/little-lambs-3/2026-03-23/
LOCATION:Denison Public Library\, 300 West Gandy Street\, Denison\, TX\, 75020\, United States
CATEGORIES:Youth Activities
ATTACH;FMTTYPE=image/png:https://texomaconnect.com/wp-content/uploads/2026/03/Little-Lambs-March-April-2026.png
GEO:33.757153;-96.538799
X-APPLE-STRUCTURED-LOCATION;VALUE=URI;X-ADDRESS=Denison Public Library 300 West Gandy Street Denison TX 75020 United States;X-APPLE-RADIUS=500;X-TITLE=300 West Gandy Street:geo:-96.538799,33.757153
END:VEVENT
BEGIN:VEVENT
DTSTART;TZID=America/Chicago:20260323T103000
DTEND;TZID=America/Chicago:20260323T120000
DTSTAMP:20260421T084344
CREATED:20260314T202808Z
LAST-MODIFIED:20260314T202808Z
UID:10010742-1774261800-1774267200@texomaconnect.com
SUMMARY:Joyful Noise
DESCRIPTION:Joyful Noise at Denison Public Library\nJoin us in the library for our program designed for children 3-5 years old and their parent/ caregiver. The program will begin March 23rd & 26th and end April 20th & 23rd.
URL:https://texomaconnect.com/event/joyful-noise/2026-03-23/
LOCATION:Denison Public Library\, 300 West Gandy Street\, Denison\, TX\, 75020\, United States
CATEGORIES:Youth Activities
ATTACH;FMTTYPE=image/png:https://texomaconnect.com/wp-content/uploads/2026/03/Joyful-Noise-March-April-2026.png
GEO:33.757153;-96.538799
X-APPLE-STRUCTURED-LOCATION;VALUE=URI;X-ADDRESS=Denison Public Library 300 West Gandy Street Denison TX 75020 United States;X-APPLE-RADIUS=500;X-TITLE=300 West Gandy Street:geo:-96.538799,33.757153
END:VEVENT
BEGIN:VEVENT
DTSTART;TZID=America/Chicago:20260323T104500
DTEND;TZID=America/Chicago:20260323T111500
DTSTAMP:20260421T084344
CREATED:20260314T201620Z
LAST-MODIFIED:20260314T201620Z
UID:10010730-1774262700-1774264500@texomaconnect.com
SUMMARY:Wonder Years
DESCRIPTION:Wonder Years at the Denison Public Library\nJoin us in the library for our program designed for children 2-5 years old and their parent/ caregiver. The program will begin March 23rd & 26th and end April 27th & 30th.
URL:https://texomaconnect.com/event/wonder-years/2026-03-23/
LOCATION:Denison Public Library\, 300 West Gandy Street\, Denison\, TX\, 75020\, United States
CATEGORIES:Youth Activities
ATTACH;FMTTYPE=image/png:https://texomaconnect.com/wp-content/uploads/2026/03/Wonder-Years-March-April-2026.png
GEO:33.757153;-96.538799
X-APPLE-STRUCTURED-LOCATION;VALUE=URI;X-ADDRESS=Denison Public Library 300 West Gandy Street Denison TX 75020 United States;X-APPLE-RADIUS=500;X-TITLE=300 West Gandy Street:geo:-96.538799,33.757153
END:VEVENT
BEGIN:VEVENT
DTSTART;TZID=America/Chicago:20260326T100000
DTEND;TZID=America/Chicago:20260326T103000
DTSTAMP:20260421T084344
CREATED:20260314T195246Z
LAST-MODIFIED:20260314T195246Z
UID:10010691-1774519200-1774521000@texomaconnect.com
SUMMARY:Little Lambs
DESCRIPTION:Little Lambs for babies at the Denison Public Library\nJoin us in the library for our program designed for babies 0-2 years old and their parent/ caregiver. The program will begin March 23rd & 26th and end April 27th & 30th.
URL:https://texomaconnect.com/event/little-lambs-2/2026-03-26/
LOCATION:Denison Public Library\, 300 West Gandy Street\, Denison\, TX\, 75020\, United States
CATEGORIES:Youth Activities
ATTACH;FMTTYPE=image/png:https://texomaconnect.com/wp-content/uploads/2025/02/Little-Lambs.png
GEO:33.757153;-96.538799
X-APPLE-STRUCTURED-LOCATION;VALUE=URI;X-ADDRESS=Denison Public Library 300 West Gandy Street Denison TX 75020 United States;X-APPLE-RADIUS=500;X-TITLE=300 West Gandy Street:geo:-96.538799,33.757153
END:VEVENT
BEGIN:VEVENT
DTSTART;TZID=America/Chicago:20260326T100000
DTEND;TZID=America/Chicago:20260326T103000
DTSTAMP:20260421T084344
CREATED:20260314T200359Z
LAST-MODIFIED:20260314T200359Z
UID:10010719-1774519200-1774521000@texomaconnect.com
SUMMARY:Little Lambs
DESCRIPTION:Little Lambs at Denison Public Library\nJoin us in the library for our program designed for babies 0-2 years old and their parent/ caregiver. The program will begin March 23rd & 26th and end April 27th & 30th.
URL:https://texomaconnect.com/event/little-lambs-3/2026-03-26/
LOCATION:Denison Public Library\, 300 West Gandy Street\, Denison\, TX\, 75020\, United States
CATEGORIES:Youth Activities
ATTACH;FMTTYPE=image/png:https://texomaconnect.com/wp-content/uploads/2026/03/Little-Lambs-March-April-2026.png
GEO:33.757153;-96.538799
X-APPLE-STRUCTURED-LOCATION;VALUE=URI;X-ADDRESS=Denison Public Library 300 West Gandy Street Denison TX 75020 United States;X-APPLE-RADIUS=500;X-TITLE=300 West Gandy Street:geo:-96.538799,33.757153
END:VEVENT
BEGIN:VEVENT
DTSTART;TZID=America/Chicago:20260326T103000
DTEND;TZID=America/Chicago:20260326T120000
DTSTAMP:20260421T084344
CREATED:20260314T202808Z
LAST-MODIFIED:20260314T202808Z
UID:10010743-1774521000-1774526400@texomaconnect.com
SUMMARY:Joyful Noise
DESCRIPTION:Joyful Noise at Denison Public Library\nJoin us in the library for our program designed for children 3-5 years old and their parent/ caregiver. The program will begin March 23rd & 26th and end April 20th & 23rd.
URL:https://texomaconnect.com/event/joyful-noise/2026-03-26/
LOCATION:Denison Public Library\, 300 West Gandy Street\, Denison\, TX\, 75020\, United States
CATEGORIES:Youth Activities
ATTACH;FMTTYPE=image/png:https://texomaconnect.com/wp-content/uploads/2026/03/Joyful-Noise-March-April-2026.png
GEO:33.757153;-96.538799
X-APPLE-STRUCTURED-LOCATION;VALUE=URI;X-ADDRESS=Denison Public Library 300 West Gandy Street Denison TX 75020 United States;X-APPLE-RADIUS=500;X-TITLE=300 West Gandy Street:geo:-96.538799,33.757153
END:VEVENT
BEGIN:VEVENT
DTSTART;TZID=America/Chicago:20260326T104500
DTEND;TZID=America/Chicago:20260326T111500
DTSTAMP:20260421T084344
CREATED:20260314T201620Z
LAST-MODIFIED:20260314T201620Z
UID:10010731-1774521900-1774523700@texomaconnect.com
SUMMARY:Wonder Years
DESCRIPTION:Wonder Years at the Denison Public Library\nJoin us in the library for our program designed for children 2-5 years old and their parent/ caregiver. The program will begin March 23rd & 26th and end April 27th & 30th.
URL:https://texomaconnect.com/event/wonder-years/2026-03-26/
LOCATION:Denison Public Library\, 300 West Gandy Street\, Denison\, TX\, 75020\, United States
CATEGORIES:Youth Activities
ATTACH;FMTTYPE=image/png:https://texomaconnect.com/wp-content/uploads/2026/03/Wonder-Years-March-April-2026.png
GEO:33.757153;-96.538799
X-APPLE-STRUCTURED-LOCATION;VALUE=URI;X-ADDRESS=Denison Public Library 300 West Gandy Street Denison TX 75020 United States;X-APPLE-RADIUS=500;X-TITLE=300 West Gandy Street:geo:-96.538799,33.757153
END:VEVENT
BEGIN:VEVENT
DTSTART;TZID=America/Chicago:20260328T080000
DTEND;TZID=America/Chicago:20260328T170000
DTSTAMP:20260421T084344
CREATED:20260103T162040Z
LAST-MODIFIED:20260103T162040Z
UID:10009487-1774684800-1774717200@texomaconnect.com
SUMMARY:Buncombe Creek Easter Egg Hunt 2026
DESCRIPTION:Easter Egg Hunt at Buncombe Creek Marina and Resort on Lake Texoma\nSave the date for the Easter Egg Hunt and meet the Easter Bunny at Buncombe Creek Marina and Resort on Lake Texoma.  Time for both events TBD
URL:https://texomaconnect.com/event/buncombe-creek-easter-egg-hunt-2026/
LOCATION:Buncombe Creek Marina\, 14584 Arrowhead Point Road\, Kingston\, OK\, 73439-2044\, United States
CATEGORIES:Easter Events,Lake Texoma event,Youth Activities
ATTACH;FMTTYPE=image/png:https://texomaconnect.com/wp-content/uploads/2022/04/Easter-Eggs.png
GEO:33.884617;-96.788927
X-APPLE-STRUCTURED-LOCATION;VALUE=URI;X-ADDRESS=Buncombe Creek Marina 14584 Arrowhead Point Road Kingston OK 73439-2044 United States;X-APPLE-RADIUS=500;X-TITLE=14584 Arrowhead Point Road:geo:-96.788927,33.884617
END:VEVENT
BEGIN:VEVENT
DTSTART;TZID=America/Chicago:20260328T090000
DTEND;TZID=America/Chicago:20260328T120000
DTSTAMP:20260421T084344
CREATED:20260311T184214Z
LAST-MODIFIED:20260311T184245Z
UID:10009884-1774688400-1774699200@texomaconnect.com
SUMMARY:Easter Egg Hunt and Flower Festival 2026
DESCRIPTION:Pilot Point Easter Egg Hunt and Flower Festival\nJoin Pilot Point Main Street for a beautiful spring day of activities!Head on down to the Pilot Point Square for our Flower Festival. We will have vendors on hand\, ready to make your home spring ready! Don’t miss the Easter Egg Hunt\, with 5\,000 eggs on hand at Old City Park. It will start PROMPTLY at 10 am!\nVendor booths are limited to gardening and homemade good sellers. The ONLY WAY to register for Main Street Events is to contact Event Coordinator Jennifer Neal at jneal@pilotpointtx.gov!\nWe will also have:– Easter Bonnet Contest\, put on by the downtown merchants– Gardening workshops– Live Music– Chalk Art
URL:https://texomaconnect.com/event/easter-egg-hunt-and-flower-festival-2026/
LOCATION:Pilot Point Historic Square\, 201 E Main St\, Pilot Point\, TX\, 76258\, United States
CATEGORIES:Easter Events,Festival,Youth Activities
ATTACH;FMTTYPE=image/png:https://texomaconnect.com/wp-content/uploads/2026/03/Easter-Egg-Hunt-and-Flower-Festival.png
GEO:33.396499;-96.958787
X-APPLE-STRUCTURED-LOCATION;VALUE=URI;X-ADDRESS=Pilot Point Historic Square 201 E Main St Pilot Point TX 76258 United States;X-APPLE-RADIUS=500;X-TITLE=201 E Main St:geo:-96.958787,33.396499
END:VEVENT
BEGIN:VEVENT
DTSTART;TZID=America/Chicago:20260328T100000
DTEND;TZID=America/Chicago:20260328T100000
DTSTAMP:20260421T084344
CREATED:20260305T193527Z
LAST-MODIFIED:20260305T193527Z
UID:10009869-1774692000-1774692000@texomaconnect.com
SUMMARY:Special Needs Eggs Hunt
DESCRIPTION:Special Needs Eggs Hunt at Pecan Grove East Park in Sherman\nJoin us for a celebration of inclusivity and fun at Pecan Grove East Park for a special egg hunt designed for kids of all abilities.  Explore the playground!  Egg Hunt will be on both the playground and grassy areas!  Prize eggs hidden among the treasures!  This event is free and open to kids of all abilities. Bring your basket and join the fun! \n  \nDesigned for families with children with special needs\, this inclusive egg hunt offers a welcoming\, low-stress environment where everyone can participate at their own pace. Thoughtful accommodations help ensure a fun and successful experience for all.
URL:https://texomaconnect.com/event/special-needs-eggs-hunt/
LOCATION:Pecan Grove East Park\, 3200 Canyon Creek Dr\, Sherman\, 75092\, United States
CATEGORIES:Easter Events,Youth Activities
ATTACH;FMTTYPE=image/png:https://texomaconnect.com/wp-content/uploads/2026/03/Sherman-Special-Needs-Easter-Egg-Hunt.png
ORGANIZER;CN="Sherman Parks and Recreation Department":MAILTO:http://shermanparks.com/contact/
GEO:33.662303;-96.6494812
X-APPLE-STRUCTURED-LOCATION;VALUE=URI;X-ADDRESS=Pecan Grove East Park 3200 Canyon Creek Dr Sherman 75092 United States;X-APPLE-RADIUS=500;X-TITLE=3200 Canyon Creek Dr:geo:-96.6494812,33.662303
END:VEVENT
BEGIN:VEVENT
DTSTART;TZID=America/Chicago:20260328T160000
DTEND;TZID=America/Chicago:20260328T160000
DTSTAMP:20260421T084344
CREATED:20260305T192208Z
LAST-MODIFIED:20260305T193653Z
UID:10009868-1774713600-1774713600@texomaconnect.com
SUMMARY:Eggstravaganza 2026
DESCRIPTION:Sherman Easter Egg Hunt at Fairview Park\nJoin us for the ultimate Easter egg hunt! With over 10\,000 eggs hidden throughout Fairview Park\, this is an event you don’t want to miss! To keep things fair and fun\, hunters will be divided into age groups\, so everyone gets a chance to collect plenty of eggs. Bring your camera and snap a photo with the Easter Bunny before or after the hunt!  No registration required – just bring your basket and get ready for fun! \nDon’t be late or you might miss out!  The hunt starts at 4pm sharp
URL:https://texomaconnect.com/event/eggstravaganza-2026/
LOCATION:Fairview Park\, 1121 W Taylor Street\, Sherman\, TX\, 75092\, United States
CATEGORIES:Easter Events,Youth Activities
ATTACH;FMTTYPE=image/png:https://texomaconnect.com/wp-content/uploads/2026/03/Eggtravaganza-2026.png
ORGANIZER;CN="Sherman Parks and Recreation Department":MAILTO:http://shermanparks.com/contact/
GEO:33.65273;-96.62545
X-APPLE-STRUCTURED-LOCATION;VALUE=URI;X-ADDRESS=Fairview Park 1121 W Taylor Street Sherman TX 75092 United States;X-APPLE-RADIUS=500;X-TITLE=1121 W Taylor Street:geo:-96.62545,33.65273
END:VEVENT
BEGIN:VEVENT
DTSTART;TZID=America/Chicago:20260328T170000
DTEND;TZID=America/Chicago:20260328T170000
DTSTAMP:20260421T084344
CREATED:20260312T202303Z
LAST-MODIFIED:20260312T203728Z
UID:10010266-1774717200-1774717200@texomaconnect.com
SUMMARY:Enos Cardinal Cove Easter Egg Hunt
DESCRIPTION:Enos Cardinal Cove Volunteer Fire Department Easter Egg Hunt 2026\nJoin us for a fun evening with the community at our Annual Easter Egg Hunt! \nLocation: Cardinal Cove Station \nHunt Times by Age Group:\n0–4 years old: 5:30 PM\n4–8 years old: 6:00 PM\n8–12 years old: 6:30 PM \nBring the kids out for a great time! We will have: \n\nBounce House\nHot Dogs\nChips\nWater\nPrizes for the kids\nEaster backdrop for photos\n\nThis is a free community event\, and everyone is welcome to come out and enjoy the fun with us. \nWeather Backup Date:\nApril 11\, 2026\nStarting at 5:00 PM\nCardinal Cove Station \nWe look forward to seeing everyone there! �� \n— Enos Cardinal Cove Volunteer Fire Department \n2752 June Hill Road\, Kingston\, OK
URL:https://texomaconnect.com/event/enos-cardinal-cove-easter-egg-hunt/
LOCATION:Cardinal Cove Volunteer Fire Department\, 2752 June Hill Rd\, Kingston\, OK\, 73439-4441\, United States
CATEGORIES:Easter Events,Youth Activities
ATTACH;FMTTYPE=image/png:https://texomaconnect.com/wp-content/uploads/2026/03/Enos-Cardinal-Cove-Easter-Egg-Hunt.png
GEO:33.8642437;-96.7738146
X-APPLE-STRUCTURED-LOCATION;VALUE=URI;X-ADDRESS=Cardinal Cove Volunteer Fire Department 2752 June Hill Rd Kingston OK 73439-4441 United States;X-APPLE-RADIUS=500;X-TITLE=2752 June Hill Rd:geo:-96.7738146,33.8642437
END:VEVENT
BEGIN:VEVENT
DTSTART;TZID=America/Chicago:20260330T100000
DTEND;TZID=America/Chicago:20260330T103000
DTSTAMP:20260421T084344
CREATED:20260314T195246Z
LAST-MODIFIED:20260314T195246Z
UID:10010692-1774864800-1774866600@texomaconnect.com
SUMMARY:Little Lambs
DESCRIPTION:Little Lambs for babies at the Denison Public Library\nJoin us in the library for our program designed for babies 0-2 years old and their parent/ caregiver. The program will begin March 23rd & 26th and end April 27th & 30th.
URL:https://texomaconnect.com/event/little-lambs-2/2026-03-30/
LOCATION:Denison Public Library\, 300 West Gandy Street\, Denison\, TX\, 75020\, United States
CATEGORIES:Youth Activities
ATTACH;FMTTYPE=image/png:https://texomaconnect.com/wp-content/uploads/2025/02/Little-Lambs.png
GEO:33.757153;-96.538799
X-APPLE-STRUCTURED-LOCATION;VALUE=URI;X-ADDRESS=Denison Public Library 300 West Gandy Street Denison TX 75020 United States;X-APPLE-RADIUS=500;X-TITLE=300 West Gandy Street:geo:-96.538799,33.757153
END:VEVENT
BEGIN:VEVENT
DTSTART;TZID=America/Chicago:20260330T100000
DTEND;TZID=America/Chicago:20260330T103000
DTSTAMP:20260421T084344
CREATED:20260314T200359Z
LAST-MODIFIED:20260314T200359Z
UID:10010720-1774864800-1774866600@texomaconnect.com
SUMMARY:Little Lambs
DESCRIPTION:Little Lambs at Denison Public Library\nJoin us in the library for our program designed for babies 0-2 years old and their parent/ caregiver. The program will begin March 23rd & 26th and end April 27th & 30th.
URL:https://texomaconnect.com/event/little-lambs-3/2026-03-30/
LOCATION:Denison Public Library\, 300 West Gandy Street\, Denison\, TX\, 75020\, United States
CATEGORIES:Youth Activities
ATTACH;FMTTYPE=image/png:https://texomaconnect.com/wp-content/uploads/2026/03/Little-Lambs-March-April-2026.png
GEO:33.757153;-96.538799
X-APPLE-STRUCTURED-LOCATION;VALUE=URI;X-ADDRESS=Denison Public Library 300 West Gandy Street Denison TX 75020 United States;X-APPLE-RADIUS=500;X-TITLE=300 West Gandy Street:geo:-96.538799,33.757153
END:VEVENT
BEGIN:VEVENT
DTSTART;TZID=America/Chicago:20260330T103000
DTEND;TZID=America/Chicago:20260330T120000
DTSTAMP:20260421T084344
CREATED:20260314T202808Z
LAST-MODIFIED:20260314T202808Z
UID:10010744-1774866600-1774872000@texomaconnect.com
SUMMARY:Joyful Noise
DESCRIPTION:Joyful Noise at Denison Public Library\nJoin us in the library for our program designed for children 3-5 years old and their parent/ caregiver. The program will begin March 23rd & 26th and end April 20th & 23rd.
URL:https://texomaconnect.com/event/joyful-noise/2026-03-30/
LOCATION:Denison Public Library\, 300 West Gandy Street\, Denison\, TX\, 75020\, United States
CATEGORIES:Youth Activities
ATTACH;FMTTYPE=image/png:https://texomaconnect.com/wp-content/uploads/2026/03/Joyful-Noise-March-April-2026.png
GEO:33.757153;-96.538799
X-APPLE-STRUCTURED-LOCATION;VALUE=URI;X-ADDRESS=Denison Public Library 300 West Gandy Street Denison TX 75020 United States;X-APPLE-RADIUS=500;X-TITLE=300 West Gandy Street:geo:-96.538799,33.757153
END:VEVENT
BEGIN:VEVENT
DTSTART;TZID=America/Chicago:20260330T104500
DTEND;TZID=America/Chicago:20260330T111500
DTSTAMP:20260421T084344
CREATED:20260314T201620Z
LAST-MODIFIED:20260314T201620Z
UID:10010732-1774867500-1774869300@texomaconnect.com
SUMMARY:Wonder Years
DESCRIPTION:Wonder Years at the Denison Public Library\nJoin us in the library for our program designed for children 2-5 years old and their parent/ caregiver. The program will begin March 23rd & 26th and end April 27th & 30th.
URL:https://texomaconnect.com/event/wonder-years/2026-03-30/
LOCATION:Denison Public Library\, 300 West Gandy Street\, Denison\, TX\, 75020\, United States
CATEGORIES:Youth Activities
ATTACH;FMTTYPE=image/png:https://texomaconnect.com/wp-content/uploads/2026/03/Wonder-Years-March-April-2026.png
GEO:33.757153;-96.538799
X-APPLE-STRUCTURED-LOCATION;VALUE=URI;X-ADDRESS=Denison Public Library 300 West Gandy Street Denison TX 75020 United States;X-APPLE-RADIUS=500;X-TITLE=300 West Gandy Street:geo:-96.538799,33.757153
END:VEVENT
END:VCALENDAR