BEGIN:VCALENDAR
VERSION:2.0
PRODID:-//Texoma Connect - ECPv6.15.20//NONSGML v1.0//EN
CALSCALE:GREGORIAN
METHOD:PUBLISH
X-ORIGINAL-URL:https://texomaconnect.com
X-WR-CALDESC:Events for Texoma Connect
REFRESH-INTERVAL;VALUE=DURATION:PT1H
X-Robots-Tag:noindex
X-PUBLISHED-TTL:PT1H
BEGIN:VTIMEZONE
TZID:America/Chicago
BEGIN:DAYLIGHT
TZOFFSETFROM:-0600
TZOFFSETTO:-0500
TZNAME:CDT
DTSTART:20250309T080000
END:DAYLIGHT
BEGIN:STANDARD
TZOFFSETFROM:-0500
TZOFFSETTO:-0600
TZNAME:CST
DTSTART:20251102T070000
END:STANDARD
BEGIN:DAYLIGHT
TZOFFSETFROM:-0600
TZOFFSETTO:-0500
TZNAME:CDT
DTSTART:20260308T080000
END:DAYLIGHT
BEGIN:STANDARD
TZOFFSETFROM:-0500
TZOFFSETTO:-0600
TZNAME:CST
DTSTART:20261101T070000
END:STANDARD
BEGIN:DAYLIGHT
TZOFFSETFROM:-0600
TZOFFSETTO:-0500
TZNAME:CDT
DTSTART:20270314T080000
END:DAYLIGHT
BEGIN:STANDARD
TZOFFSETFROM:-0500
TZOFFSETTO:-0600
TZNAME:CST
DTSTART:20271107T070000
END:STANDARD
END:VTIMEZONE
BEGIN:VEVENT
DTSTART;TZID=America/Chicago:20260627T170000
DTEND;TZID=America/Chicago:20260627T170000
DTSTAMP:20260421T203438
CREATED:20260320T173818Z
LAST-MODIFIED:20260320T173818Z
UID:10010761-1782579600-1782579600@texomaconnect.com
SUMMARY:Splash and Blast
DESCRIPTION:Celina Splash and Blast\nIt’s time for this year’s Splash & Blast\, Celina’s Biggest Summer Bash at Old Celina Park! Join us on Saturday\, June 27\, from 5:00 – 10:00 PM for an unforgettable day of family-friendly fun and entertainment.\nBring the whole family for a day packed with excitement – admission is FREE! Enjoy live music and dive into the thrill of our Kids Zone\, complete with water slides and more. Kids can conquer the Ninja Nation Obstacle Course (remember to bring those closed-toe shoes!). It’s an adventure-filled day where laughter and joy abound.\nDisclaimer: Please be aware that only posts made by the official event organizer on this page are verified. For information regarding vendor and market applications\, please visit our official website at www.LifeInCelinaTX.com We cannot guarantee the accuracy of information shared by other users.
URL:https://texomaconnect.com/event/splash-and-blast/
LOCATION:Old Celina Park\, 1270 FM 428\, Celina\, TX\, 75009\, United States
CATEGORIES:July 4th Celebrations,Youth Activities
ATTACH;FMTTYPE=image/png:https://texomaconnect.com/wp-content/uploads/2026/03/Celina-Splash-Blast-Fireworks.png
GEO:33.318665;-96.803318
X-APPLE-STRUCTURED-LOCATION;VALUE=URI;X-ADDRESS=Old Celina Park 1270 FM 428 Celina TX 75009 United States;X-APPLE-RADIUS=500;X-TITLE=1270 FM 428:geo:-96.803318,33.318665
END:VEVENT
BEGIN:VEVENT
DTSTART;TZID=America/Chicago:20260702T170000
DTEND;TZID=America/Chicago:20260702T220000
DTSTAMP:20260421T203438
CREATED:20260331T172906Z
LAST-MODIFIED:20260331T173030Z
UID:10010769-1783011600-1783029600@texomaconnect.com
SUMMARY:2026 Proper's Pride in the Sky
DESCRIPTION:2026 Proper’s Pride in the Sky Independent Day Celebration\nCedarbrook Media is excited to announce the 14th Annual Prosper Pride in the Sky event! It is a wonderful evening of celebration for our town and our country\, complete with Live Music\, Kid Zones\, Food\, the Posting of the Flags\, Games and Fireworks set to music! One of the largest events in the area\, it’s a great way to enjoy the holiday with all of your friends and neighbors!\n\nPride in the Sky is held at Frontier Park\, which is located at 1551 W. Frontier Parkway in Prosper\, Texas. Cedarbrook Media partners with the Town of Prosper to utilize the entire park facility\, including the ball fields\, pavilions and parking lots. HUGE Kid Zones with inflatables\, rides\, and games throughout the park. There will also be live music at the Main Stage. Pride in the Sky event is the best display of patriotism in all of North Dallas!\n\nPlease visit www.PrideInTheSky.com for all of the details and information about this year’s event!
URL:https://texomaconnect.com/event/2026-propers-pride-in-the-sky/
LOCATION:Frontier Park\, 1551 W Frontier Pkwy\, Prosper\, TX\, 75078\, United States
CATEGORIES:July 4th Celebrations,Youth Activities
ATTACH;FMTTYPE=image/png:https://texomaconnect.com/wp-content/uploads/2026/03/2026-Prosper-Pride-in-the-Sky.png
GEO:33.2631409;-96.8119877
X-APPLE-STRUCTURED-LOCATION;VALUE=URI;X-ADDRESS=Frontier Park 1551 W Frontier Pkwy Prosper TX 75078 United States;X-APPLE-RADIUS=500;X-TITLE=1551 W Frontier Pkwy:geo:-96.8119877,33.2631409
END:VEVENT
BEGIN:VEVENT
DTSTART;TZID=America/Chicago:20260703T130000
DTEND;TZID=America/Chicago:20260703T150000
DTSTAMP:20260421T203438
CREATED:20260223T181645Z
LAST-MODIFIED:20260223T181645Z
UID:10009858-1783083600-1783090800@texomaconnect.com
SUMMARY:Homeschool Swim Date at Waterloo Pool
DESCRIPTION:Homeschool Swim Date at Waterloo Pool in Denison\nJoin us for Homeschool Swim Day\, a great opportunity for homeschool families and friends to gather and enjoy time in the pool together. Swim in our heated pool\, maintained at a comfortable 87 degrees\, and enjoy a relaxed\, family-friendly environment.\n\nLife jackets are available at no additional charge.\n\nResident and Non-Resident admission fees apply\, call Waterloo Pool for more information! \nSee less
URL:https://texomaconnect.com/event/homeschool-swim-date-at-waterloo-pool/2026-07-03/
LOCATION:Waterloo Pool\, 1501 W Brock St\,\, Denison\, TX\, 75020\, United States
CATEGORIES:Sports and Recreation,Youth Activities
ATTACH;FMTTYPE=image/png:https://texomaconnect.com/wp-content/uploads/2026/02/Homeschool-Swim-Days.png
GEO:33.7388906;-96.5588802
X-APPLE-STRUCTURED-LOCATION;VALUE=URI;X-ADDRESS=Waterloo Pool 1501 W Brock St Denison TX 75020 United States;X-APPLE-RADIUS=500;X-TITLE=1501 W Brock St\,:geo:-96.5588802,33.7388906
END:VEVENT
BEGIN:VEVENT
DTSTART;TZID=America/Chicago:20260807T130000
DTEND;TZID=America/Chicago:20260807T150000
DTSTAMP:20260421T203438
CREATED:20260223T181645Z
LAST-MODIFIED:20260223T181645Z
UID:10009859-1786107600-1786114800@texomaconnect.com
SUMMARY:Homeschool Swim Date at Waterloo Pool
DESCRIPTION:Homeschool Swim Date at Waterloo Pool in Denison\nJoin us for Homeschool Swim Day\, a great opportunity for homeschool families and friends to gather and enjoy time in the pool together. Swim in our heated pool\, maintained at a comfortable 87 degrees\, and enjoy a relaxed\, family-friendly environment.\n\nLife jackets are available at no additional charge.\n\nResident and Non-Resident admission fees apply\, call Waterloo Pool for more information! \nSee less
URL:https://texomaconnect.com/event/homeschool-swim-date-at-waterloo-pool/2026-08-07/
LOCATION:Waterloo Pool\, 1501 W Brock St\,\, Denison\, TX\, 75020\, United States
CATEGORIES:Sports and Recreation,Youth Activities
ATTACH;FMTTYPE=image/png:https://texomaconnect.com/wp-content/uploads/2026/02/Homeschool-Swim-Days.png
GEO:33.7388906;-96.5588802
X-APPLE-STRUCTURED-LOCATION;VALUE=URI;X-ADDRESS=Waterloo Pool 1501 W Brock St Denison TX 75020 United States;X-APPLE-RADIUS=500;X-TITLE=1501 W Brock St\,:geo:-96.5588802,33.7388906
END:VEVENT
BEGIN:VEVENT
DTSTART;TZID=America/Chicago:20260904T130000
DTEND;TZID=America/Chicago:20260904T150000
DTSTAMP:20260421T203438
CREATED:20260223T181645Z
LAST-MODIFIED:20260223T181645Z
UID:10009860-1788526800-1788534000@texomaconnect.com
SUMMARY:Homeschool Swim Date at Waterloo Pool
DESCRIPTION:Homeschool Swim Date at Waterloo Pool in Denison\nJoin us for Homeschool Swim Day\, a great opportunity for homeschool families and friends to gather and enjoy time in the pool together. Swim in our heated pool\, maintained at a comfortable 87 degrees\, and enjoy a relaxed\, family-friendly environment.\n\nLife jackets are available at no additional charge.\n\nResident and Non-Resident admission fees apply\, call Waterloo Pool for more information! \nSee less
URL:https://texomaconnect.com/event/homeschool-swim-date-at-waterloo-pool/2026-09-04/
LOCATION:Waterloo Pool\, 1501 W Brock St\,\, Denison\, TX\, 75020\, United States
CATEGORIES:Sports and Recreation,Youth Activities
ATTACH;FMTTYPE=image/png:https://texomaconnect.com/wp-content/uploads/2026/02/Homeschool-Swim-Days.png
GEO:33.7388906;-96.5588802
X-APPLE-STRUCTURED-LOCATION;VALUE=URI;X-ADDRESS=Waterloo Pool 1501 W Brock St Denison TX 75020 United States;X-APPLE-RADIUS=500;X-TITLE=1501 W Brock St\,:geo:-96.5588802,33.7388906
END:VEVENT
BEGIN:VEVENT
DTSTART;TZID=America/Chicago:20261002T130000
DTEND;TZID=America/Chicago:20261002T150000
DTSTAMP:20260421T203438
CREATED:20260223T181645Z
LAST-MODIFIED:20260223T181645Z
UID:10009861-1790946000-1790953200@texomaconnect.com
SUMMARY:Homeschool Swim Date at Waterloo Pool
DESCRIPTION:Homeschool Swim Date at Waterloo Pool in Denison\nJoin us for Homeschool Swim Day\, a great opportunity for homeschool families and friends to gather and enjoy time in the pool together. Swim in our heated pool\, maintained at a comfortable 87 degrees\, and enjoy a relaxed\, family-friendly environment.\n\nLife jackets are available at no additional charge.\n\nResident and Non-Resident admission fees apply\, call Waterloo Pool for more information! \nSee less
URL:https://texomaconnect.com/event/homeschool-swim-date-at-waterloo-pool/2026-10-02/
LOCATION:Waterloo Pool\, 1501 W Brock St\,\, Denison\, TX\, 75020\, United States
CATEGORIES:Sports and Recreation,Youth Activities
ATTACH;FMTTYPE=image/png:https://texomaconnect.com/wp-content/uploads/2026/02/Homeschool-Swim-Days.png
GEO:33.7388906;-96.5588802
X-APPLE-STRUCTURED-LOCATION;VALUE=URI;X-ADDRESS=Waterloo Pool 1501 W Brock St Denison TX 75020 United States;X-APPLE-RADIUS=500;X-TITLE=1501 W Brock St\,:geo:-96.5588802,33.7388906
END:VEVENT
BEGIN:VEVENT
DTSTART;TZID=America/Chicago:20261106T130000
DTEND;TZID=America/Chicago:20261106T150000
DTSTAMP:20260421T203438
CREATED:20260223T181645Z
LAST-MODIFIED:20260223T181645Z
UID:10009862-1793970000-1793977200@texomaconnect.com
SUMMARY:Homeschool Swim Date at Waterloo Pool
DESCRIPTION:Homeschool Swim Date at Waterloo Pool in Denison\nJoin us for Homeschool Swim Day\, a great opportunity for homeschool families and friends to gather and enjoy time in the pool together. Swim in our heated pool\, maintained at a comfortable 87 degrees\, and enjoy a relaxed\, family-friendly environment.\n\nLife jackets are available at no additional charge.\n\nResident and Non-Resident admission fees apply\, call Waterloo Pool for more information! \nSee less
URL:https://texomaconnect.com/event/homeschool-swim-date-at-waterloo-pool/2026-11-06/
LOCATION:Waterloo Pool\, 1501 W Brock St\,\, Denison\, TX\, 75020\, United States
CATEGORIES:Sports and Recreation,Youth Activities
ATTACH;FMTTYPE=image/png:https://texomaconnect.com/wp-content/uploads/2026/02/Homeschool-Swim-Days.png
GEO:33.7388906;-96.5588802
X-APPLE-STRUCTURED-LOCATION;VALUE=URI;X-ADDRESS=Waterloo Pool 1501 W Brock St Denison TX 75020 United States;X-APPLE-RADIUS=500;X-TITLE=1501 W Brock St\,:geo:-96.5588802,33.7388906
END:VEVENT
BEGIN:VEVENT
DTSTART;TZID=America/Chicago:20261204T130000
DTEND;TZID=America/Chicago:20261204T150000
DTSTAMP:20260421T203438
CREATED:20260223T181645Z
LAST-MODIFIED:20260223T181645Z
UID:10009863-1796389200-1796396400@texomaconnect.com
SUMMARY:Homeschool Swim Date at Waterloo Pool
DESCRIPTION:Homeschool Swim Date at Waterloo Pool in Denison\nJoin us for Homeschool Swim Day\, a great opportunity for homeschool families and friends to gather and enjoy time in the pool together. Swim in our heated pool\, maintained at a comfortable 87 degrees\, and enjoy a relaxed\, family-friendly environment.\n\nLife jackets are available at no additional charge.\n\nResident and Non-Resident admission fees apply\, call Waterloo Pool for more information! \nSee less
URL:https://texomaconnect.com/event/homeschool-swim-date-at-waterloo-pool/2026-12-04/
LOCATION:Waterloo Pool\, 1501 W Brock St\,\, Denison\, TX\, 75020\, United States
CATEGORIES:Sports and Recreation,Youth Activities
ATTACH;FMTTYPE=image/png:https://texomaconnect.com/wp-content/uploads/2026/02/Homeschool-Swim-Days.png
GEO:33.7388906;-96.5588802
X-APPLE-STRUCTURED-LOCATION;VALUE=URI;X-ADDRESS=Waterloo Pool 1501 W Brock St Denison TX 75020 United States;X-APPLE-RADIUS=500;X-TITLE=1501 W Brock St\,:geo:-96.5588802,33.7388906
END:VEVENT
END:VCALENDAR