BEGIN:VCALENDAR
VERSION:2.0
PRODID:-//Texoma Connect - ECPv6.15.20//NONSGML v1.0//EN
CALSCALE:GREGORIAN
METHOD:PUBLISH
X-ORIGINAL-URL:https://texomaconnect.com
X-WR-CALDESC:Events for Texoma Connect
REFRESH-INTERVAL;VALUE=DURATION:PT1H
X-Robots-Tag:noindex
X-PUBLISHED-TTL:PT1H
BEGIN:VTIMEZONE
TZID:America/Chicago
BEGIN:DAYLIGHT
TZOFFSETFROM:-0600
TZOFFSETTO:-0500
TZNAME:CDT
DTSTART:20250309T080000
END:DAYLIGHT
BEGIN:STANDARD
TZOFFSETFROM:-0500
TZOFFSETTO:-0600
TZNAME:CST
DTSTART:20251102T070000
END:STANDARD
BEGIN:DAYLIGHT
TZOFFSETFROM:-0600
TZOFFSETTO:-0500
TZNAME:CDT
DTSTART:20260308T080000
END:DAYLIGHT
BEGIN:STANDARD
TZOFFSETFROM:-0500
TZOFFSETTO:-0600
TZNAME:CST
DTSTART:20261101T070000
END:STANDARD
BEGIN:DAYLIGHT
TZOFFSETFROM:-0600
TZOFFSETTO:-0500
TZNAME:CDT
DTSTART:20270314T080000
END:DAYLIGHT
BEGIN:STANDARD
TZOFFSETFROM:-0500
TZOFFSETTO:-0600
TZNAME:CST
DTSTART:20271107T070000
END:STANDARD
END:VTIMEZONE
BEGIN:VEVENT
DTSTART;TZID=America/Chicago:20260406T100000
DTEND;TZID=America/Chicago:20260406T103000
DTSTAMP:20260421T101611
CREATED:20260314T195246Z
LAST-MODIFIED:20260314T195246Z
UID:10010694-1775469600-1775471400@texomaconnect.com
SUMMARY:Little Lambs
DESCRIPTION:Little Lambs for babies at the Denison Public Library\nJoin us in the library for our program designed for babies 0-2 years old and their parent/ caregiver. The program will begin March 23rd & 26th and end April 27th & 30th.
URL:https://texomaconnect.com/event/little-lambs-2/2026-04-06/
LOCATION:Denison Public Library\, 300 West Gandy Street\, Denison\, TX\, 75020\, United States
CATEGORIES:Youth Activities
ATTACH;FMTTYPE=image/png:https://texomaconnect.com/wp-content/uploads/2025/02/Little-Lambs.png
GEO:33.757153;-96.538799
X-APPLE-STRUCTURED-LOCATION;VALUE=URI;X-ADDRESS=Denison Public Library 300 West Gandy Street Denison TX 75020 United States;X-APPLE-RADIUS=500;X-TITLE=300 West Gandy Street:geo:-96.538799,33.757153
END:VEVENT
BEGIN:VEVENT
DTSTART;TZID=America/Chicago:20260406T100000
DTEND;TZID=America/Chicago:20260406T103000
DTSTAMP:20260421T101611
CREATED:20260314T200359Z
LAST-MODIFIED:20260314T200359Z
UID:10010722-1775469600-1775471400@texomaconnect.com
SUMMARY:Little Lambs
DESCRIPTION:Little Lambs at Denison Public Library\nJoin us in the library for our program designed for babies 0-2 years old and their parent/ caregiver. The program will begin March 23rd & 26th and end April 27th & 30th.
URL:https://texomaconnect.com/event/little-lambs-3/2026-04-06/
LOCATION:Denison Public Library\, 300 West Gandy Street\, Denison\, TX\, 75020\, United States
CATEGORIES:Youth Activities
ATTACH;FMTTYPE=image/png:https://texomaconnect.com/wp-content/uploads/2026/03/Little-Lambs-March-April-2026.png
GEO:33.757153;-96.538799
X-APPLE-STRUCTURED-LOCATION;VALUE=URI;X-ADDRESS=Denison Public Library 300 West Gandy Street Denison TX 75020 United States;X-APPLE-RADIUS=500;X-TITLE=300 West Gandy Street:geo:-96.538799,33.757153
END:VEVENT
BEGIN:VEVENT
DTSTART;TZID=America/Chicago:20260406T103000
DTEND;TZID=America/Chicago:20260406T120000
DTSTAMP:20260421T101611
CREATED:20260314T202808Z
LAST-MODIFIED:20260314T202808Z
UID:10010746-1775471400-1775476800@texomaconnect.com
SUMMARY:Joyful Noise
DESCRIPTION:Joyful Noise at Denison Public Library\nJoin us in the library for our program designed for children 3-5 years old and their parent/ caregiver. The program will begin March 23rd & 26th and end April 20th & 23rd.
URL:https://texomaconnect.com/event/joyful-noise/2026-04-06/
LOCATION:Denison Public Library\, 300 West Gandy Street\, Denison\, TX\, 75020\, United States
CATEGORIES:Youth Activities
ATTACH;FMTTYPE=image/png:https://texomaconnect.com/wp-content/uploads/2026/03/Joyful-Noise-March-April-2026.png
GEO:33.757153;-96.538799
X-APPLE-STRUCTURED-LOCATION;VALUE=URI;X-ADDRESS=Denison Public Library 300 West Gandy Street Denison TX 75020 United States;X-APPLE-RADIUS=500;X-TITLE=300 West Gandy Street:geo:-96.538799,33.757153
END:VEVENT
BEGIN:VEVENT
DTSTART;TZID=America/Chicago:20260406T104500
DTEND;TZID=America/Chicago:20260406T111500
DTSTAMP:20260421T101611
CREATED:20260314T201620Z
LAST-MODIFIED:20260314T201620Z
UID:10010734-1775472300-1775474100@texomaconnect.com
SUMMARY:Wonder Years
DESCRIPTION:Wonder Years at the Denison Public Library\nJoin us in the library for our program designed for children 2-5 years old and their parent/ caregiver. The program will begin March 23rd & 26th and end April 27th & 30th.
URL:https://texomaconnect.com/event/wonder-years/2026-04-06/
LOCATION:Denison Public Library\, 300 West Gandy Street\, Denison\, TX\, 75020\, United States
CATEGORIES:Youth Activities
ATTACH;FMTTYPE=image/png:https://texomaconnect.com/wp-content/uploads/2026/03/Wonder-Years-March-April-2026.png
GEO:33.757153;-96.538799
X-APPLE-STRUCTURED-LOCATION;VALUE=URI;X-ADDRESS=Denison Public Library 300 West Gandy Street Denison TX 75020 United States;X-APPLE-RADIUS=500;X-TITLE=300 West Gandy Street:geo:-96.538799,33.757153
END:VEVENT
BEGIN:VEVENT
DTSTART;TZID=America/Chicago:20260409T100000
DTEND;TZID=America/Chicago:20260409T103000
DTSTAMP:20260421T101611
CREATED:20260314T195246Z
LAST-MODIFIED:20260314T195246Z
UID:10010695-1775728800-1775730600@texomaconnect.com
SUMMARY:Little Lambs
DESCRIPTION:Little Lambs for babies at the Denison Public Library\nJoin us in the library for our program designed for babies 0-2 years old and their parent/ caregiver. The program will begin March 23rd & 26th and end April 27th & 30th.
URL:https://texomaconnect.com/event/little-lambs-2/2026-04-09/
LOCATION:Denison Public Library\, 300 West Gandy Street\, Denison\, TX\, 75020\, United States
CATEGORIES:Youth Activities
ATTACH;FMTTYPE=image/png:https://texomaconnect.com/wp-content/uploads/2025/02/Little-Lambs.png
GEO:33.757153;-96.538799
X-APPLE-STRUCTURED-LOCATION;VALUE=URI;X-ADDRESS=Denison Public Library 300 West Gandy Street Denison TX 75020 United States;X-APPLE-RADIUS=500;X-TITLE=300 West Gandy Street:geo:-96.538799,33.757153
END:VEVENT
BEGIN:VEVENT
DTSTART;TZID=America/Chicago:20260409T100000
DTEND;TZID=America/Chicago:20260409T103000
DTSTAMP:20260421T101611
CREATED:20260314T200359Z
LAST-MODIFIED:20260314T200359Z
UID:10010723-1775728800-1775730600@texomaconnect.com
SUMMARY:Little Lambs
DESCRIPTION:Little Lambs at Denison Public Library\nJoin us in the library for our program designed for babies 0-2 years old and their parent/ caregiver. The program will begin March 23rd & 26th and end April 27th & 30th.
URL:https://texomaconnect.com/event/little-lambs-3/2026-04-09/
LOCATION:Denison Public Library\, 300 West Gandy Street\, Denison\, TX\, 75020\, United States
CATEGORIES:Youth Activities
ATTACH;FMTTYPE=image/png:https://texomaconnect.com/wp-content/uploads/2026/03/Little-Lambs-March-April-2026.png
GEO:33.757153;-96.538799
X-APPLE-STRUCTURED-LOCATION;VALUE=URI;X-ADDRESS=Denison Public Library 300 West Gandy Street Denison TX 75020 United States;X-APPLE-RADIUS=500;X-TITLE=300 West Gandy Street:geo:-96.538799,33.757153
END:VEVENT
BEGIN:VEVENT
DTSTART;TZID=America/Chicago:20260409T103000
DTEND;TZID=America/Chicago:20260409T120000
DTSTAMP:20260421T101611
CREATED:20260314T202808Z
LAST-MODIFIED:20260314T202808Z
UID:10010747-1775730600-1775736000@texomaconnect.com
SUMMARY:Joyful Noise
DESCRIPTION:Joyful Noise at Denison Public Library\nJoin us in the library for our program designed for children 3-5 years old and their parent/ caregiver. The program will begin March 23rd & 26th and end April 20th & 23rd.
URL:https://texomaconnect.com/event/joyful-noise/2026-04-09/
LOCATION:Denison Public Library\, 300 West Gandy Street\, Denison\, TX\, 75020\, United States
CATEGORIES:Youth Activities
ATTACH;FMTTYPE=image/png:https://texomaconnect.com/wp-content/uploads/2026/03/Joyful-Noise-March-April-2026.png
GEO:33.757153;-96.538799
X-APPLE-STRUCTURED-LOCATION;VALUE=URI;X-ADDRESS=Denison Public Library 300 West Gandy Street Denison TX 75020 United States;X-APPLE-RADIUS=500;X-TITLE=300 West Gandy Street:geo:-96.538799,33.757153
END:VEVENT
BEGIN:VEVENT
DTSTART;TZID=America/Chicago:20260409T104500
DTEND;TZID=America/Chicago:20260409T111500
DTSTAMP:20260421T101611
CREATED:20260314T201620Z
LAST-MODIFIED:20260314T201620Z
UID:10010735-1775731500-1775733300@texomaconnect.com
SUMMARY:Wonder Years
DESCRIPTION:Wonder Years at the Denison Public Library\nJoin us in the library for our program designed for children 2-5 years old and their parent/ caregiver. The program will begin March 23rd & 26th and end April 27th & 30th.
URL:https://texomaconnect.com/event/wonder-years/2026-04-09/
LOCATION:Denison Public Library\, 300 West Gandy Street\, Denison\, TX\, 75020\, United States
CATEGORIES:Youth Activities
ATTACH;FMTTYPE=image/png:https://texomaconnect.com/wp-content/uploads/2026/03/Wonder-Years-March-April-2026.png
GEO:33.757153;-96.538799
X-APPLE-STRUCTURED-LOCATION;VALUE=URI;X-ADDRESS=Denison Public Library 300 West Gandy Street Denison TX 75020 United States;X-APPLE-RADIUS=500;X-TITLE=300 West Gandy Street:geo:-96.538799,33.757153
END:VEVENT
BEGIN:VEVENT
DTSTART;TZID=America/Chicago:20260411T100000
DTEND;TZID=America/Chicago:20260411T100000
DTSTAMP:20260421T101611
CREATED:20260305T194213Z
LAST-MODIFIED:20260305T194213Z
UID:10009870-1775901600-1775901600@texomaconnect.com
SUMMARY:Touch a Truck
DESCRIPTION:Touch a Truck at Pecan Grove Park West in Sherman Texas\nKids can explore\, climb on\, and learn about vehicles of all shapes and sizes at this hands-on community favorite. The first hour will be a silent hour\, providing a more sensory-friendly experience. FREE Admission.
URL:https://texomaconnect.com/event/touch-a-truck/
LOCATION:Pecan Grove Park West\, 3200 Canyon Creek Dr\,\, Sherman\, TX\, 75092\, United States
CATEGORIES:Youth Activities
ATTACH;FMTTYPE=image/png:https://texomaconnect.com/wp-content/uploads/2026/03/Touch-a-Truck.png
ORGANIZER;CN="Sherman Parks and Recreation Department":MAILTO:http://shermanparks.com/contact/
GEO:33.665336;-96.649352
X-APPLE-STRUCTURED-LOCATION;VALUE=URI;X-ADDRESS=Pecan Grove Park West 3200 Canyon Creek Dr Sherman TX 75092 United States;X-APPLE-RADIUS=500;X-TITLE=3200 Canyon Creek Dr\,:geo:-96.649352,33.665336
END:VEVENT
BEGIN:VEVENT
DTSTART;TZID=America/Chicago:20260411T110000
DTEND;TZID=America/Chicago:20260411T110000
DTSTAMP:20260421T101611
CREATED:20260311T184830Z
LAST-MODIFIED:20260311T184830Z
UID:10009885-1775905200-1775905200@texomaconnect.com
SUMMARY:Sherman Elks Easter Egg Hunt
DESCRIPTION:Sherman Elks Lodge BPOE 2280 Easter Egg Hunt\nJoin us as we honor our kids with an Easter Egg Hunt. We’d LOVE to see you bring your kids\, grandkids\, nieces and/or nephews. Guests are ALWAYS w”ELK”ome at the Elks Lodge\, and we have PLENTY of eggs for ALL the kids.\nSome of the eggs will have tickets in them\, for prizes. AND\, our Easter Bunny will MOST definitely be making an appearance.\nWe will have FREE hot dogs and chips for ALL the kids.
URL:https://texomaconnect.com/event/sherman-elks-easter-egg-hunt/
LOCATION:The Sherman Elks Lodge BPOE 2280\, 1713 FM 1417\, Sherman\, TX\, 75090\, United States
CATEGORIES:Easter Events,Youth Activities
ATTACH;FMTTYPE=image/png:https://texomaconnect.com/wp-content/uploads/2026/03/Sherman-elks-Easter-Egg-Hunt.png
GEO:33.6356618;-96.6088805
X-APPLE-STRUCTURED-LOCATION;VALUE=URI;X-ADDRESS=The Sherman Elks Lodge BPOE 2280 1713 FM 1417 Sherman TX 75090 United States;X-APPLE-RADIUS=500;X-TITLE=1713 FM 1417:geo:-96.6088805,33.6356618
END:VEVENT
END:VCALENDAR