BEGIN:VCALENDAR
VERSION:2.0
PRODID:-//Texoma Connect - ECPv6.15.20//NONSGML v1.0//EN
CALSCALE:GREGORIAN
METHOD:PUBLISH
X-WR-CALNAME:Texoma Connect
X-ORIGINAL-URL:https://texomaconnect.com
X-WR-CALDESC:Events for Texoma Connect
REFRESH-INTERVAL;VALUE=DURATION:PT1H
X-Robots-Tag:noindex
X-PUBLISHED-TTL:PT1H
BEGIN:VTIMEZONE
TZID:America/Chicago
BEGIN:DAYLIGHT
TZOFFSETFROM:-0600
TZOFFSETTO:-0500
TZNAME:CDT
DTSTART:20250309T080000
END:DAYLIGHT
BEGIN:STANDARD
TZOFFSETFROM:-0500
TZOFFSETTO:-0600
TZNAME:CST
DTSTART:20251102T070000
END:STANDARD
BEGIN:DAYLIGHT
TZOFFSETFROM:-0600
TZOFFSETTO:-0500
TZNAME:CDT
DTSTART:20260308T080000
END:DAYLIGHT
BEGIN:STANDARD
TZOFFSETFROM:-0500
TZOFFSETTO:-0600
TZNAME:CST
DTSTART:20261101T070000
END:STANDARD
BEGIN:DAYLIGHT
TZOFFSETFROM:-0600
TZOFFSETTO:-0500
TZNAME:CDT
DTSTART:20270314T080000
END:DAYLIGHT
BEGIN:STANDARD
TZOFFSETFROM:-0500
TZOFFSETTO:-0600
TZNAME:CST
DTSTART:20271107T070000
END:STANDARD
END:VTIMEZONE
BEGIN:VEVENT
DTSTART;TZID=America/Chicago:20260702T170000
DTEND;TZID=America/Chicago:20260702T220000
DTSTAMP:20260422T041306
CREATED:20260331T172906Z
LAST-MODIFIED:20260331T173030Z
UID:10010769-1783011600-1783029600@texomaconnect.com
SUMMARY:2026 Proper's Pride in the Sky
DESCRIPTION:2026 Proper’s Pride in the Sky Independent Day Celebration\nCedarbrook Media is excited to announce the 14th Annual Prosper Pride in the Sky event! It is a wonderful evening of celebration for our town and our country\, complete with Live Music\, Kid Zones\, Food\, the Posting of the Flags\, Games and Fireworks set to music! One of the largest events in the area\, it’s a great way to enjoy the holiday with all of your friends and neighbors!\n\nPride in the Sky is held at Frontier Park\, which is located at 1551 W. Frontier Parkway in Prosper\, Texas. Cedarbrook Media partners with the Town of Prosper to utilize the entire park facility\, including the ball fields\, pavilions and parking lots. HUGE Kid Zones with inflatables\, rides\, and games throughout the park. There will also be live music at the Main Stage. Pride in the Sky event is the best display of patriotism in all of North Dallas!\n\nPlease visit www.PrideInTheSky.com for all of the details and information about this year’s event!
URL:https://texomaconnect.com/event/2026-propers-pride-in-the-sky/
LOCATION:Frontier Park\, 1551 W Frontier Pkwy\, Prosper\, TX\, 75078\, United States
CATEGORIES:July 4th Celebrations,Youth Activities
ATTACH;FMTTYPE=image/png:https://texomaconnect.com/wp-content/uploads/2026/03/2026-Prosper-Pride-in-the-Sky.png
GEO:33.2631409;-96.8119877
X-APPLE-STRUCTURED-LOCATION;VALUE=URI;X-ADDRESS=Frontier Park 1551 W Frontier Pkwy Prosper TX 75078 United States;X-APPLE-RADIUS=500;X-TITLE=1551 W Frontier Pkwy:geo:-96.8119877,33.2631409
END:VEVENT
BEGIN:VEVENT
DTSTART;TZID=America/Chicago:20260703T130000
DTEND;TZID=America/Chicago:20260703T150000
DTSTAMP:20260422T041306
CREATED:20260223T181645Z
LAST-MODIFIED:20260223T181645Z
UID:10009858-1783083600-1783090800@texomaconnect.com
SUMMARY:Homeschool Swim Date at Waterloo Pool
DESCRIPTION:Homeschool Swim Date at Waterloo Pool in Denison\nJoin us for Homeschool Swim Day\, a great opportunity for homeschool families and friends to gather and enjoy time in the pool together. Swim in our heated pool\, maintained at a comfortable 87 degrees\, and enjoy a relaxed\, family-friendly environment.\n\nLife jackets are available at no additional charge.\n\nResident and Non-Resident admission fees apply\, call Waterloo Pool for more information! \nSee less
URL:https://texomaconnect.com/event/homeschool-swim-date-at-waterloo-pool/2026-07-03/
LOCATION:Waterloo Pool\, 1501 W Brock St\,\, Denison\, TX\, 75020\, United States
CATEGORIES:Sports and Recreation,Youth Activities
ATTACH;FMTTYPE=image/png:https://texomaconnect.com/wp-content/uploads/2026/02/Homeschool-Swim-Days.png
GEO:33.7388906;-96.5588802
X-APPLE-STRUCTURED-LOCATION;VALUE=URI;X-ADDRESS=Waterloo Pool 1501 W Brock St Denison TX 75020 United States;X-APPLE-RADIUS=500;X-TITLE=1501 W Brock St\,:geo:-96.5588802,33.7388906
END:VEVENT
END:VCALENDAR