BEGIN:VCALENDAR
VERSION:2.0
PRODID:-//Texoma Connect - ECPv6.15.20//NONSGML v1.0//EN
CALSCALE:GREGORIAN
METHOD:PUBLISH
X-ORIGINAL-URL:https://texomaconnect.com
X-WR-CALDESC:Events for Texoma Connect
REFRESH-INTERVAL;VALUE=DURATION:PT1H
X-Robots-Tag:noindex
X-PUBLISHED-TTL:PT1H
BEGIN:VTIMEZONE
TZID:America/Chicago
BEGIN:DAYLIGHT
TZOFFSETFROM:-0600
TZOFFSETTO:-0500
TZNAME:CDT
DTSTART:20250309T080000
END:DAYLIGHT
BEGIN:STANDARD
TZOFFSETFROM:-0500
TZOFFSETTO:-0600
TZNAME:CST
DTSTART:20251102T070000
END:STANDARD
BEGIN:DAYLIGHT
TZOFFSETFROM:-0600
TZOFFSETTO:-0500
TZNAME:CDT
DTSTART:20260308T080000
END:DAYLIGHT
BEGIN:STANDARD
TZOFFSETFROM:-0500
TZOFFSETTO:-0600
TZNAME:CST
DTSTART:20261101T070000
END:STANDARD
BEGIN:DAYLIGHT
TZOFFSETFROM:-0600
TZOFFSETTO:-0500
TZNAME:CDT
DTSTART:20270314T080000
END:DAYLIGHT
BEGIN:STANDARD
TZOFFSETFROM:-0500
TZOFFSETTO:-0600
TZNAME:CST
DTSTART:20271107T070000
END:STANDARD
END:VTIMEZONE
BEGIN:VEVENT
DTSTART;TZID=America/Chicago:20260326T140000
DTEND;TZID=America/Chicago:20260326T140000
DTSTAMP:20260421T144936
CREATED:20260312T200352Z
LAST-MODIFIED:20260312T200352Z
UID:10010265-1774533600-1774533600@texomaconnect.com
SUMMARY:Tech Talk Intro to YouTube
DESCRIPTION:Tech Talk Intro to YouTube at the Pottsboro Library\nThursday Tech Talk all about YouTube. We’ll walk through how to create an account\, search for videos\, subscribe to channels\, adjust settings\, and stay safe online. Sign up on line or call the library so we know you are coming. \nhttps://pottsboro.biblionix.com/events/login/   or call (903) 786-8274 \n 
URL:https://texomaconnect.com/event/tech-talk-intro-to-youtube/
LOCATION:Pottsboro Library\, 104 N Main St\, Pottsboro\, 75076\, United States
CATEGORIES:Self Enrichment
ATTACH;FMTTYPE=image/png:https://texomaconnect.com/wp-content/uploads/2026/03/Tech-Talk-YouTube.png
GEO:33.76017;-96.667759
X-APPLE-STRUCTURED-LOCATION;VALUE=URI;X-ADDRESS=Pottsboro Library 104 N Main St Pottsboro 75076 United States;X-APPLE-RADIUS=500;X-TITLE=104 N Main St:geo:-96.667759,33.76017
END:VEVENT
END:VCALENDAR