BEGIN:VCALENDAR
VERSION:2.0
PRODID:-//Texoma Connect - ECPv6.15.20//NONSGML v1.0//EN
CALSCALE:GREGORIAN
METHOD:PUBLISH
X-ORIGINAL-URL:https://texomaconnect.com
X-WR-CALDESC:Events for Texoma Connect
REFRESH-INTERVAL;VALUE=DURATION:PT1H
X-Robots-Tag:noindex
X-PUBLISHED-TTL:PT1H
BEGIN:VTIMEZONE
TZID:America/Chicago
BEGIN:DAYLIGHT
TZOFFSETFROM:-0600
TZOFFSETTO:-0500
TZNAME:CDT
DTSTART:20250309T080000
END:DAYLIGHT
BEGIN:STANDARD
TZOFFSETFROM:-0500
TZOFFSETTO:-0600
TZNAME:CST
DTSTART:20251102T070000
END:STANDARD
BEGIN:DAYLIGHT
TZOFFSETFROM:-0600
TZOFFSETTO:-0500
TZNAME:CDT
DTSTART:20260308T080000
END:DAYLIGHT
BEGIN:STANDARD
TZOFFSETFROM:-0500
TZOFFSETTO:-0600
TZNAME:CST
DTSTART:20261101T070000
END:STANDARD
BEGIN:DAYLIGHT
TZOFFSETFROM:-0600
TZOFFSETTO:-0500
TZNAME:CDT
DTSTART:20270314T080000
END:DAYLIGHT
BEGIN:STANDARD
TZOFFSETFROM:-0500
TZOFFSETTO:-0600
TZNAME:CST
DTSTART:20271107T070000
END:STANDARD
END:VTIMEZONE
BEGIN:VEVENT
DTSTART;TZID=America/Chicago:20260515T140000
DTEND;TZID=America/Chicago:20260515T140000
DTSTAMP:20260421T144843
CREATED:20260218T180748Z
LAST-MODIFIED:20260218T180748Z
UID:10010801-1778853600-1778853600@texomaconnect.com
SUMMARY:Once Upon a Pandora's Box
DESCRIPTION:Sherman Community Players presents Once Upon Pandora’s Box\nOnce upon a time in New York City\, Tabitha and her brother Louis discover a box sitting in the hall of their apartment. Curious\, Tabitha opens the box\, allowing five imprisoned fairy tale villains to escape. Free at last\, the dastardly villains begin to wreck the apartment\, but when they discover that writing in Tabitha’s notebook will give them control of other fictional characters\, things really get dicey. Will Tabitha harness the power of her storytelling? Or will the fairy tale villains run wild in New York? A clever comedy that demonstrates the importance of villains in every story. \nTickets\n 
URL:https://texomaconnect.com/event/once-upon-a-pandoras-box/2026-05-15/
LOCATION:Finley Theatre\, 500 N Elm Street\, Sherman\, TX\, 75090\, United States
CATEGORIES:Entertainment,Theatre
ATTACH;FMTTYPE=image/png:https://texomaconnect.com/wp-content/uploads/2026/02/Once-Upon-A-Pandoras-Box.png
GEO:33.6396661;-96.6133405
X-APPLE-STRUCTURED-LOCATION;VALUE=URI;X-ADDRESS=Finley Theatre 500 N Elm Street Sherman TX 75090 United States;X-APPLE-RADIUS=500;X-TITLE=500 N Elm Street:geo:-96.6133405,33.6396661
END:VEVENT
BEGIN:VEVENT
DTSTART;TZID=America/Chicago:20260515T200000
DTEND;TZID=America/Chicago:20260515T200000
DTSTAMP:20260421T144843
CREATED:20260106T213810Z
LAST-MODIFIED:20260106T213810Z
UID:10009577-1778875200-1778875200@texomaconnect.com
SUMMARY:Bert Kreischer: Permission to Party Tour
DESCRIPTION:Bert Kreischer at Choctaw Durant\nCHOCTAW GRAND THEATER\nDoors open at 6:30 | Showtime at 8pm \nGET TICKETS\nTicketmaster is the official ticketing agent of Choctaw Casinos & Resorts.   Some links on this page are affiliate links. If you buy tickets through Ticketmaster using our link\, Texoma Connect may earn a small commission at no extra cost to you. \n \nBert Kreischer’s career has evolved from Rolling Stone Magazine’s “Number One Partier in the Nation” to one of the top grossing stand-up comics in the business\, movie star\, leading podcaster and entrepreneur. According to Forbes\, Kreischer has been hailed as\, “one of the best storytellers of his generation\, seamlessly and sincerely sharing anecdotes about his family and fatherhood while proving that there’s a way to take his [party-boy] antics into middle-age.” In 2024\, Kreischer had the #6 highest grossing comedy tour worldwide\, a huge accomplishment as he only toured 6 months\, from January to June. \nFollowing a 140-city international arena tour\, Kreischer shot his 6th stand-up special in his hometown of Tampa\, FL and all six shows sold out within a day. Kreischer will release his newly awaited special\, Lucky\, on Netflix on March 18th\, 2025. \nIn March of 2023\, Kreischer premiered his highly anticipated Netflix stand-up special\, Razzle Dazzle\, the follow up to his previous stand-up specials; Hey Big Boy (Netflix)\, Secret Time (Netflix)\, The Machine (Showtime/Netflix) and Comfortably Dumb (Showtime). \nRazzle Dazzle was a hit for the streamer\, garnering critical praise and reaching their top 10 most watched list with over 8.3 million global views in its debut. \nAlso in 2023\, Kreischer starred in and produced the Sony Pictures film\, The Machine\, based on his signature stand-up set recounting his true experience with Russian mobsters while on a booze-soaked college trip. After a theatrical release\, The Machine immediately launched into Netflix’s Global Top 10 Films list upon its premiere on-platform later that year. \nDuring the summer of 2024\, Kreischer wrapped his third annual iteration of the Fully Loaded Comedy Festival\, which hit twelve of the most iconic ballparks\, arenas\, and amphitheaters across the country to sold out crowds. Fully Loaded featured Bert\, Dave Attell\, Lewis Black\, Tiffany Haddish\, Shane Gillis\, Nikki Glaser\, Whitney Cummings and many more – including special drop-in guests like Jelly Roll and Marcus King. In October of 2023\, Kreischer took his festival to sea with the Fully Loaded at Sea Cruise. The event sold out in just a few days and broke the long-standing record for alcohol sales previously held by Kid Rock.
URL:https://texomaconnect.com/event/bert-kreischer-permission-to-party-tour/
LOCATION:Choctaw Casino Resort – Durant\, 4216 Hwy 69\, DURANT\, OK\, 74702\, United States
CATEGORIES:Entertainment
ATTACH;FMTTYPE=image/png:https://texomaconnect.com/wp-content/uploads/2026/01/Bert-Kreischer.png
GEO:33.952011;-96.412608
X-APPLE-STRUCTURED-LOCATION;VALUE=URI;X-ADDRESS=Choctaw Casino Resort – Durant 4216 Hwy 69 DURANT OK 74702 United States;X-APPLE-RADIUS=500;X-TITLE=4216 Hwy 69:geo:-96.412608,33.952011
END:VEVENT
BEGIN:VEVENT
DTSTART;TZID=America/Chicago:20260516T070000
DTEND;TZID=America/Chicago:20260516T220000
DTSTAMP:20260421T144843
CREATED:20260218T183033Z
LAST-MODIFIED:20260218T183033Z
UID:10009779-1778914800-1778968800@texomaconnect.com
SUMMARY:Sherman Bird Festival
DESCRIPTION:Sherman Bird Festival Sherman & Hagerman NWR\nOn May 16\, the Sherman Cultural District joins with Friends of Hagerman National Wildlife Refuge for a spectacular day of bird-themed events\, avian art\, and activities in tribute to Sherman’s unique bird connections.\nThe inaugural Sherman Bird Festival features:• unveiling of five new public art sculptures• juried art show• Sherman Art Dash• children’s activities• nature talks and birding activities• restaurant and shop specials all day\, breakfast to late night\nPlus\, the Hagerman Bird Festival at the Refuge includes bird walks\, art activities\, and much more! This unique multi-site festival day is spread throughout the Downtown Sherman Cultural District and at Hagerman – combining art and nature for a grand celebration of the beauty and ecological significance of birds of North Texas.Activities are free and open to the public\, except the ticketed Art Dash event with tickets on sale starting April 1.\nJoin the flock and see what’s hatching in the Cultural District!
URL:https://texomaconnect.com/event/sherman-bird-festival/
LOCATION:Downtown Denison\, Main Street\, Denison\, TX\, 75020\, United States
CATEGORIES:Festival
ATTACH;FMTTYPE=image/png:https://texomaconnect.com/wp-content/uploads/2026/02/Sherman-Bird-Festival.png
ORGANIZER;CN="Sherman Cultural District":MAILTO:shermanarts@austincollege.edu
GEO:33.755586;-96.537255
X-APPLE-STRUCTURED-LOCATION;VALUE=URI;X-ADDRESS=Downtown Denison Main Street Denison TX 75020 United States;X-APPLE-RADIUS=500;X-TITLE=Main Street:geo:-96.537255,33.755586
END:VEVENT
BEGIN:VEVENT
DTSTART;TZID=America/Chicago:20260516T090000
DTEND;TZID=America/Chicago:20260516T170000
DTSTAMP:20260421T144843
CREATED:20260103T180828Z
LAST-MODIFIED:20260103T180828Z
UID:10009497-1778922000-1778950800@texomaconnect.com
SUMMARY:Texoma Trade Days 2026
DESCRIPTION:Texoma Trade Days 2026 Schedule\nMonthly indoor flea market in Sherman Texas conveniently located off Hwy 75 between Hwy 82 and TMC at the EXPO Hall in the Sherman Midway Mall. \nSaturdays 9 am – 5pm; Sunday 10 am – 4pm \nJan 17 – 18 \nFeb 14-15 \nMar 14-15 \nApril 18-19 \nMay 16-17 \nJune 13-14 \nJuly 18-19 \nAug 15-16 \nSept 19-20 \nOct 17-18 \nNov 14-15 \nDec 19-20
URL:https://texomaconnect.com/event/texoma-trade-days-2026/2026-05-16/
LOCATION:Midway Mall Expo Hall
CATEGORIES:Community Events
ATTACH;FMTTYPE=image/png:https://texomaconnect.com/wp-content/uploads/2026/01/Texoma-Trade-Days.png
END:VEVENT
BEGIN:VEVENT
DTSTART;TZID=America/Chicago:20260516T100000
DTEND;TZID=America/Chicago:20260517T150000
DTSTAMP:20260421T144843
CREATED:20260103T165650Z
LAST-MODIFIED:20260103T165650Z
UID:10009488-1778925600-1779030000@texomaconnect.com
SUMMARY:North Texas Arts Festival 2026
DESCRIPTION:Denison Arts Council host the North Texas Arts Festival May 16 – 17\, 2026\nThe Denison Arts Council hosts the North Texas Arts Festival in historic Downtown Denison each year. Juried local\, regional\, and national artists display and sell their work while  local musicians perform a variety of music throughout the day. This is a family friendly event\, open to the public. \n2026 NTAF features unique artists over the course of 2 days inside the beautiful Katy Depot and at the plaza outside. \nLocals\, art collectors\, and tourists are invited to visit a variety of unique booths featuring original art on May 17 & 18. Festival hours are Saturday 10 a.m.-5p.m. and Sunday 10 a.m.-3 p.m. respectively.\nSaturday May 16th10:00-5:00 North Texas Art Festival at Katy Depot -Fine Art Vendors at Katy DepotAt Katy PlazaDumpster PaintingDowntown – Bench Beasts Scavenger HuntBusking Music at Katy Plaza- Jon the RevelatorLive Painting at Katy Plaza Matt Bardwell\, Liz VanHuss\,Face Painting\,Balloon ArtLittle Goddess Trybe 11:30\nWinners of the Denison Performing Art DISD Art Contest and Recycled Art Contest are on Display\n\nSunday May 17th10:00 – 3:00 North Texas Art Festival – Fine Art Vendors at Katy Depot
URL:https://texomaconnect.com/event/north-texas-arts-festival-2026/
LOCATION:Katy Depot\, 101 E Main St\, DENISON\, TX\, 75020\, United States
CATEGORIES:Art Exhibit,Festival
ATTACH;FMTTYPE=image/png:https://texomaconnect.com/wp-content/uploads/2026/01/NTAF-2026.png
GEO:33.7558413;-96.5343945
X-APPLE-STRUCTURED-LOCATION;VALUE=URI;X-ADDRESS=Katy Depot 101 E Main St DENISON TX 75020 United States;X-APPLE-RADIUS=500;X-TITLE=101 E Main St:geo:-96.5343945,33.7558413
END:VEVENT
BEGIN:VEVENT
DTSTART;TZID=America/Chicago:20260516T140000
DTEND;TZID=America/Chicago:20260516T140000
DTSTAMP:20260421T144843
CREATED:20260218T180748Z
LAST-MODIFIED:20260218T180748Z
UID:10010802-1778940000-1778940000@texomaconnect.com
SUMMARY:Once Upon a Pandora's Box
DESCRIPTION:Sherman Community Players presents Once Upon Pandora’s Box\nOnce upon a time in New York City\, Tabitha and her brother Louis discover a box sitting in the hall of their apartment. Curious\, Tabitha opens the box\, allowing five imprisoned fairy tale villains to escape. Free at last\, the dastardly villains begin to wreck the apartment\, but when they discover that writing in Tabitha’s notebook will give them control of other fictional characters\, things really get dicey. Will Tabitha harness the power of her storytelling? Or will the fairy tale villains run wild in New York? A clever comedy that demonstrates the importance of villains in every story. \nTickets\n 
URL:https://texomaconnect.com/event/once-upon-a-pandoras-box/2026-05-16/
LOCATION:Finley Theatre\, 500 N Elm Street\, Sherman\, TX\, 75090\, United States
CATEGORIES:Entertainment,Theatre
ATTACH;FMTTYPE=image/png:https://texomaconnect.com/wp-content/uploads/2026/02/Once-Upon-A-Pandoras-Box.png
GEO:33.6396661;-96.6133405
X-APPLE-STRUCTURED-LOCATION;VALUE=URI;X-ADDRESS=Finley Theatre 500 N Elm Street Sherman TX 75090 United States;X-APPLE-RADIUS=500;X-TITLE=500 N Elm Street:geo:-96.6133405,33.6396661
END:VEVENT
BEGIN:VEVENT
DTSTART;TZID=America/Chicago:20260516T200000
DTEND;TZID=America/Chicago:20260516T200000
DTSTAMP:20260421T144843
CREATED:20260106T220327Z
LAST-MODIFIED:20260106T220327Z
UID:10009578-1778961600-1778961600@texomaconnect.com
SUMMARY:Lanie Gardner
DESCRIPTION:Lanie Gardner at Choctaw Grand Theater Durant\nCHOCTAW GRAND THEATER\nDoors open at 6:30pm | Showtime 8pm \nGET TICKETS\nTicketmaster is the official ticketing agent of Choctaw Casinos & Resorts. \nLanie Gardner who has toured with the Jonas Brothers & Jelly Roll is turning up the volume for her forthcoming 18-track album\, Faded Polaroids—a genre-blending masterpiece that will define her artistic voice. Flowing with dynamic energy & emotional depth\, the record expands upon her summer EP\, Polaroids\, & promises a kaleidoscopic journey through sound. Fusing the raw soul of blues\, the storytelling heart of country\, the grit of rock & the dreamy pulse of pop\, each track has its own identity.
URL:https://texomaconnect.com/event/lanie-gardner/
LOCATION:Choctaw Casino Resort – Durant\, 4216 Hwy 69\, DURANT\, OK\, 74702\, United States
CATEGORIES:Entertainment,Live Music
ATTACH;FMTTYPE=image/png:https://texomaconnect.com/wp-content/uploads/2026/01/Lanie-Gardner.png
GEO:33.952011;-96.412608
X-APPLE-STRUCTURED-LOCATION;VALUE=URI;X-ADDRESS=Choctaw Casino Resort – Durant 4216 Hwy 69 DURANT OK 74702 United States;X-APPLE-RADIUS=500;X-TITLE=4216 Hwy 69:geo:-96.412608,33.952011
END:VEVENT
END:VCALENDAR