BEGIN:VCALENDAR
VERSION:2.0
PRODID:-//Texoma Connect - ECPv6.15.20//NONSGML v1.0//EN
CALSCALE:GREGORIAN
METHOD:PUBLISH
X-ORIGINAL-URL:https://texomaconnect.com
X-WR-CALDESC:Events for Texoma Connect
REFRESH-INTERVAL;VALUE=DURATION:PT1H
X-Robots-Tag:noindex
X-PUBLISHED-TTL:PT1H
BEGIN:VTIMEZONE
TZID:America/Chicago
BEGIN:DAYLIGHT
TZOFFSETFROM:-0600
TZOFFSETTO:-0500
TZNAME:CDT
DTSTART:20250309T080000
END:DAYLIGHT
BEGIN:STANDARD
TZOFFSETFROM:-0500
TZOFFSETTO:-0600
TZNAME:CST
DTSTART:20251102T070000
END:STANDARD
BEGIN:DAYLIGHT
TZOFFSETFROM:-0600
TZOFFSETTO:-0500
TZNAME:CDT
DTSTART:20260308T080000
END:DAYLIGHT
BEGIN:STANDARD
TZOFFSETFROM:-0500
TZOFFSETTO:-0600
TZNAME:CST
DTSTART:20261101T070000
END:STANDARD
BEGIN:DAYLIGHT
TZOFFSETFROM:-0600
TZOFFSETTO:-0500
TZNAME:CDT
DTSTART:20270314T080000
END:DAYLIGHT
BEGIN:STANDARD
TZOFFSETFROM:-0500
TZOFFSETTO:-0600
TZNAME:CST
DTSTART:20271107T070000
END:STANDARD
END:VTIMEZONE
BEGIN:VEVENT
DTSTART;TZID=America/Chicago:20260405T070000
DTEND;TZID=America/Chicago:20260405T070000
DTSTAMP:20260421T190309
CREATED:20260331T180049Z
LAST-MODIFIED:20260331T181450Z
UID:10010773-1775372400-1775372400@texomaconnect.com
SUMMARY:Easter Sunrise Service
DESCRIPTION:Easter Sunrise Service at Enos Baptist Church\nHe is Risen! Join us at Enos Baptist Church as we celebrate the hope and joy of Easter. Sunrise service at 7:00 AM and traditional service at 11:00 AM—bring your family and stay for the egg hunt!
URL:https://texomaconnect.com/event/easter-sunrise-service/
LOCATION:Enos Baptist Church\, 12223 Snell Road\, Kingston\, OK\, 73439\, United States
CATEGORIES:Easter Events,Lake Texoma event
ATTACH;FMTTYPE=image/png:https://texomaconnect.com/wp-content/uploads/2026/03/Sunrise-Service-Enos-Baptist-Church.png
GEO:33.8927498;-96.7479244
X-APPLE-STRUCTURED-LOCATION;VALUE=URI;X-ADDRESS=Enos Baptist Church 12223 Snell Road Kingston OK 73439 United States;X-APPLE-RADIUS=500;X-TITLE=12223 Snell Road:geo:-96.7479244,33.8927498
END:VEVENT
END:VCALENDAR